Workbook
Name _ftn1: 'Отчет Август К'!#REF!
Name _ftn1: 'Отчет ИюльК'!$A$42
Name _ftn1: 'Отчет Ноя К'!#REF!
Name _ftn1: 'Отчет Окт К'!#REF!
Name _ftn1: 'Отчет октябрь'!#REF!
Name _ftn1: 'Отчет Сент К'!#REF!
Name _ftn1: 'Отчет сентябрь'!#REF!
Name _ftn1: Отчет_апрель!$A$12
Name _ftn1: 'Отчет_апрель_(2)'!$A$12
Name _ftn1: Отчет_март!$A$12
Name _ftn1: Отчет_февраль!$A$12
Name _ftn1: Отчет_январь!$A$14
Name _ftnref1: 'Отчет Август К'!$A$2
Name _ftnref1: 'Отчет ИюльК'!$A$2
Name _ftnref1: 'Отчет Ноя К'!$A$2
Name _ftnref1: 'Отчет Окт К'!$A$2
Name _ftnref1: 'Отчет октябрь'!$A$2
Name _ftnref1: 'Отчет Сент К'!$A$2
Name _ftnref1: 'Отчет сентябрь'!$A$2
Name _ftnref1: Отчет_апрель!$A$2
Name _ftnref1: 'Отчет_апрель_(2)'!$A$2
Name _ftnref1: Отчет_март!$A$2
Name _ftnref1: Отчет_февраль!$A$2
Name _ftnref1: Отчет_январь!$A$2
Name _Toc472327096: 'Отчет Август К'!$A$2
Name _Toc472327096: 'Отчет ИюльК'!$A$2
Name _Toc472327096: 'Отчет Ноя К'!$A$2
Name _Toc472327096: 'Отчет Окт К'!$A$2
Name _Toc472327096: 'Отчет октябрь'!$A$2
Name _Toc472327096: 'Отчет Сент К'!$A$2
Name _Toc472327096: 'Отчет сентябрь'!$A$2
Name _Toc472327096: Отчет_апрель!$A$2
Name _Toc472327096: 'Отчет_апрель_(2)'!$A$2
Name _Toc472327096: Отчет_март!$A$2
Name _Toc472327096: Отчет_февраль!$A$2
Name _Toc472327096: Отчет_январь!$A$2
Name M: год!$B$2:$B$13
Name sub_11000_1: #N/A
Name sub_11011_1: #N/A
Name sub_12000_2: !#REF!
Name sub_12000_2: !#REF!
Name sub_12000_2: !#REF!
Name sub_12000_2: !#REF!
Name sub_12000_2: !#REF!
Name sub_12000_2: !#REF!
Name sub_22301: орг_прич!$B$4
Name sub_22302: орг_прич!$B$5
Name sub_22303: орг_прич!$B$6
Name sub_22304: орг_прич!$B$7
Name sub_22305: орг_прич!$B$8
Name sub_22306: орг_прич!$B$9
Name sub_22307: орг_прич!$B$10
Name sub_22308: орг_прич!$B$15
Name sub_22309: орг_прич!$B$21
Name sub_22310: орг_прич!$B$25
Name sub_22311: орг_прич!$B$26
Name sub_22312: орг_прич!$B$27
Name sub_223122: орг_прич!$B$29
Name sub_223123: орг_прич!$B$30
Name sub_223124: орг_прич!$B$31

Sheet год
A2: Форма 8.1 - Журнал учёта данных первичной информации по всем прекращениям передачи электрической энергии, произошедших на объектах электросетевых организаций за | Q2: январь | R2: месяц | S2: 2019 | T2: года
A3: Муниципальное унитарное многоотраслевое предприятие жилищно-коммунального хозяйства Гусь-Железхный
A4: наименование электросетевой организации
A6: Данные о факте прекращения передачи электрической энергии | J6: Данные о масштабе прекращения передачи электрической энергии в сетевой организации | W6: Перечень смежных сетевых организаций, затронутых прекращением передачи электрической энергии | X6: Данные о причинах прекращения передачи электрической энергии и их расследовании | AA6: Учет в показателях надежности, в т.ч. индикативных показателях надежности (0 - нет, 1 - да)
A7: Номер прекращения передачи электрической энергии / Номер итоговой строки | B7: Наименование структурной единицы сетевой организации | C7: Вид объекта: КЛ, ВЛ, КВЛ, ПС, ТП, РП | D7: Диспетчерское наименование объекта электросетевого хозяйства сетевой организации, в результате отключения которой произошло прекращение передачи электроэнергии потребителям услуг | E7: Высший класс напряжения отключенного оборудования сетевой организации, кВ | F7: Время и дата начала прекращения передачи электрической энергии по местному времени (часы, минуты, ГГГГ.ММ.ДД) | G7: Время и дата восстановления режима потребления электрической энергии потребителей услуг (часы, минуты, ГГГГ.ММ.ДД) | H7: Вид прекращения передачи электроэнергии (П, А, В) | I7: Продолжительность прекращения передачи электрической энергии, час | J7: Перечень объектов электросетевого хозяйства, отключение которых привело к прекращению передачи электрической энергии потребителям услуг (ПС, ТП, РП, ВЛ, КЛ) | K7: Перечень потребителей 1-й и 2-й категорий надежности, в отношении которых произошло полное ограничение режима потребления электрической энергии | L7: Перечень потребителей 1-й и 2-й категорий надежности, в отношении которых произошло частичное ограничение режима потребления электрической энергии | M7: Количество точек поставки потребителей услуг сетевой организации, в отношении которых произошел перерыв электроснабжения, шт., в том числе: | V7: Суммарный объем фактической нагрузки (мощности) на присоединениях потребителей услуг, по которым произошло прекращение передачи электрической энергии на момент возникновения такого события, кВт
M8: ВСЕГО | N8: в разделении категорий надежности потребителей электрической энергии | Q8: в разделении уровней напряжения ЭПУ потребителя электрической энергии | U8: Смежные сетевые организации и производители электрической энергии | X8: Номер и дата акта расследования технологического нарушения, записи в оперативном журнале | Y8: Код организационной причины аварии | Z8: Код технической причины повреждения оборудования
N9: 1-я категория надежности | O9: 2-я категория надежности | P9: 3-я категория надежности | Q9: ВН (110 кВ и выше) | R9: СН1 (35 кВ) | S9: СН2 (6-20 кВ) | T9: НН (0,22-1 кВ) | AB9: 0.041666667
A10: =Отчет_январь!A11 -> 1 | B10: 2 | C10: 3 | D10: 4 | E10: 5 | F10: 6 | G10: 7 | H10: 8 | I10: 9 | J10: 12 | K10: 13 | L10: 14 | M10: 15 | N10: 16 | O10: 17 | P10: 18 | Q10: 19 | R10: 20 | S10: 21 | T10: 22 | U10: 23 | V10: 24 | W10: 25 | X10: 26 | Y10: 27 | Z10: 28 | AA10: 29
A11: =Отчет_январь!A11 -> 1 | B11: =Отчет_январь!B11 -> Участок №3 | C11: =Отчет_январь!C11 -> ВЛ | D11: =Отчет_январь!D11 -> ПС 35/10кВ Сынтул ВЛ 10кВ, ф4, тп6 | E11: =Отчет_январь!E11 -> 10 (10.5) | F11: =Отчет_январь!F11 -> 43464.084 | G11: =Отчет_январь!G11 -> 43464.281 | H11: =Отчет_январь!H11 -> В | I11: =Отчет_январь!I11 -> 4.7333333 | J11: =Отчет_январь!L11 -> ВЛ 10кВ, Ф4 | K11: =Отчет_январь!M11 -> 0 | L11: =Отчет_январь!N11 -> 0 | M11: =Отчет_январь!O11 -> 623 | N11: =Отчет_январь!P11 -> 0 | O11: =Отчет_январь!Q11 -> 0 | P11: =Отчет_январь!R11 -> 623 | Q11: =Отчет_январь!S11 -> 0 | ... AA11: =Отчет_январь!AC11 -> 1
A12: =Отчет_январь!A12 -> 2 | B12: =Отчет_январь!B12 -> Участок №3 | C12: =Отчет_январь!C12 -> ВЛ | D12: =Отчет_январь!D12 -> ПС 35/10кВ Сынтул ВЛ 10кВ, ф4, тп1 | E12: =Отчет_январь!E12 -> 0.38 | F12: =Отчет_январь!F12 -> 43484.01 | G12: =Отчет_январь!G12 -> 43484.106 | H12: =Отчет_январь!H12 -> В | I12: =Отчет_январь!I12 -> 2.3 | J12: =Отчет_январь!L12 -> ВЛ 0,4кВ, Ф2 | K12: =Отчет_январь!M12 -> 0 | L12: =Отчет_январь!N12 -> 0 | M12: =Отчет_январь!O12 -> 112 | N12: =Отчет_январь!P12 -> 0 | O12: =Отчет_январь!Q12 -> 0 | P12: =Отчет_январь!R12 -> 112 | Q12: =Отчет_январь!S12 -> 0 | ... AA12: =Отчет_январь!AC12 -> 1
A13: =Отчет_февраль!A11 -> 3 | B13: =Отчет_февраль!B11 -> Участок №1 | C13: =Отчет_февраль!C11 -> ТП | D13: =Отчет_февраль!D11 -> ПС 110/35/10кВ Шостье ВЛ 10кВ, ф2, ЗТП2576, ф1 | E13: =Отчет_февраль!E11 -> 0.38 | F13: =Отчет_февраль!F11 -> 43512.334 | G13: =Отчет_февраль!G11 -> 43512.531 | H13: =Отчет_февраль!H11 -> В | I13: =Отчет_февраль!I11 -> 4.7333333 | J13: =Отчет_февраль!L11 -> ЗТП2576 ф.1 | K13: =Отчет_февраль!M11 -> 0 | L13: =Отчет_февраль!N11 -> 0 | M13: =Отчет_февраль!O11 -> 42 | N13: =Отчет_февраль!P11 -> 0 | O13: =Отчет_февраль!Q11 -> 0 | P13: =Отчет_февраль!R11 -> 42 | Q13: =Отчет_февраль!S11 -> 0 | ... AA13: =Отчет_февраль!AC11 -> 1
A14: =Отчет_февраль!A12 -> 4 | B14: =Отчет_февраль!B12 -> Участок №1 | C14: =Отчет_февраль!C12 -> ТП | D14: =Отчет_февраль!D12 -> ПС 35/10кВ Зеленино ВЛ 10кВ, ф3, ЗТП5, ф4. | E14: =Отчет_февраль!E12 -> 0.38 | F14: =Отчет_февраль!F12 -> 43513.635 | G14: =Отчет_февраль!G12 -> 43513.765 | H14: =Отчет_февраль!H12 -> В | I14: =Отчет_февраль!I12 -> 3.1333333 | J14: =Отчет_февраль!L12 -> ЗТП5 ф.4 | K14: =Отчет_февраль!M12 -> 0 | L14: =Отчет_февраль!N12 -> 0 | M14: =Отчет_февраль!O12 -> 162 | N14: =Отчет_февраль!P12 -> 0 | O14: =Отчет_февраль!Q12 -> 0 | P14: =Отчет_февраль!R12 -> 162 | Q14: =Отчет_февраль!S12 -> 0 | ... AA14: =Отчет_февраль!AC12 -> 1
A15: =Отчет_февраль!A13 -> 5 | B15: =Отчет_февраль!B13 -> Участок №1 | C15: =Отчет_февраль!C13 -> ТП | D15: =Отчет_февраль!D13 -> ПС 110/35/10кВ Касимов ВЛ 10кВ, ф12, МТП2591, ф.1 | E15: =Отчет_февраль!E13 -> 0.38 | F15: =Отчет_февраль!F13 -> 43513.814 | G15: =Отчет_февраль!G13 -> 43513.85 | H15: =Отчет_февраль!H13 -> В | I15: =Отчет_февраль!I13 -> 0.86666667 | J15: =Отчет_февраль!L13 -> МТП2591, ф.1 | K15: =Отчет_февраль!M13 -> 0 | L15: =Отчет_февраль!N13 -> 0 | M15: =Отчет_февраль!O13 -> 58 | N15: =Отчет_февраль!P13 -> 0 | O15: =Отчет_февраль!Q13 -> 0 | P15: =Отчет_февраль!R13 -> 58 | Q15: =Отчет_февраль!S13 -> 0 | ... AA15: =Отчет_февраль!AC13 -> 1
A16: =Отчет_февраль!A14 -> 6 | B16: =Отчет_февраль!B14 -> Участок №1 | C16: =Отчет_февраль!C14 -> ТП | D16: =Отчет_февраль!D14 -> ПС 35/10кВ Лашма ВЛ 10кВ, ф3, ЗТП8, ф2 | E16: =Отчет_февраль!E14 -> 0.38 | F16: =Отчет_февраль!F14 -> 43514.419 | G16: =Отчет_февраль!G14 -> 43514.5 | H16: =Отчет_февраль!H14 -> В | I16: =Отчет_февраль!I14 -> 1.95 | J16: =Отчет_февраль!L14 -> ЗТП8, ф2. | K16: =Отчет_февраль!M14 -> 0 | L16: =Отчет_февраль!N14 -> 0 | M16: =Отчет_февраль!O14 -> 49 | N16: =Отчет_февраль!P14 -> 0 | O16: =Отчет_февраль!Q14 -> 0 | P16: =Отчет_февраль!R14 -> 49 | Q16: =Отчет_февраль!S14 -> 0 | ... AA16: =Отчет_февраль!AC14 -> 1
A17: =Отчет_февраль!A15 -> 7 | B17: =Отчет_февраль!B15 -> Участок №1 | C17: =Отчет_февраль!C15 -> ВЛ | D17: =Отчет_февраль!D15 -> ПС 35/10кВ Телебукино ВЛ 10кВ, ф14 | E17: =Отчет_февраль!E15 -> 10 (10.5) | F17: =Отчет_февраль!F15 -> 43517.293 | G17: =Отчет_февраль!G15 -> 43517.564 | H17: =Отчет_февраль!H15 -> В | I17: =Отчет_февраль!I15 -> 6.5 | J17: =Отчет_февраль!L15 -> ВЛ 10кВ, ф14 | K17: =Отчет_февраль!M15 -> 0 | L17: =Отчет_февраль!N15 -> 0 | M17: =Отчет_февраль!O15 -> 77 | N17: =Отчет_февраль!P15 -> 0 | O17: =Отчет_февраль!Q15 -> 0 | P17: =Отчет_февраль!R15 -> 77 | Q17: =Отчет_февраль!S15 -> 0 | ... AA17: =Отчет_февраль!AC15 -> 0
A18: =Отчет_март!A11 -> 3 | B18: =Отчет_март!B11 -> Участок №1 | C18: =Отчет_март!C11 -> ТП | D18: =Отчет_март!D11 -> ПС 110/35/10кВ Шостье ВЛ 10кВ, ф2, ЗТП2576, ф1 | E18: =Отчет_март!E11 -> 0.38 | F18: =Отчет_март!F11 -> 43512.334 | G18: =Отчет_март!G11 -> 43512.531 | H18: =Отчет_март!H11 -> В | I18: =Отчет_март!I11 -> 4.7333333 | J18: =Отчет_март!L11 -> ЗТП2576 ф.1 | K18: =Отчет_март!M11 -> 0 | L18: =Отчет_март!N11 -> 0 | M18: =Отчет_март!O11 -> 42 | N18: =Отчет_март!P11 -> 0 | O18: =Отчет_март!Q11 -> 0 | P18: =Отчет_март!R11 -> 42 | Q18: =Отчет_март!S11 -> 0 | ... AA18: =Отчет_март!AC11 -> 1
A19: =Отчет_март!A12 -> 4 | B19: =Отчет_март!B12 -> Участок №1 | C19: =Отчет_март!C12 -> ТП | D19: =Отчет_март!D12 -> ПС 35/10кВ Зеленино ВЛ 10кВ, ф3, ЗТП5, ф4. | E19: =Отчет_март!E12 -> 0.38 | F19: =Отчет_март!F12 -> 43513.635 | G19: =Отчет_март!G12 -> 43513.765 | H19: =Отчет_март!H12 -> В | I19: =Отчет_март!I12 -> 3.1333333 | J19: =Отчет_март!L12 -> ЗТП5 ф.4 | K19: =Отчет_март!M12 -> 0 | L19: =Отчет_март!N12 -> 0 | M19: =Отчет_март!O12 -> 162 | N19: =Отчет_март!P12 -> 0 | O19: =Отчет_март!Q12 -> 0 | P19: =Отчет_март!R12 -> 162 | Q19: =Отчет_март!S12 -> 0 | ... AA19: =Отчет_март!AC12 -> 1
A20: =Отчет_март!A13 -> 5 | B20: =Отчет_март!B13 -> Участок №1 | C20: =Отчет_март!C13 -> ТП | D20: =Отчет_март!D13 -> ПС 110/35/10кВ Касимов ВЛ 10кВ, ф12, МТП2591, ф.1 | E20: =Отчет_март!E13 -> 0.38 | F20: =Отчет_март!F13 -> 43513.814 | G20: =Отчет_март!G13 -> 43513.85 | H20: =Отчет_март!H13 -> В | I20: =Отчет_март!I13 -> 0.86666667 | J20: =Отчет_март!L13 -> МТП2591, ф.1 | K20: =Отчет_март!M13 -> 0 | L20: =Отчет_март!N13 -> 0 | M20: =Отчет_март!O13 -> 58 | N20: =Отчет_март!P13 -> 0 | O20: =Отчет_март!Q13 -> 0 | P20: =Отчет_март!R13 -> 58 | Q20: =Отчет_март!S13 -> 0 | ... AA20: =Отчет_март!AC13 -> 1
A21: =Отчет_март!A14 -> 6 | B21: =Отчет_март!B14 -> Участок №1 | C21: =Отчет_март!C14 -> ТП | D21: =Отчет_март!D14 -> ПС 35/10кВ Лашма ВЛ 10кВ, ф3, ЗТП8, ф2 | E21: =Отчет_март!E14 -> 0.38 | F21: =Отчет_март!F14 -> 43514.419 | G21: =Отчет_март!G14 -> 43514.5 | H21: =Отчет_март!H14 -> В | I21: =Отчет_март!I14 -> 1.95 | J21: =Отчет_март!L14 -> ЗТП8, ф2. | K21: =Отчет_март!M14 -> 0 | L21: =Отчет_март!N14 -> 0 | M21: =Отчет_март!O14 -> 49 | N21: =Отчет_март!P14 -> 0 | O21: =Отчет_март!Q14 -> 0 | P21: =Отчет_март!R14 -> 49 | Q21: =Отчет_март!S14 -> 0 | ... AA21: =Отчет_март!AC14 -> 1
A22: =Отчет_март!A15 -> 7 | B22: =Отчет_март!B15 -> Участок №1 | C22: =Отчет_март!C15 -> ВЛ | D22: =Отчет_март!D15 -> ПС 35/10кВ Телебукино ВЛ 10кВ, ф14 | E22: =Отчет_март!E15 -> 10 (10.5) | F22: =Отчет_март!F15 -> 43517.293 | G22: =Отчет_март!G15 -> 43517.564 | H22: =Отчет_март!H15 -> В | I22: =Отчет_март!I15 -> 6.5 | J22: =Отчет_март!L15 -> ВЛ 10кВ, ф14 | K22: =Отчет_март!M15 -> 0 | L22: =Отчет_март!N15 -> 0 | M22: =Отчет_март!O15 -> 77 | N22: =Отчет_март!P15 -> 0 | O22: =Отчет_март!Q15 -> 0 | P22: =Отчет_март!R15 -> 77 | Q22: =Отчет_март!S15 -> 0 | ... AA22: =Отчет_март!AC15 -> 0
A23: =Отчет_март!A16 -> 8 | B23: =Отчет_март!B16 -> Участок №1 | C23: =Отчет_март!C16 -> ВЛ | D23: =Отчет_март!D16 -> ПС 35/10кВ Лашма ВЛ 10кВ, ф5 | E23: =Отчет_март!E16 -> 10 (10.5) | F23: =Отчет_март!F16 -> 43541.46 | G23: =Отчет_март!G16 -> 43541.613 | H23: =Отчет_март!H16 -> В | I23: =Отчет_март!I16 -> 3.6666667 | J23: =Отчет_март!L16 -> ВЛ 10кВ, ф5 | K23: =Отчет_март!M16 -> 0 | L23: =Отчет_март!N16 -> 0 | M23: =Отчет_март!O16 -> 495 | N23: =Отчет_март!P16 -> 0 | O23: =Отчет_март!Q16 -> 0 | P23: =Отчет_март!R16 -> 495 | Q23: =Отчет_март!S16 -> 0 | ... AA23: =Отчет_март!AC16 -> 1
A24: =Отчет_апрель!A11 -> 9 | B24: =Отчет_апрель!B11 -> Участок №1 | C24: =Отчет_апрель!C11 -> ВЛ | D24: =Отчет_апрель!D11 -> ПС 35/10кВ Затон ВЛ 10кВ, ф2 | E24: =Отчет_апрель!E11 -> 10 (10.5) | F24: =Отчет_апрель!F11 -> 43565.708 | G24: =Отчет_апрель!G11 -> 43565.844 | H24: =Отчет_апрель!H11 -> В | I24: =Отчет_апрель!I11 -> 3.25 | J24: =Отчет_апрель!L11 -> ВЛ 10кВ, №2 | K24: =Отчет_апрель!M11 -> 0 | L24: =Отчет_апрель!N11 -> 0 | M24: =Отчет_апрель!O11 -> 55 | N24: =Отчет_апрель!P11 -> 0 | O24: =Отчет_апрель!Q11 -> 0 | P24: =Отчет_апрель!R11 -> 55 | Q24: =Отчет_апрель!S11 -> 0 | ... AA24: =Отчет_апрель!AC11 -> 0
A25: =Отчет_апрель!A12 -> 10 | B25: =Отчет_апрель!B12 -> Участок №1 | C25: =Отчет_апрель!C12 -> ВЛ | D25: =Отчет_апрель!D12 -> ПС 35/10кВ Затон ВЛ 10кВ, ф2 ТП Бургаз , ф1 | E25: =Отчет_апрель!E12 -> 0.38 | F25: =Отчет_апрель!F12 -> 43567.625 | G25: =Отчет_апрель!G12 -> 43567.792 | H25: =Отчет_апрель!H12 -> В | I25: =Отчет_апрель!I12 -> 4 | J25: =Отчет_апрель!L12 -> ВЛ 0,4кВ, №2 | K25: =Отчет_апрель!M12 -> 0 | L25: =Отчет_апрель!N12 -> 0 | M25: =Отчет_апрель!O12 -> 52 | N25: =Отчет_апрель!P12 -> 0 | O25: =Отчет_апрель!Q12 -> 0 | P25: =Отчет_апрель!R12 -> 52 | Q25: =Отчет_апрель!S12 -> 0 | ... AA25: =Отчет_апрель!AC12 -> 0
A26: =Отчет_апрель!A13 -> 11 | B26: =Отчет_апрель!B13 -> Участок №1 | C26: =Отчет_апрель!C13 -> ВЛ | D26: =Отчет_апрель!D13 -> ПС110/10кВ Бельки ф.6 ВЛ10кВ№6 | E26: =Отчет_апрель!E13 -> 10 (10.5) | F26: =Отчет_апрель!F13 -> 43568.271 | G26: =Отчет_апрель!G13 -> 43568.299 | H26: =Отчет_апрель!H13 -> В | I26: =Отчет_апрель!I13 -> 0.66666667 | J26: =Отчет_апрель!L13 -> ВЛ 10кВ, №6 | K26: =Отчет_апрель!M13 -> 0 | L26: =Отчет_апрель!N13 -> 0 | M26: =Отчет_апрель!O13 -> 1039 | N26: =Отчет_апрель!P13 -> 0 | O26: =Отчет_апрель!Q13 -> 0 | P26: =Отчет_апрель!R13 -> 1039 | Q26: =Отчет_апрель!S13 -> 0 | ... AA26: =Отчет_апрель!AC13 -> 0
A27: =Отчет_апрель!A14 -> 12 | B27: =Отчет_апрель!B14 -> Участок №1 | C27: =Отчет_апрель!C14 -> ВЛ | D27: =Отчет_апрель!D14 -> ПС Сабурово 110/10кВ ВЛ 10кВ ф.7 | E27: =Отчет_апрель!E14 -> 11 (10.5) | F27: =Отчет_апрель!F14 -> 43579.522 | G27: =Отчет_апрель!G14 -> 43579.53 | H27: =Отчет_апрель!H14 -> В | I27: =Отчет_апрель!I14 -> 0.18333333 | J27: =Отчет_апрель!L14 -> ВЛ 10кВ, №7 | K27: =Отчет_апрель!M14 -> 0 | L27: =Отчет_апрель!N14 -> 0 | M27: =Отчет_апрель!O14 -> 1716 | N27: =Отчет_апрель!P14 -> 0 | O27: =Отчет_апрель!Q14 -> 0 | P27: =Отчет_апрель!R14 -> 1716 | Q27: =Отчет_апрель!S14 -> 0 | ... AA27: =Отчет_апрель!AC14 -> 0
A28: =Отчёт_май_К!A11 -> 20 | B28: =Отчёт_май_К!B11 -> Участок №1 | C28: =Отчёт_май_К!C11 -> ВЛ | D28: =Отчёт_май_К!D11 -> ТП Бургаз ВЛ 0,4кВ | E28: =Отчёт_май_К!E11 -> 0.38 | F28: =Отчёт_май_К!F11 -> 43585.5 | G28: =Отчёт_май_К!G11 -> 43585.583 | H28: =Отчёт_май_К!H11 -> П | I28: =Отчёт_май_К!I11 -> 2 | J28: =Отчёт_май_К!L11 -> ВЛ 0,4кВ, №2 | K28: =Отчёт_май_К!M11 -> 0 | L28: =Отчёт_май_К!N11 -> 0 | M28: =Отчёт_май_К!O11 -> 14 | N28: =Отчёт_май_К!P11 -> 0 | O28: =Отчёт_май_К!Q11 -> 0 | P28: =Отчёт_май_К!R11 -> 14 | Q28: =Отчёт_май_К!S11 -> 0 | ... AA28: =Отчёт_май_К!AC11 -> 1
A29: =Отчёт_май_К!A12 -> 21 | B29: =Отчёт_май_К!B12 -> Участок №1 | C29: =Отчёт_май_К!C12 -> ВЛ | D29: =Отчёт_май_К!D12 -> ТП 2553 ВЛ 0,4кВ | E29: =Отчёт_май_К!E12 -> 0.38 | F29: =Отчёт_май_К!F12 -> 43591.458 | G29: =Отчёт_май_К!G12 -> 43591.625 | H29: =Отчёт_май_К!H12 -> П | I29: =Отчёт_май_К!I12 -> 4 | J29: =Отчёт_май_К!L12 -> ВЛ 0,4кВ, №1 | K29: =Отчёт_май_К!M12 -> 0 | L29: =Отчёт_май_К!N12 -> 0 | M29: =Отчёт_май_К!O12 -> 15 | N29: =Отчёт_май_К!P12 -> 0 | O29: =Отчёт_май_К!Q12 -> 0 | P29: =Отчёт_май_К!R12 -> 15 | Q29: =Отчёт_май_К!S12 -> 0 | ... AA29: =Отчёт_май_К!AC12 -> 1
A30: =Отчёт_май_К!A13 -> 22 | B30: =Отчёт_май_К!B13 -> Участок №1 | C30: =Отчёт_май_К!C13 -> ВЛ | D30: =Отчёт_май_К!D13 -> ПС Лашиа 35/10кВ ВЛ 10кВ №5 | E30: =Отчёт_май_К!E13 -> 10 (10.5) | F30: =Отчёт_май_К!F13 -> 43598.292 | G30: =Отчёт_май_К!G13 -> 43598.438 | H30: =Отчёт_май_К!H13 -> П | I30: =Отчёт_май_К!I13 -> 3.5 | J30: =Отчёт_май_К!L13 -> ВЛ 10кВ, №5 | K30: =Отчёт_май_К!M13 -> 0 | L30: =Отчёт_май_К!N13 -> 0 | M30: =Отчёт_май_К!O13 -> 490 | N30: =Отчёт_май_К!P13 -> 0 | O30: =Отчёт_май_К!Q13 -> 0 | P30: =Отчёт_май_К!R13 -> 490 | Q30: =Отчёт_май_К!S13 -> 0 | ... AA30: =Отчёт_май_К!AC13 -> 1
A31: =Отчёт_май_К!A14 -> 23 | B31: =Отчёт_май_К!B14 -> Участок №1 | C31: =Отчёт_май_К!C14 -> ВЛ | D31: =Отчёт_май_К!D14 -> ПС Лашиа 35/10кВ ВЛ 10кВ №3 | E31: =Отчёт_май_К!E14 -> 10 (10.5) | F31: =Отчёт_май_К!F14 -> 43598.917 | G31: =Отчёт_май_К!G14 -> 43599.167 | H31: =Отчёт_май_К!H14 -> В | I31: =Отчёт_май_К!I14 -> 6 | J31: =Отчёт_май_К!L14 -> ВЛ 10кВ, №3 | K31: =Отчёт_май_К!M14 -> 0 | L31: =Отчёт_май_К!N14 -> 0 | M31: =Отчёт_май_К!O14 -> 594 | N31: =Отчёт_май_К!P14 -> 0 | O31: =Отчёт_май_К!Q14 -> 0 | P31: =Отчёт_май_К!R14 -> 594 | Q31: =Отчёт_май_К!S14 -> 0 | ... AA31: =Отчёт_май_К!AC14 -> 1
A32: =Отчёт_май_К!A15 -> 24 | B32: =Отчёт_май_К!B15 -> Участок №3 | C32: =Отчёт_май_К!C15 -> ВЛ | D32: =Отчёт_май_К!D15 -> ПС110/10кВ Бельки ф.6 ВЛ10кВ№6 | E32: =Отчёт_май_К!E15 -> 10 (10.5) | F32: =Отчёт_май_К!F15 -> 43598.917 | G32: =Отчёт_май_К!G15 -> 43599.542 | H32: =Отчёт_май_К!H15 -> В | I32: =Отчёт_май_К!I15 -> 15 | J32: =Отчёт_май_К!L15 -> ВЛ 10кВ, №6 | K32: =Отчёт_май_К!M15 -> 0 | L32: =Отчёт_май_К!N15 -> 0 | M32: =Отчёт_май_К!O15 -> 1390 | N32: =Отчёт_май_К!P15 -> 0 | O32: =Отчёт_май_К!Q15 -> 0 | P32: =Отчёт_май_К!R15 -> 1390 | Q32: =Отчёт_май_К!S15 -> 0 | ... AA32: =Отчёт_май_К!AC15 -> 1
A33: =Отчёт_май_К!A16 -> 25 | B33: =Отчёт_май_К!B16 -> Участок №1 | C33: =Отчёт_май_К!C16 -> ТП | D33: =Отчёт_май_К!D16 -> ПС Лашиа 35/10кВ ВЛ 10кВ №5, ЗТП8 | E33: =Отчёт_май_К!E16 -> 10 (10.5) | F33: =Отчёт_май_К!F16 -> 43599.083 | G33: =Отчёт_май_К!G16 -> 43599.417 | H33: =Отчёт_май_К!H16 -> В | I33: =Отчёт_май_К!I16 -> 8 | J33: =Отчёт_май_К!L16 -> ЗТП8 | K33: =Отчёт_май_К!M16 -> 0 | L33: =Отчёт_май_К!N16 -> 0 | M33: =Отчёт_май_К!O16 -> 490 | N33: =Отчёт_май_К!P16 -> 0 | O33: =Отчёт_май_К!Q16 -> 0 | P33: =Отчёт_май_К!R16 -> 490 | Q33: =Отчёт_май_К!S16 -> 0 | ... AA33: =Отчёт_май_К!AC16 -> 1
A34: =Отчёт_май_К!A17 -> 26 | B34: =Отчёт_май_К!B17 -> Участок №1 | C34: =Отчёт_май_К!C17 -> ТП | D34: =Отчёт_май_К!D17 -> ПС Лашиа 35/10кВ ВЛ 10кВ №5, ЗТП8 | E34: =Отчёт_май_К!E17 -> 10 (10.5) | F34: =Отчёт_май_К!F17 -> 43599.875 | G34: =Отчёт_май_К!G17 -> 43599.958 | H34: =Отчёт_май_К!H17 -> В | I34: =Отчёт_май_К!I17 -> 2 | J34: =Отчёт_май_К!L17 -> ЗТП8 | K34: =Отчёт_май_К!M17 -> 0 | L34: =Отчёт_май_К!N17 -> 0 | M34: =Отчёт_май_К!O17 -> 490 | N34: =Отчёт_май_К!P17 -> 0 | O34: =Отчёт_май_К!Q17 -> 0 | P34: =Отчёт_май_К!R17 -> 490 | Q34: =Отчёт_май_К!S17 -> 0 | ... AA34: =Отчёт_май_К!AC17 -> 1
A35: =Отчёт_май_К!A18 -> 27 | B35: =Отчёт_май_К!B18 -> Участок №1 | C35: =Отчёт_май_К!C18 -> ТП | D35: =Отчёт_май_К!D18 -> ПС Лашиа 35/10кВ ВЛ 10кВ №3 КТП 2 | E35: =Отчёт_май_К!E18 -> 10 (10.5) | F35: =Отчёт_май_К!F18 -> 43599.403 | G35: =Отчёт_май_К!G18 -> 43599.444 | H35: =Отчёт_май_К!H18 -> В | I35: =Отчёт_май_К!I18 -> 1 | J35: =Отчёт_май_К!L18 -> КТП2 | K35: =Отчёт_май_К!M18 -> 0 | L35: =Отчёт_май_К!N18 -> 0 | M35: =Отчёт_май_К!O18 -> 1 | N35: =Отчёт_май_К!P18 -> 0 | O35: =Отчёт_май_К!Q18 -> 0 | P35: =Отчёт_май_К!R18 -> 1 | Q35: =Отчёт_май_К!S18 -> 0 | ... AA35: =Отчёт_май_К!AC18 -> 1
A36: =Отчёт_май_К!A19 -> 28 | B36: =Отчёт_май_К!B19 -> Участок №1 | C36: =Отчёт_май_К!C19 -> ВЛ | D36: =Отчёт_май_К!D19 -> ПС 35/10кВ Телебукино ВЛ.11 | E36: =Отчёт_май_К!E19 -> 10 (10.5) | F36: =Отчёт_май_К!F19 -> 43600.396 | G36: =Отчёт_май_К!G19 -> 43600.424 | H36: =Отчёт_май_К!H19 -> В | I36: =Отчёт_май_К!I19 -> 0.66666667 | J36: =Отчёт_май_К!L19 -> ВЛ 10кВ, №11 | K36: =Отчёт_май_К!M19 -> 0 | L36: =Отчёт_май_К!N19 -> 0 | M36: =Отчёт_май_К!O19 -> 362 | N36: =Отчёт_май_К!P19 -> 0 | O36: =Отчёт_май_К!Q19 -> 0 | P36: =Отчёт_май_К!R19 -> 362 | Q36: =Отчёт_май_К!S19 -> 0 | ... AA36: =Отчёт_май_К!AC19 -> 0
A37: =Отчёт_май_К!A20 -> 29 | B37: =Отчёт_май_К!B20 -> Участок №1 | C37: =Отчёт_май_К!C20 -> ТП | D37: =Отчёт_май_К!D20 -> ПС Лашиа 35/10кВ ВЛ 10кВ №3 КТП 2 | E37: =Отчёт_май_К!E20 -> 10 (10.5) | F37: =Отчёт_май_К!F20 -> 43600.438 | G37: =Отчёт_май_К!G20 -> 43600.5 | H37: =Отчёт_май_К!H20 -> П | I37: =Отчёт_май_К!I20 -> 1.5 | J37: =Отчёт_май_К!L20 -> КТП2 | K37: =Отчёт_май_К!M20 -> 0 | L37: =Отчёт_май_К!N20 -> 0 | M37: =Отчёт_май_К!O20 -> 1 | N37: =Отчёт_май_К!P20 -> 0 | O37: =Отчёт_май_К!Q20 -> 0 | P37: =Отчёт_май_К!R20 -> 1 | Q37: =Отчёт_май_К!S20 -> 0 | ... AA37: =Отчёт_май_К!AC20 -> 0
A38: =Отчёт_июнь_К_!A11 -> 29 | B38: =Отчёт_июнь_К_!B11 -> Участок №1 | C38: =Отчёт_июнь_К_!C11 -> ВЛ | D38: =Отчёт_июнь_К_!D11 -> ПС 35/10кВ Телебукино ВЛ.11 | E38: =Отчёт_июнь_К_!E11 -> 10 (10.5) | F38: =Отчёт_июнь_К_!F11 -> 43617.708 | G38: =Отчёт_июнь_К_!G11 -> 43617.812 | H38: =Отчёт_июнь_К_!H11 -> В | I38: =Отчёт_июнь_К_!I11 -> 2.5 | J38: =Отчёт_июнь_К_!L11 -> ВЛ 10кВ, №11 | K38: =Отчёт_июнь_К_!M11 -> 0 | L38: =Отчёт_июнь_К_!N11 -> 0 | M38: =Отчёт_июнь_К_!O11 -> 362 | N38: =Отчёт_июнь_К_!P11 -> 0 | O38: =Отчёт_июнь_К_!Q11 -> 0 | P38: =Отчёт_июнь_К_!R11 -> 362 | Q38: =Отчёт_июнь_К_!S11 -> 0 | ... AA38: =Отчёт_июнь_К_!AC11 -> 1
A39: =Отчёт_июнь_К_!A12 -> 30 | B39: =Отчёт_июнь_К_!B12 -> Участок №1 | C39: =Отчёт_июнь_К_!C12 -> ТП | D39: =Отчёт_июнь_К_!D12 -> ПС Лашма 35/10кВ ВЛ 10кВ №5, ЗТП8 | E39: =Отчёт_июнь_К_!E12 -> 10 (10.5) | F39: =Отчёт_июнь_К_!F12 -> 43617.708 | G39: =Отчёт_июнь_К_!G12 -> 43617.792 | H39: =Отчёт_июнь_К_!H12 -> В | I39: =Отчёт_июнь_К_!I12 -> 2 | J39: =Отчёт_июнь_К_!L12 -> ЗТП8 | K39: =Отчёт_июнь_К_!M12 -> 0 | L39: =Отчёт_июнь_К_!N12 -> 0 | M39: =Отчёт_июнь_К_!O12 -> 490 | N39: =Отчёт_июнь_К_!P12 -> 0 | O39: =Отчёт_июнь_К_!Q12 -> 0 | P39: =Отчёт_июнь_К_!R12 -> 490 | Q39: =Отчёт_июнь_К_!S12 -> 0 | ... AA39: =Отчёт_июнь_К_!AC12 -> 1
A40: =Отчёт_июнь_К_!A13 -> 31 | B40: =Отчёт_июнь_К_!B13 -> Участок №3 | C40: =Отчёт_июнь_К_!C13 -> ВЛ | D40: =Отчёт_июнь_К_!D13 -> ПС110/10кВ Бельки ф.6 ВЛ10кВ№6 | E40: =Отчёт_июнь_К_!E13 -> 10 (10.5) | F40: =Отчёт_июнь_К_!F13 -> 43617.007 | G40: =Отчёт_июнь_К_!G13 -> 43617.34 | H40: =Отчёт_июнь_К_!H13 -> В | I40: =Отчёт_июнь_К_!I13 -> 8 | J40: =Отчёт_июнь_К_!L13 -> ВЛ 10кВ, №6 | K40: =Отчёт_июнь_К_!M13 -> 0 | L40: =Отчёт_июнь_К_!N13 -> 0 | M40: =Отчёт_июнь_К_!O13 -> 1390 | N40: =Отчёт_июнь_К_!P13 -> 0 | O40: =Отчёт_июнь_К_!Q13 -> 0 | P40: =Отчёт_июнь_К_!R13 -> 1390 | Q40: =Отчёт_июнь_К_!S13 -> 0 | ... AA40: =Отчёт_июнь_К_!AC13 -> 1
A41: =Отчёт_июнь_К_!A14 -> 32 | B41: =Отчёт_июнь_К_!B14 -> Участок №1 | C41: =Отчёт_июнь_К_!C14 -> ВЛ | D41: =Отчёт_июнь_К_!D14 -> ПС110/35/10кВ Касимов ф.12. | E41: =Отчёт_июнь_К_!E14 -> 10 (10.5) | F41: =Отчёт_июнь_К_!F14 -> 43621.375 | G41: =Отчёт_июнь_К_!G14 -> 43621.549 | H41: =Отчёт_июнь_К_!H14 -> П | I41: =Отчёт_июнь_К_!I14 -> 4.1666667 | J41: =Отчёт_июнь_К_!L14 -> ВЛ 10кВ, №12 | K41: =Отчёт_июнь_К_!M14 -> 0 | L41: =Отчёт_июнь_К_!N14 -> 0 | M41: =Отчёт_июнь_К_!O14 -> 310 | N41: =Отчёт_июнь_К_!P14 -> 0 | O41: =Отчёт_июнь_К_!Q14 -> 0 | P41: =Отчёт_июнь_К_!R14 -> 310 | Q41: =Отчёт_июнь_К_!S14 -> 0 | ... AA41: =Отчёт_июнь_К_!AC14 -> 1
A42: =Отчёт_июнь_К_!A15 -> 33 | B42: =Отчёт_июнь_К_!B15 -> Участок №1 | C42: =Отчёт_июнь_К_!C15 -> ВЛ | D42: =Отчёт_июнь_К_!D15 -> ПС110/35/10кВ Касимов ф.12. ТП-2589 ф.2 | E42: =Отчёт_июнь_К_!E15 -> 0.38 | F42: =Отчёт_июнь_К_!F15 -> 43621.542 | G42: =Отчёт_июнь_К_!G15 -> 43621.667 | H42: =Отчёт_июнь_К_!H15 -> П | I42: =Отчёт_июнь_К_!I15 -> 3 | J42: =Отчёт_июнь_К_!L15 -> ВЛ 0,4кВ, №2 | K42: =Отчёт_июнь_К_!M15 -> 0 | L42: =Отчёт_июнь_К_!N15 -> 0 | M42: =Отчёт_июнь_К_!O15 -> 42 | N42: =Отчёт_июнь_К_!P15 -> 0 | O42: =Отчёт_июнь_К_!Q15 -> 0 | P42: =Отчёт_июнь_К_!R15 -> 42 | Q42: =Отчёт_июнь_К_!S15 -> 0 | ... AA42: =Отчёт_июнь_К_!AC15 -> 1
A43: =Отчёт_июнь_К_!A16 -> 34 | B43: =Отчёт_июнь_К_!B16 -> Участок №1 | C43: =Отчёт_июнь_К_!C16 -> ВЛ | D43: =Отчёт_июнь_К_!D16 -> ПС110/35/10кВ Касимов ф.12. ТП-2589 ф.2 | E43: =Отчёт_июнь_К_!E16 -> 0.38 | F43: =Отчёт_июнь_К_!F16 -> 43622.417 | G43: =Отчёт_июнь_К_!G16 -> 43622.625 | H43: =Отчёт_июнь_К_!H16 -> П | I43: =Отчёт_июнь_К_!I16 -> 5 | J43: =Отчёт_июнь_К_!L16 -> ВЛ 0,4кВ, №2 | K43: =Отчёт_июнь_К_!M16 -> 0 | L43: =Отчёт_июнь_К_!N16 -> 0 | M43: =Отчёт_июнь_К_!O16 -> 42 | N43: =Отчёт_июнь_К_!P16 -> 0 | O43: =Отчёт_июнь_К_!Q16 -> 0 | P43: =Отчёт_июнь_К_!R16 -> 42 | Q43: =Отчёт_июнь_К_!S16 -> 0 | ... AA43: =Отчёт_июнь_К_!AC16 -> 1
A44: =Отчёт_июнь_К_!A17 -> 35 | B44: =Отчёт_июнь_К_!B17 -> Участок №1 | C44: =Отчёт_июнь_К_!C17 -> ТП | D44: =Отчёт_июнь_К_!D17 -> ПС35/10кВ Затон ф.2 ТП Бургаз | E44: =Отчёт_июнь_К_!E17 -> 0.38 | F44: =Отчёт_июнь_К_!F17 -> 43623.5 | G44: =Отчёт_июнь_К_!G17 -> 43623.583 | H44: =Отчёт_июнь_К_!H17 -> П | I44: =Отчёт_июнь_К_!I17 -> 2 | J44: =Отчёт_июнь_К_!L17 -> ТП Бургаз | K44: =Отчёт_июнь_К_!M17 -> 0 | L44: =Отчёт_июнь_К_!N17 -> 0 | M44: =Отчёт_июнь_К_!O17 -> 32 | N44: =Отчёт_июнь_К_!P17 -> 0 | O44: =Отчёт_июнь_К_!Q17 -> 0 | P44: =Отчёт_июнь_К_!R17 -> 32 | Q44: =Отчёт_июнь_К_!S17 -> 0 | ... AA44: =Отчёт_июнь_К_!AC17 -> 1
A45: =Отчёт_июнь_К_!A18 -> 36 | B45: =Отчёт_июнь_К_!B18 -> Участок №1 | C45: =Отчёт_июнь_К_!C18 -> ВЛ | D45: =Отчёт_июнь_К_!D18 -> ПС Лашма 35/10кВ ВЛ 10кВ №5, ЗТП8 | E45: =Отчёт_июнь_К_!E18 -> 0.38 | F45: =Отчёт_июнь_К_!F18 -> 43627.438 | G45: =Отчёт_июнь_К_!G18 -> 43627.479 | H45: =Отчёт_июнь_К_!H18 -> П | I45: =Отчёт_июнь_К_!I18 -> 1 | J45: =Отчёт_июнь_К_!L18 -> ВЛ 0,4кВ, №3 | K45: =Отчёт_июнь_К_!M18 -> 0 | L45: =Отчёт_июнь_К_!N18 -> 0 | M45: =Отчёт_июнь_К_!O18 -> 48 | N45: =Отчёт_июнь_К_!P18 -> 0 | O45: =Отчёт_июнь_К_!Q18 -> 0 | P45: =Отчёт_июнь_К_!R18 -> 48 | Q45: =Отчёт_июнь_К_!S18 -> 0 | ... AA45: =Отчёт_июнь_К_!AC18 -> 1
A46: =Отчёт_июнь_К_!A19 -> 0 | B46: Участок №1 | C46: =Отчёт_июнь_К_!C19 -> 0 | D46: =Отчёт_июнь_К_!D19 -> ПС110/35/10кВ Касимов ф.12. ТП-2589 ф.2 | E46: =Отчёт_июнь_К_!E19 -> 0.38 | F46: =Отчёт_июнь_К_!F19 -> 43630.417 | G46: =Отчёт_июнь_К_!G19 -> 43630.625 | H46: =Отчёт_июнь_К_!H19 -> П | I46: =Отчёт_июнь_К_!I19 -> 5 | J46: =Отчёт_июнь_К_!L19 -> ВЛ 0,4кВ, №2 | K46: =Отчёт_июнь_К_!M19 -> 0 | L46: =Отчёт_июнь_К_!N19 -> 0 | M46: =Отчёт_июнь_К_!O19 -> 42 | N46: =Отчёт_июнь_К_!P19 -> 0 | O46: =Отчёт_июнь_К_!Q19 -> 0 | P46: =Отчёт_июнь_К_!R19 -> 42 | Q46: =Отчёт_июнь_К_!S19 -> 0 | ... AA46: =Отчёт_июнь_К_!AC19 -> 1
A47: ='Отчет ИюльК'!A11 -> 44 | B47: ='Отчет ИюльК'!B11 -> Участок 3 | C47: ='Отчет ИюльК'!C11 -> ВЛ | D47: ='Отчет ИюльК'!D11 -> ВЛ 0,4кВ от ТП1 Сынтул | E47: ='Отчет ИюльК'!E11 -> 0.38 | F47: ='Отчет ИюльК'!F11 -> 43647.375 | G47: ='Отчет ИюльК'!G11 -> 43647.583 | H47: ='Отчет ИюльК'!H11 -> П | ... AA47: ='Отчет ИюльК'!AA11 -> 1
A48: ='Отчет ИюльК'!A12 -> 45 | B48: ='Отчет ИюльК'!B12 -> Участок 3 | C48: ='Отчет ИюльК'!C12 -> ВЛ | D48: ='Отчет ИюльК'!D12 -> ВЛ 0,4кВ от ТП1 Сынтул | E48: ='Отчет ИюльК'!E12 -> 0.38 | F48: ='Отчет ИюльК'!F12 -> 43648.375 | G48: ='Отчет ИюльК'!G12 -> 43648.583 | H48: ='Отчет ИюльК'!H12 -> П | ... AA48: ='Отчет ИюльК'!AA12 -> 1
A49: ='Отчет ИюльК'!A13 -> 46 | B49: ='Отчет ИюльК'!B13 -> Участок 2 | C49: ='Отчет ИюльК'!C13 -> ВЛ | D49: ='Отчет ИюльК'!D13 -> ВЛ 0,4кВ от ТП11 Елатьма | E49: ='Отчет ИюльК'!E13 -> 0.38 | F49: ='Отчет ИюльК'!F13 -> 43648.427 | G49: ='Отчет ИюльК'!G13 -> 43648.458 | H49: ='Отчет ИюльК'!H13 -> П | ... AA49: ='Отчет ИюльК'!AA13 -> 1
A50: ='Отчет ИюльК'!A14 -> 47 | B50: ='Отчет ИюльК'!B14 -> Участок 1 | C50: ='Отчет ИюльК'!C14 -> ВЛ | D50: ='Отчет ИюльК'!D14 -> ВЛ 10кВ№5 от ПС Лашма 35/10кВ | E50: ='Отчет ИюльК'!E14 -> 10 (10.5) | F50: ='Отчет ИюльК'!F14 -> 43649.417 | G50: ='Отчет ИюльК'!G14 -> 43649.625 | H50: ='Отчет ИюльК'!H14 -> П | ... AA50: ='Отчет ИюльК'!AA14 -> 1
A51: ='Отчет ИюльК'!A15 -> 48 | B51: ='Отчет ИюльК'!B15 -> Участок 2 | C51: ='Отчет ИюльК'!C15 -> ВЛ | D51: ='Отчет ИюльК'!D15 -> ВЛ 0,4кВ от ТП11 Елатьма | E51: ='Отчет ИюльК'!E15 -> 0.38 | F51: ='Отчет ИюльК'!F15 -> 43650.427 | G51: ='Отчет ИюльК'!G15 -> 43650.472 | H51: ='Отчет ИюльК'!H15 -> П | ... AA51: ='Отчет ИюльК'!AA15 -> 1
A52: ='Отчет ИюльК'!A16 -> 49 | B52: ='Отчет ИюльК'!B16 -> Участок 2 | C52: ='Отчет ИюльК'!C16 -> ВЛ | D52: ='Отчет ИюльК'!D16 -> ВЛ 0,4кВ от ТП11 Елатьма | E52: ='Отчет ИюльК'!E16 -> 0.38 | F52: ='Отчет ИюльК'!F16 -> 43650.562 | G52: ='Отчет ИюльК'!G16 -> 43650.583 | H52: ='Отчет ИюльК'!H16 -> П | ... AA52: ='Отчет ИюльК'!AA16 -> 1
A53: ='Отчет ИюльК'!A17 -> 50 | B53: ='Отчет ИюльК'!B17 -> Участок 2 | C53: ='Отчет ИюльК'!C17 -> ВЛ | D53: ='Отчет ИюльК'!D17 -> ВЛ 0,4кВ от ТП11 Елатьма | E53: ='Отчет ИюльК'!E17 -> 0.38 | F53: ='Отчет ИюльК'!F17 -> 43651.396 | G53: ='Отчет ИюльК'!G17 -> 43651.542 | H53: ='Отчет ИюльК'!H17 -> П | ... AA53: ='Отчет ИюльК'!AA17 -> 1
A54: ='Отчет ИюльК'!A18 -> 51 | B54: ='Отчет ИюльК'!B18 -> Участок 2 | C54: ='Отчет ИюльК'!C18 -> ВЛ | D54: ='Отчет ИюльК'!D18 -> ВЛ 0,4кВ от ТП5 Елатьма | E54: ='Отчет ИюльК'!E18 -> 0.38 | F54: ='Отчет ИюльК'!F18 -> 43655.417 | G54: ='Отчет ИюльК'!G18 -> 43655.5 | H54: ='Отчет ИюльК'!H18 -> П | ... AA54: ='Отчет ИюльК'!AA18 -> 1
A55: ='Отчет ИюльК'!A19 -> 52 | B55: ='Отчет ИюльК'!B19 -> Участок №2 | C55: ='Отчет ИюльК'!C19 -> ВЛ | D55: ='Отчет ИюльК'!D19 -> ЦРП Елатьма 10кВ ф.3 | E55: ='Отчет ИюльК'!E19 -> 10 (10.5) | F55: ='Отчет ИюльК'!F19 -> 43655.674 | G55: ='Отчет ИюльК'!G19 -> 43655.69 | H55: ='Отчет ИюльК'!H19 -> В | ... AA55: ='Отчет ИюльК'!AA19 -> 1
A56: ='Отчет ИюльК'!A20 -> 53 | B56: ='Отчет ИюльК'!B20 -> Участок №3 | C56: ='Отчет ИюльК'!C20 -> ВЛ | D56: ='Отчет ИюльК'!D20 -> ПС110/10кВ Бельки ф.6 ВЛ10кВ№6 | E56: ='Отчет ИюльК'!E20 -> 10 (10.5) | F56: ='Отчет ИюльК'!F20 -> 43656.049 | G56: ='Отчет ИюльК'!G20 -> 43656.34 | H56: ='Отчет ИюльК'!H20 -> В | ... AA56: ='Отчет ИюльК'!AA20 -> 1
A57: ='Отчет ИюльК'!A21 -> 54 | B57: ='Отчет ИюльК'!B21 -> Участок 2 | C57: ='Отчет ИюльК'!C21 -> ВЛ | D57: ='Отчет ИюльК'!D21 -> ВЛ 0,4кВ от ТП11 Елатьма | E57: ='Отчет ИюльК'!E21 -> 0.38 | F57: ='Отчет ИюльК'!F21 -> 43656.375 | G57: ='Отчет ИюльК'!G21 -> 43656.5 | H57: ='Отчет ИюльК'!H21 -> П | ... AA57: ='Отчет ИюльК'!AA21 -> 1
A58: ='Отчет ИюльК'!A22 -> 55 | B58: ='Отчет ИюльК'!B22 -> Участок 3 | C58: ='Отчет ИюльК'!C22 -> ВЛ | D58: ='Отчет ИюльК'!D22 -> ВЛ10кВ №4 Сынтул | E58: ='Отчет ИюльК'!E22 -> 10 (10.5) | F58: ='Отчет ИюльК'!F22 -> 43656.417 | G58: ='Отчет ИюльК'!G22 -> 43656.667 | H58: ='Отчет ИюльК'!H22 -> П | ... AA58: ='Отчет ИюльК'!AA22 -> 1
... A75: ='Отчет ИюльК'!A39 -> 72 | B75: ='Отчет ИюльК'!B39 -> Участок №1 | C75: ='Отчет ИюльК'!C39 -> ВЛ | D75: ='Отчет ИюльК'!D39 -> ПС Зеленино 35/10кВ ВЛ 10кВ №3, ЗТП5 ф.5 | E75: ='Отчет ИюльК'!E39 -> 0.38 | F75: ='Отчет ИюльК'!F39 -> 43674.875 | G75: ='Отчет ИюльК'!G39 -> 43674.979 | H75: ='Отчет ИюльК'!H39 -> В | ... AA75: ='Отчет ИюльК'!AA39 -> 1
A76: ='Отчет Август К'!A11 -> 73 | B76: ='Отчет Август К'!B11 -> Участок №2 | C76: ='Отчет Август К'!C11 -> ВЛ | D76: ='Отчет Август К'!D11 -> ВЛ 0,4кВ от ТП11 Елатьма | E76: ='Отчет Август К'!E11 -> 0.38 | F76: ='Отчет Август К'!F11 -> 43678.375 | G76: ='Отчет Август К'!G11 -> 43678.5 | H76: ='Отчет Август К'!H11 -> П | ... AA76: ='Отчет Август К'!AA11 -> 1
A77: ='Отчет Август К'!A12 -> 74 | B77: ='Отчет Август К'!B12 -> Участок №1 | C77: ='Отчет Август К'!C12 -> ТП | D77: ='Отчет Август К'!D12 -> ТП Бургаз | E77: ='Отчет Август К'!E12 -> 10 (10.5) | F77: ='Отчет Август К'!F12 -> 43678.458 | G77: ='Отчет Август К'!G12 -> 43678.667 | H77: ='Отчет Август К'!H12 -> П | ... AA77: ='Отчет Август К'!AA12 -> 1
A78: ='Отчет Август К'!A13 -> 75 | B78: ='Отчет Август К'!B13 -> Участок №1 | C78: ='Отчет Август К'!C13 -> ТП | D78: ='Отчет Август К'!D13 -> ТП 2284 Рыбхоз | E78: ='Отчет Август К'!E13 -> 0.38 | F78: ='Отчет Август К'!F13 -> 43683.417 | G78: ='Отчет Август К'!G13 -> 43683.458 | H78: ='Отчет Август К'!H13 -> П | ... AA78: ='Отчет Август К'!AA13 -> 1
A79: ='Отчет Август К'!A14 -> 76 | B79: ='Отчет Август К'!B14 -> Участок №1 | C79: ='Отчет Август К'!C14 -> ВЛ | D79: ='Отчет Август К'!D14 -> КРУН ВЛ10кВ№3 | E79: ='Отчет Август К'!E14 -> 10 (10.5) | F79: ='Отчет Август К'!F14 -> 43690.5 | G79: ='Отчет Август К'!G14 -> 43690.625 | H79: ='Отчет Август К'!H14 -> П | ... AA79: ='Отчет Август К'!AA14 -> 1
A80: ='Отчет Август К'!A15 -> 77 | B80: ='Отчет Август К'!B15 -> Участок №3 | C80: ='Отчет Август К'!C15 -> ВЛ | D80: ='Отчет Август К'!D15 -> ВЛ 0,4кВ №2 ТП5 Гусь-Железный | E80: ='Отчет Август К'!E15 -> 0.38 | F80: ='Отчет Август К'!F15 -> 43683.417 | G80: ='Отчет Август К'!G15 -> 43683.458 | H80: ='Отчет Август К'!H15 -> В | ... AA80: ='Отчет Август К'!AA15 -> 1
A81: ='Отчет Август К'!A16 -> 78 | B81: ='Отчет Август К'!B16 -> Участок №2 | C81: ='Отчет Август К'!C16 -> ВЛ | D81: ='Отчет Август К'!D16 -> ЦРП Елатьма 10кВ ф.3 | E81: ='Отчет Август К'!E16 -> 10 (10.5) | F81: ='Отчет Август К'!F16 -> 43685.356 | G81: ='Отчет Август К'!G16 -> 43685.362 | H81: ='Отчет Август К'!H16 -> В | ... AA81: ='Отчет Август К'!AA16 -> 1
A82: ='Отчет Август К'!A17 -> 79 | B82: ='Отчет Август К'!B17 -> Участок №1 | C82: ='Отчет Август К'!C17 -> ВЛ | D82: ='Отчет Август К'!D17 -> ВЛ 0,4кВ ТП2218 ф.2 | E82: ='Отчет Август К'!E17 -> 0.38 | F82: ='Отчет Август К'!F17 -> 43686.667 | G82: ='Отчет Август К'!G17 -> 43686.75 | H82: ='Отчет Август К'!H17 -> В | ... AA82: ='Отчет Август К'!AA17 -> 1
A83: ='Отчет Август К'!A18 -> 80 | B83: ='Отчет Август К'!B18 -> Участок №2 | C83: ='Отчет Август К'!C18 -> ВЛ | D83: ='Отчет Август К'!D18 -> ЦРП Елатьма 10кВ ф.3 | E83: ='Отчет Август К'!E18 -> 10 (10.5) | F83: ='Отчет Август К'!F18 -> 43687.922 | G83: ='Отчет Август К'!G18 -> 43687.938 | H83: ='Отчет Август К'!H18 -> В | ... AA83: ='Отчет Август К'!AA18 -> 1
A84: ='Отчет Август К'!A19 -> 81 | B84: ='Отчет Август К'!B19 -> Участок №3 | C84: ='Отчет Август К'!C19 -> ТП | D84: ='Отчет Август К'!D19 -> ТП2 Гусь-Железный | E84: ='Отчет Август К'!E19 -> 10 (10.5) | F84: ='Отчет Август К'!F19 -> 43692.625 | G84: ='Отчет Август К'!G19 -> 43692.688 | H84: ='Отчет Август К'!H19 -> П | ... AA84: ='Отчет Август К'!AA19 -> 1
A85: ='Отчет Август К'!A20 -> 82 | B85: ='Отчет Август К'!B20 -> Участок №1 | C85: ='Отчет Август К'!C20 -> ВЛ | D85: ='Отчет Август К'!D20 -> ВЛ10кВ Ф12 ПС Касимов | E85: ='Отчет Август К'!E20 -> 10 (10.5) | F85: ='Отчет Август К'!F20 -> 43693.188 | G85: ='Отчет Август К'!G20 -> 43693.333 | H85: ='Отчет Август К'!H20 -> В | ... AA85: ='Отчет Август К'!AA20 -> 1
A86: ='Отчет Август К'!A21 -> 83 | B86: ='Отчет Август К'!B21 -> Участок №1 | C86: ='Отчет Август К'!C21 -> ВЛ | D86: ='Отчет Август К'!D21 -> ПС110/10кВ Шостье ф.2 ВЛ10кВ№2 | E86: ='Отчет Август К'!E21 -> 10 (10.5) | F86: ='Отчет Август К'!F21 -> 43694.688 | G86: ='Отчет Август К'!G21 -> 43694.833 | H86: ='Отчет Август К'!H21 -> В | ... AA86: ='Отчет Август К'!AA21 -> 1
A87: ='Отчет Август К'!A22 -> 84 | B87: ='Отчет Август К'!B22 -> Участок №1 | C87: ='Отчет Август К'!C22 -> ВЛ | D87: ='Отчет Август К'!D22 -> ПС Зеленино 35/10кВ ВЛ 10кВ №3, ЗТП5 ф.5 | E87: ='Отчет Август К'!E22 -> 10 (10.5) | F87: ='Отчет Август К'!F22 -> 43694.708 | G87: ='Отчет Август К'!G22 -> 43694.833 | H87: ='Отчет Август К'!H22 -> В | ... AA87: ='Отчет Август К'!AA22 -> 1
... A92: ='Отчет Август К'!A27 -> 89 | B92: ='Отчет Август К'!B27 -> Участок №3 | C92: ='Отчет Август К'!C27 -> ВЛ | D92: ='Отчет Август К'!D27 -> ВЛ 0,4кВ №1 ТП1 Гусь-Железный | E92: ='Отчет Август К'!E27 -> 0.38 | F92: ='Отчет Август К'!F27 -> 43703.542 | G92: ='Отчет Август К'!G27 -> 43703.583 | H92: ='Отчет Август К'!H27 -> П | ... AA92: ='Отчет Август К'!AA27 -> 1
A93: ='Отчет Сент К'!A11 -> 89 | B93: ='Отчет Сент К'!B11 -> Участок №1 | C93: ='Отчет Сент К'!C11 -> ВЛ | D93: ='Отчет Сент К'!D11 -> ВЛ 0,4кВ №1 ТП Бургаз | E93: ='Отчет Сент К'!E11 -> 0.38 | F93: ='Отчет Сент К'!F11 -> 43711.417 | G93: ='Отчет Сент К'!G11 -> 43711.542 | H93: ='Отчет Сент К'!H11 -> П | ... AA93: ='Отчет Сент К'!AA11 -> 1
A94: ='Отчет Сент К'!A12 -> 90 | B94: ='Отчет Сент К'!B12 -> Участок №2 | C94: ='Отчет Сент К'!C12 -> ВЛ | D94: ='Отчет Сент К'!D12 -> ВТР КТП7 Елатьма | E94: ='Отчет Сент К'!E12 -> 10 (10.5) | F94: ='Отчет Сент К'!F12 -> 43711.442 | G94: ='Отчет Сент К'!G12 -> 43712.415 | H94: ='Отчет Сент К'!H12 -> В | ... AA94: ='Отчет Сент К'!AA12 -> 1
A95: ='Отчет Сент К'!A13 -> 91 | B95: ='Отчет Сент К'!B13 -> Участок №1 | C95: ='Отчет Сент К'!C13 -> ТП | D95: ='Отчет Сент К'!D13 -> ТП2589 | E95: ='Отчет Сент К'!E13 -> 10 (10.5) | F95: ='Отчет Сент К'!F13 -> 43712.375 | G95: ='Отчет Сент К'!G13 -> 43712.417 | H95: ='Отчет Сент К'!H13 -> П | ... AA95: ='Отчет Сент К'!AA13 -> 1
A96: ='Отчет Сент К'!A14 -> 92 | B96: ='Отчет Сент К'!B14 -> Участок №1 | C96: ='Отчет Сент К'!C14 -> ТП | D96: ='Отчет Сент К'!D14 -> ТП2591 | E96: ='Отчет Сент К'!E14 -> 0.38 | F96: ='Отчет Сент К'!F14 -> 43713.396 | G96: ='Отчет Сент К'!G14 -> 43713.5 | H96: ='Отчет Сент К'!H14 -> П | ... AA96: ='Отчет Сент К'!AA14 -> 1
A97: ='Отчет Сент К'!A15 -> 93 | B97: ='Отчет Сент К'!B15 -> Участок №1 | C97: ='Отчет Сент К'!C15 -> ВЛ | D97: ='Отчет Сент К'!D15 -> ВЛ 0,4кВ №2 ТП2 Гусь-Ж | E97: ='Отчет Сент К'!E15 -> 0.38 | F97: ='Отчет Сент К'!F15 -> 43713.417 | G97: ='Отчет Сент К'!G15 -> 43713.542 | H97: ='Отчет Сент К'!H15 -> П | ... AA97: ='Отчет Сент К'!AA15 -> 1
A98: ='Отчет Сент К'!A16 -> 94 | B98: ='Отчет Сент К'!B16 -> Участок №3 | C98: ='Отчет Сент К'!C16 -> ВЛ | D98: ='Отчет Сент К'!D16 -> ВЛ 10кВ №4 ПС Зеленино | E98: ='Отчет Сент К'!E16 -> 10 (10.5) | F98: ='Отчет Сент К'!F16 -> 43713.417 | G98: ='Отчет Сент К'!G16 -> 43713.542 | H98: ='Отчет Сент К'!H16 -> В | ... AA98: ='Отчет Сент К'!AA16 -> 1
A99: ='Отчет Сент К'!A17 -> 95 | B99: ='Отчет Сент К'!B17 -> Участок №1 | C99: ='Отчет Сент К'!C17 -> ВЛ | D99: ='Отчет Сент К'!D17 -> ВЛ 0,4кВ №13 ЗТП 2369 | E99: ='Отчет Сент К'!E17 -> 0.38 | F99: ='Отчет Сент К'!F17 -> 43714.417 | G99: ='Отчет Сент К'!G17 -> 43714.542 | H99: ='Отчет Сент К'!H17 -> П | ... AA99: ='Отчет Сент К'!AA17 -> 1
A100: ='Отчет Сент К'!A18 -> 96 | B100: ='Отчет Сент К'!B18 -> Участок №1 | C100: ='Отчет Сент К'!C18 -> ВЛ | D100: ='Отчет Сент К'!D18 -> ВЛ 0,4кВ №1 КТП2 | E100: ='Отчет Сент К'!E18 -> 0.38 | F100: ='Отчет Сент К'!F18 -> 43718.417 | G100: ='Отчет Сент К'!G18 -> 43718.667 | H100: ='Отчет Сент К'!H18 -> П | ... AA100: ='Отчет Сент К'!AA18 -> 1
A101: ='Отчет Сент К'!A19 -> 97 | B101: ='Отчет Сент К'!B19 -> Участок №2 | C101: ='Отчет Сент К'!C19 -> ТП | D101: ='Отчет Сент К'!D19 -> ВЛ 0,4кВ №3 КТП12 | E101: ='Отчет Сент К'!E19 -> 0.38 | F101: ='Отчет Сент К'!F19 -> 43719.406 | G101: ='Отчет Сент К'!G19 -> 43719.448 | H101: ='Отчет Сент К'!H19 -> П | ... AA101: ='Отчет Сент К'!AA19 -> 1
A102: ='Отчет Сент К'!A20 -> 98 | B102: ='Отчет Сент К'!B20 -> Участок №3 | C102: ='Отчет Сент К'!C20 -> ВЛ | D102: ='Отчет Сент К'!D20 -> ВЛ 10кВ №6 ПС Бельки ф.6 | E102: ='Отчет Сент К'!E20 -> 10 (10.5) | F102: ='Отчет Сент К'!F20 -> 43719.5 | G102: ='Отчет Сент К'!G20 -> 43719.583 | H102: ='Отчет Сент К'!H20 -> В | ... AA102: ='Отчет Сент К'!AA20 -> 0
A103: ='Отчет Сент К'!A21 -> 99 | B103: ='Отчет Сент К'!B21 -> Участок №2 | C103: ='Отчет Сент К'!C21 -> ТП | D103: ='Отчет Сент К'!D21 -> ВЛ 0,4кВ №1 КТП5 | E103: ='Отчет Сент К'!E21 -> 0.38 | F103: ='Отчет Сент К'!F21 -> 43721.375 | G103: ='Отчет Сент К'!G21 -> 43721.417 | H103: ='Отчет Сент К'!H21 -> П | ... AA103: ='Отчет Сент К'!AA21 -> 1
A104: ='Отчет Сент К'!A22 -> 100 | B104: ='Отчет Сент К'!B22 -> Участок №1 | C104: ='Отчет Сент К'!C22 -> ВЛ | D104: ='Отчет Сент К'!D22 -> ВЛ 10кВ ф.12 от ТП2589 | E104: ='Отчет Сент К'!E22 -> 10 (10.5) | F104: ='Отчет Сент К'!F22 -> 43725.396 | G104: ='Отчет Сент К'!G22 -> 43725.5 | H104: ='Отчет Сент К'!H22 -> П | ... AA104: ='Отчет Сент К'!AA22 -> 1
... A110: ='Отчет Сент К'!A28 -> 106 | B110: ='Отчет Сент К'!B28 -> Участок №3 | C110: ='Отчет Сент К'!C28 -> ТП | D110: ='Отчет Сент К'!D28 -> РУ 0,4кВ №2 ТП5 Гусь-Ж | E110: ='Отчет Сент К'!E28 -> 0.38 | F110: ='Отчет Сент К'!F28 -> 43732.417 | G110: ='Отчет Сент К'!G28 -> 43732.438 | H110: ='Отчет Сент К'!H28 -> П | ... AA110: ='Отчет Сент К'!AA28 -> 1
A111: ='Отчет Окт К'!A11 -> 107 | B111: ='Отчет Окт К'!B11 -> Участок №2 | C111: ='Отчет Окт К'!C11 -> ВЛ | D111: ='Отчет Окт К'!D11 -> ВЛ 0,4кВ КТП 11 ф.2 ПС ПС Сабурово 110/10кВ ф.7 | E111: ='Отчет Окт К'!E11 -> 0.38 | F111: ='Отчет Окт К'!F11 -> 43740.375 | G111: ='Отчет Окт К'!G11 -> 43740.604 | H111: ='Отчет Окт К'!H11 -> П | ... AA111: ='Отчет Окт К'!AA11 -> 1
A112: ='Отчет Окт К'!A12 -> 108 | B112: ='Отчет Окт К'!B12 -> Участок №2 | C112: ='Отчет Окт К'!C12 -> ВЛ | D112: ='Отчет Окт К'!D12 -> ВЛ 0,4кВ КТП 11 ф.2 ПС ПС Сабурово 110/10кВ ф.7 | E112: ='Отчет Окт К'!E12 -> 0.38 | F112: ='Отчет Окт К'!F12 -> 43741.375 | G112: ='Отчет Окт К'!G12 -> 43741.646 | H112: ='Отчет Окт К'!H12 -> П | ... AA112: ='Отчет Окт К'!AA12 -> 1
A113: ='Отчет Окт К'!A13 -> 109 | B113: ='Отчет Окт К'!B13 -> Участок №2 | C113: ='Отчет Окт К'!C13 -> ВЛ | D113: ='Отчет Окт К'!D13 -> ВЛ 0,4кВ КТП 11 ф.2 ПС ПС Сабурово 110/10кВ ф.7 | E113: ='Отчет Окт К'!E13 -> 0.38 | F113: ='Отчет Окт К'!F13 -> 43742.375 | G113: ='Отчет Окт К'!G13 -> 43742.646 | H113: ='Отчет Окт К'!H13 -> П | ... AA113: ='Отчет Окт К'!AA13 -> 1
A114: ='Отчет Окт К'!A14 -> 110 | B114: ='Отчет Окт К'!B14 -> Участок №2 | C114: ='Отчет Окт К'!C14 -> ВЛ | D114: ='Отчет Окт К'!D14 -> ВЛ 0,4кВ КТП 12 ф.2 ПС ПС Сабурово 110/10кВ ф.7 | E114: ='Отчет Окт К'!E14 -> 0.38 | F114: ='Отчет Окт К'!F14 -> 43744.222 | G114: ='Отчет Окт К'!G14 -> 43744.479 | H114: ='Отчет Окт К'!H14 -> В | ... AA114: ='Отчет Окт К'!AA14 -> 1
A115: ='Отчет Окт К'!A15 -> 111 | B115: ='Отчет Окт К'!B15 -> Участок №1 | C115: ='Отчет Окт К'!C15 -> ВЛ | D115: ='Отчет Окт К'!D15 -> ВЛ 0,4кВ ЗТП 5 ф.2 ПС Зеленино 35/10кВ ф.3 | E115: ='Отчет Окт К'!E15 -> 0.38 | F115: ='Отчет Окт К'!F15 -> 43743.007 | G115: ='Отчет Окт К'!G15 -> 43743.41 | H115: ='Отчет Окт К'!H15 -> В | ... AA115: ='Отчет Окт К'!AA15 -> 1
A116: ='Отчет Окт К'!A16 -> 112 | B116: ='Отчет Окт К'!B16 -> Участок №1 | C116: ='Отчет Окт К'!C16 -> ВЛ | D116: ='Отчет Окт К'!D16 -> ВЛ 0,4кВ ЗТП 5 ф.2 ПС Зеленино 35/10кВ ф.3 | E116: ='Отчет Окт К'!E16 -> 0.38 | F116: ='Отчет Окт К'!F16 -> 43746.458 | G116: ='Отчет Окт К'!G16 -> 43746.562 | H116: ='Отчет Окт К'!H16 -> П | ... AA116: ='Отчет Окт К'!AA16 -> 1
A117: ='Отчет Окт К'!A17 -> 113 | B117: ='Отчет Окт К'!B17 -> Участок №3 | C117: ='Отчет Окт К'!C17 -> ВЛ | D117: ='Отчет Окт К'!D17 -> ВЛ 0,4кВ КТП 7 ПС Сынтул 35/10кВ ф.4 | E117: ='Отчет Окт К'!E17 -> 0.38 | F117: ='Отчет Окт К'!F17 -> 43752.417 | G117: ='Отчет Окт К'!G17 -> 43752.5 | H117: ='Отчет Окт К'!H17 -> П | ... AA117: ='Отчет Окт К'!AA17 -> 1
A118: ='Отчет Окт К'!A18 -> 114 | B118: ='Отчет Окт К'!B18 -> Участок №1 | C118: ='Отчет Окт К'!C18 -> ВЛ | D118: ='Отчет Окт К'!D18 -> ВЛ 0,4кВ ЗТП 2369 ПС Телебукино 35/10кВ ф.11 | E118: ='Отчет Окт К'!E18 -> 0.38 | F118: ='Отчет Окт К'!F18 -> 43752.417 | G118: ='Отчет Окт К'!G18 -> 43752.5 | H118: ='Отчет Окт К'!H18 -> П | ... AA118: ='Отчет Окт К'!AA18 -> 1
A119: ='Отчет Окт К'!A19 -> 115 | B119: ='Отчет Окт К'!B19 -> Участок №1 | C119: ='Отчет Окт К'!C19 -> ВЛ | D119: ='Отчет Окт К'!D19 -> ВЛ 0,4кВ ЗТП 2369 ПС Телебукино 35/10кВ ф.11 | E119: ='Отчет Окт К'!E19 -> 0.38 | F119: ='Отчет Окт К'!F19 -> 43753.417 | G119: ='Отчет Окт К'!G19 -> 43753.667 | H119: ='Отчет Окт К'!H19 -> П | ... AA119: ='Отчет Окт К'!AA19 -> 1
A120: ='Отчет Окт К'!A20 -> 116 | B120: ='Отчет Окт К'!B20 -> Участок №3 | C120: ='Отчет Окт К'!C20 -> ВЛ | D120: ='Отчет Окт К'!D20 -> ВЛ 0,4кВ КТП 7 ПС Сынтул 35/10кВ ф.4 | E120: ='Отчет Окт К'!E20 -> 0.38 | F120: ='Отчет Окт К'!F20 -> 43754.417 | G120: ='Отчет Окт К'!G20 -> 43754.583 | H120: ='Отчет Окт К'!H20 -> П | ... AA120: ='Отчет Окт К'!AA20 -> 0
A121: ='Отчет Окт К'!A21 -> 117 | B121: ='Отчет Окт К'!B21 -> Участок №3 | C121: ='Отчет Окт К'!C21 -> ВЛ | D121: ='Отчет Окт К'!D21 -> ВЛ 0,4кВ КТП 7 ПС Сынтул 35/10кВ ф.4 | E121: ='Отчет Окт К'!E21 -> 0.38 | F121: ='Отчет Окт К'!F21 -> 43755.417 | G121: ='Отчет Окт К'!G21 -> 43755.542 | H121: ='Отчет Окт К'!H21 -> П | ... AA121: ='Отчет Окт К'!AA21 -> 1
A122: ='Отчет Окт К'!A22 -> 118 | B122: ='Отчет Окт К'!B22 -> Участок №1 | C122: ='Отчет Окт К'!C22 -> ВЛ | D122: ='Отчет Окт К'!D22 -> ВЛ 10кВ №2 ПС Шостье 110/35/10кВ ф.2 | E122: ='Отчет Окт К'!E22 -> 10 (10.5) | F122: ='Отчет Окт К'!F22 -> 43759.375 | G122: ='Отчет Окт К'!G22 -> 43759.667 | H122: ='Отчет Окт К'!H22 -> В | ... AA122: ='Отчет Окт К'!AA22 -> 1
... A124: ='Отчет Окт К'!A24 -> 120 | B124: ='Отчет Окт К'!B24 -> Участок №1 | C124: ='Отчет Окт К'!C24 -> ВЛ | D124: ='Отчет Окт К'!D24 -> ВЛ 10кВ №12 ГПП Касимов 110/35/10кВ | E124: ='Отчет Окт К'!E24 -> 10 (10.5) | F124: ='Отчет Окт К'!F24 -> 43763.306 | G124: ='Отчет Окт К'!G24 -> 43763.347 | H124: ='Отчет Окт К'!H24 -> В | ... AA124: ='Отчет Окт К'!AA24 -> 0
A125: ='Отчет Ноя К'!A11 -> 121 | B125: ='Отчет Ноя К'!B11 -> Участок №1 | C125: ='Отчет Ноя К'!C11 -> ВЛ | D125: ='Отчет Ноя К'!D11 -> ВЛ 10кВ ЗТП 5 ф.2 ПС Лашма 35/10кВ ф.5 | E125: ='Отчет Ноя К'!E11 -> 10 (10.5) | F125: ='Отчет Ноя К'!F11 -> 43772.531 | G125: ='Отчет Ноя К'!G11 -> 43772.646 | H125: ='Отчет Ноя К'!H11 -> В | ... AA125: ='Отчет Ноя К'!AA11 -> 1
A126: ='Отчет Ноя К'!A12 -> 122 | B126: ='Отчет Ноя К'!B12 -> Участок №1 | C126: ='Отчет Ноя К'!C12 -> ВЛ | D126: ='Отчет Ноя К'!D12 -> ВЛ 10кВ №12 ГПП Касимов 110/35/10кВ | E126: ='Отчет Ноя К'!E12 -> 10 (10.5) | F126: ='Отчет Ноя К'!F12 -> 43772.604 | G126: ='Отчет Ноя К'!G12 -> 43772.646 | H126: ='Отчет Ноя К'!H12 -> В | ... AA126: ='Отчет Ноя К'!AA12 -> 1
A127: ='Отчет Ноя К'!A13 -> 123 | B127: ='Отчет Ноя К'!B13 -> Участок №1 | C127: ='Отчет Ноя К'!C13 -> ВЛ | D127: ='Отчет Ноя К'!D13 -> ВЛ 0,4кВ №1 КТП 2445 ПС Шостье110/35/10кВ ф.2 | E127: ='Отчет Ноя К'!E13 -> 0.38 | F127: ='Отчет Ноя К'!F13 -> 43773.521 | G127: ='Отчет Ноя К'!G13 -> 43773.625 | H127: ='Отчет Ноя К'!H13 -> В | ... AA127: ='Отчет Ноя К'!AA13 -> 1
A128: ='Отчет Ноя К'!A14 -> 124 | B128: ='Отчет Ноя К'!B14 -> Участок №1 | C128: ='Отчет Ноя К'!C14 -> ВЛ | D128: ='Отчет Ноя К'!D14 -> ВЛ 10кВ №12 ГПП Касимов 110/35/10кВ | E128: ='Отчет Ноя К'!E14 -> 10 (10.5) | F128: ='Отчет Ноя К'!F14 -> 43774.257 | G128: ='Отчет Ноя К'!G14 -> 43774.708 | H128: ='Отчет Ноя К'!H14 -> В | ... AA128: ='Отчет Ноя К'!AA14 -> 0
...

Sheet Отчет_январь
A2: Форма 8.1 - Журнал учёта данных первичной информации по всем прекращениям передачи электрической энергии, произошедших на объектах электросетевых организаций за | Q2: январь | R2: месяц | S2: 2019 | T2: года
A3: Муниципальное унитарное многоотраслевое предприятие жилищно-коммунального хозяйства Гусь-Железхный
A4: наименование электросетевой организации
A6: Данные о факте прекращения передачи электрической энергии | J6: Признак АПВ (1 - Успешно/0 - Не успешно/2 - Отсутствует/3 - не работала (по принципу действия или выведена по режиму)) | K6: Признак АВР (1 - Успешно/0 - Не успешно/2 - Отсутствует/3 - не работала (по принципу действия или выведена по режиму)) | L6: Данные о масштабе прекращения передачи электрической энергии в сетевой организации | Y6: Перечень смежных сетевых организаций, затронутых прекращением передачи электрической энергии | Z6: Данные о причинах прекращения передачи электрической энергии и их расследовании | AC6: Учет в показателях надежности, в т.ч. индикативных показателях надежности (0 - нет, 1 - да)
A7: Номер прекращения передачи электрической энергии / Номер итоговой строки | B7: Наименование структурной единицы сетевой организации | C7: Вид объекта: КЛ, ВЛ, КВЛ, ПС, ТП, РП | D7: Диспетчерское наименование объекта электросетевого хозяйства сетевой организации, в результате отключения которой произошло прекращение передачи электроэнергии потребителям услуг | E7: Высший класс напряжения отключенного оборудования сетевой организации, кВ | F7: Время и дата начала прекращения передачи электрической энергии по местному времени (часы, минуты, ГГГГ.ММ.ДД) | G7: Время и дата восстановления режима потребления электрической энергии потребителей услуг (часы, минуты, ГГГГ.ММ.ДД) | H7: Вид прекращения передачи электроэнергии (П, А, В) | I7: Продолжительность прекращения передачи электрической энергии, час | L7: Перечень объектов электросетевого хозяйства, отключение которых привело к прекращению передачи электрической энергии потребителям услуг (ПС, ТП, РП, ВЛ, КЛ) | M7: Перечень потребителей 1-й и 2-й категорий надежности, в отношении которых произошло полное ограничение режима потребления электрической энергии | N7: Перечень потребителей 1-й и 2-й категорий надежности, в отношении которых произошло частичное ограничение режима потребления электрической энергии | O7: Количество точек поставки потребителей услуг сетевой организации, в отношении которых произошел перерыв электроснабжения, шт., в том числе: | X7: Суммарный объем фактической нагрузки (мощности) на присоединениях потребителей услуг, по которым произошло прекращение передачи электрической энергии на момент возникновения такого события, кВт
O8: ВСЕГО | P8: в разделении категорий надежности потребителей электрической энергии | S8: в разделении уровней напряжения ЭПУ потребителя электрической энергии | W8: Смежные сетевые организации и производители электрической энергии | Z8: Номер и дата акта расследования технологического нарушения, записи в оперативном журнале | AA8: Код организационной причины аварии | AB8: Код технической причины повреждения оборудования
P9: 1-я категория надежности | Q9: 2-я категория надежности | R9: 3-я категория надежности | S9: ВН (110 кВ и выше) | T9: СН1 (35 кВ) | U9: СН2 (6-20 кВ) | V9: НН (0,22-1 кВ) | AD9: 0.041666667
A10: 1 | B10: 2 | C10: 3 | D10: 4 | E10: 5 | F10: 6 | G10: 7 | H10: 8 | I10: 9 | J10: 10 | K10: 11 | L10: 12 | M10: 13 | N10: 14 | O10: 15 | P10: 16 | Q10: 17 | R10: 18 | S10: 19 | T10: 20 | U10: 21 | V10: 22 | W10: 23 | X10: 24 | Y10: 25 | Z10: 26 | AA10: 27 | AB10: 28 | AC10: 29
A11: 1 | B11: Участок №3 | C11: ВЛ | D11: ПС 35/10кВ Сынтул ВЛ 10кВ, ф4, тп6 | E11: 10 (10.5) | F11: 43464.084 | G11: 43464.281 | H11: В | I11: =(G11-F11)/AD9 -> 4.7333333 | J11: 2 | K11: 2 | L11: ВЛ 10кВ, Ф4 | M11: 0 | N11: 0 | O11: 623 | P11: 0 | Q11: 0 | R11: 623 | S11: 0 | T11: 0 | U11: 0 | V11: 623 | W11: 0 | X11: 218.5 | Z11: №1 30.12.2018 | AA11: 3.4.7.3 | AB11: 4.12 | AC11: 1
A12: 2 | B12: Участок №3 | C12: ВЛ | D12: ПС 35/10кВ Сынтул ВЛ 10кВ, ф4, тп1 | E12: 0.38 | F12: 43484.01 | G12: 43484.106 | H12: В | I12: =(G12-F12)/$AD$9 -> 2.3 | J12: 2 | K12: 2 | L12: ВЛ 0,4кВ, Ф2 | M12: 0 | N12: 0 | O12: 112 | P12: 0 | Q12: 0 | R12: 112 | S12: 0 | T12: 0 | U12: 0 | V12: 112 | W12: 0 | X12: 5.8 | Z12: №2 21.01.2018 | AA12: 3.4.8.4 | AB12: 4.4 | AC12: 1

Sheet Отчет_февраль
A2: Форма 8.1 - Журнал учёта данных первичной информации по всем прекращениям передачи электрической энергии, произошедших на объектах электросетевых организаций за | Q2: январь | R2: месяц | S2: 2019 | T2: года
A3: Муниципальное унитарное многоотраслевое предприятие жилищно-коммунального хозяйства Гусь-Железхный
A4: наименование электросетевой организации
A6: Данные о факте прекращения передачи электрической энергии | J6: Признак АПВ (1 - Успешно/0 - Не успешно/2 - Отсутствует/3 - не работала (по принципу действия или выведена по режиму)) | K6: Признак АВР (1 - Успешно/0 - Не успешно/2 - Отсутствует/3 - не работала (по принципу действия или выведена по режиму)) | L6: Данные о масштабе прекращения передачи электрической энергии в сетевой организации | Y6: Перечень смежных сетевых организаций, затронутых прекращением передачи электрической энергии | Z6: Данные о причинах прекращения передачи электрической энергии и их расследовании | AC6: Учет в показателях надежности, в т.ч. индикативных показателях надежности (0 - нет, 1 - да)
A7: Номер прекращения передачи электрической энергии / Номер итоговой строки | B7: Наименование структурной единицы сетевой организации | C7: Вид объекта: КЛ, ВЛ, КВЛ, ПС, ТП, РП | D7: Диспетчерское наименование объекта электросетевого хозяйства сетевой организации, в результате отключения которой произошло прекращение передачи электроэнергии потребителям услуг | E7: Высший класс напряжения отключенного оборудования сетевой организации, кВ | F7: Время и дата начала прекращения передачи электрической энергии по местному времени (часы, минуты, ГГГГ.ММ.ДД) | G7: Время и дата восстановления режима потребления электрической энергии потребителей услуг (часы, минуты, ГГГГ.ММ.ДД) | H7: Вид прекращения передачи электроэнергии (П, А, В) | I7: Продолжительность прекращения передачи электрической энергии, час | L7: Перечень объектов электросетевого хозяйства, отключение которых привело к прекращению передачи электрической энергии потребителям услуг (ПС, ТП, РП, ВЛ, КЛ) | M7: Перечень потребителей 1-й и 2-й категорий надежности, в отношении которых произошло полное ограничение режима потребления электрической энергии | N7: Перечень потребителей 1-й и 2-й категорий надежности, в отношении которых произошло частичное ограничение режима потребления электрической энергии | O7: Количество точек поставки потребителей услуг сетевой организации, в отношении которых произошел перерыв электроснабжения, шт., в том числе: | X7: Суммарный объем фактической нагрузки (мощности) на присоединениях потребителей услуг, по которым произошло прекращение передачи электрической энергии на момент возникновения такого события, кВт
O8: ВСЕГО | P8: в разделении категорий надежности потребителей электрической энергии | S8: в разделении уровней напряжения ЭПУ потребителя электрической энергии | W8: Смежные сетевые организации и производители электрической энергии | Z8: Номер и дата акта расследования технологического нарушения, записи в оперативном журнале | AA8: Код организационной причины аварии | AB8: Код технической причины повреждения оборудования
P9: 1-я категория надежности | Q9: 2-я категория надежности | R9: 3-я категория надежности | S9: ВН (110 кВ и выше) | T9: СН1 (35 кВ) | U9: СН2 (6-20 кВ) | V9: НН (0,22-1 кВ) | AD9: 0.041666667
A10: 1 | B10: 2 | C10: 3 | D10: 4 | E10: 5 | F10: 6 | G10: 7 | H10: 8 | I10: 9 | J10: 10 | K10: 11 | L10: 12 | M10: 13 | N10: 14 | O10: 15 | P10: 16 | Q10: 17 | R10: 18 | S10: 19 | T10: 20 | U10: 21 | V10: 22 | W10: 23 | X10: 24 | Y10: 25 | Z10: 26 | AA10: 27 | AB10: 28 | AC10: 29
A11: 3 | B11: Участок №1 | C11: ТП | D11: ПС 110/35/10кВ Шостье ВЛ 10кВ, ф2, ЗТП2576, ф1 | E11: 0.38 | F11: 43512.334 | G11: 43512.531 | H11: В | I11: =(G11-F11)/AD9 -> 4.7333333 | J11: 2 | K11: 2 | L11: ЗТП2576 ф.1 | M11: 0 | N11: 0 | O11: 42 | P11: 0 | Q11: 0 | R11: 42 | S11: 0 | T11: 0 | U11: 0 | V11: 42 | W11: 0 | X11: =0.065*V11 -> 2.73 | Z11: №3 17.02.2019 | AA11: 3.4.12.2 | AB11: 4.10 | AC11: 1
A12: 4 | B12: Участок №1 | C12: ТП | D12: ПС 35/10кВ Зеленино ВЛ 10кВ, ф3, ЗТП5, ф4. | E12: 0.38 | F12: 43513.635 | G12: 43513.765 | H12: В | I12: =(G12-F12)/$AD$9 -> 3.1333333 | J12: 2 | K12: 2 | L12: ЗТП5 ф.4 | M12: 0 | N12: 0 | O12: 162 | P12: 0 | Q12: 0 | R12: 162 | S12: 0 | T12: 0 | U12: 0 | V12: 162 | W12: 0 | X12: =0.065*V12 -> 10.53 | Z12: №4 18.02.2019 | AA12: 3.4.12.2 | AB12: 4.10 | AC12: 1
A13: 5 | B13: Участок №1 | C13: ТП | D13: ПС 110/35/10кВ Касимов ВЛ 10кВ, ф12, МТП2591, ф.1 | E13: 0.38 | F13: 43513.814 | G13: 43513.85 | H13: В | I13: =(G13-F13)/$AD$9 -> 0.86666667 | J13: 2 | K13: 2 | L13: МТП2591, ф.1 | M13: 0 | N13: 0 | O13: 58 | P13: 0 | Q13: 0 | R13: 58 | S13: 0 | T13: 0 | U13: 0 | V13: 58 | W13: 0 | X13: =0.132*V13 -> 7.656 | Z13: №5 18.02.2019 | AA13: 3.4.12.2 | AB13: 4.10 | AC13: 1
A14: 6 | B14: Участок №1 | C14: ТП | D14: ПС 35/10кВ Лашма ВЛ 10кВ, ф3, ЗТП8, ф2 | E14: 0.38 | F14: 43514.419 | G14: 43514.5 | H14: В | I14: =(G14-F14)/$AD$9 -> 1.95 | J14: 2 | K14: 2 | L14: ЗТП8, ф2. | M14: 0 | N14: 0 | O14: 49 | P14: 0 | Q14: 0 | R14: 49 | S14: 0 | T14: 0 | U14: 0 | V14: 49 | W14: 0 | X14: =0.065*V14 -> 3.185 | Z14: №6 19.02.2019 | AA14: 3.4.12.2 | AB14: 4.10 | AC14: 1
A15: 7 | B15: Участок №1 | C15: ВЛ | D15: ПС 35/10кВ Телебукино ВЛ 10кВ, ф14 | E15: 10 (10.5) | F15: 43517.293 | G15: 43517.564 | H15: В | I15: =(G15-F15)/$AD$9 -> 6.5 | J15: 2 | K15: 2 | L15: ВЛ 10кВ, ф14 | M15: 0 | N15: 0 | O15: 77 | P15: 0 | Q15: 0 | R15: 77 | S15: 0 | T15: 0 | U15: 0 | V15: 77 | W15: 0 | X15: =0.065*V15+32 -> 37.005 | Z15: №7 19.02.2019 | AA15: 3.4.9.1 | AB15: 4.21 | AC15: 0

Sheet Отчет_март
A2: Форма 8.1 - Журнал учёта данных первичной информации по всем прекращениям передачи электрической энергии, произошедших на объектах электросетевых организаций за | Q2: январь | R2: месяц | S2: 2019 | T2: года
A3: Муниципальное унитарное многоотраслевое предприятие жилищно-коммунального хозяйства Гусь-Железхный
A4: наименование электросетевой организации
A6: Данные о факте прекращения передачи электрической энергии | J6: Признак АПВ (1 - Успешно/0 - Не успешно/2 - Отсутствует/3 - не работала (по принципу действия или выведена по режиму)) | K6: Признак АВР (1 - Успешно/0 - Не успешно/2 - Отсутствует/3 - не работала (по принципу действия или выведена по режиму)) | L6: Данные о масштабе прекращения передачи электрической энергии в сетевой организации | Y6: Перечень смежных сетевых организаций, затронутых прекращением передачи электрической энергии | Z6: Данные о причинах прекращения передачи электрической энергии и их расследовании | AC6: Учет в показателях надежности, в т.ч. индикативных показателях надежности (0 - нет, 1 - да)
A7: Номер прекращения передачи электрической энергии / Номер итоговой строки | B7: Наименование структурной единицы сетевой организации | C7: Вид объекта: КЛ, ВЛ, КВЛ, ПС, ТП, РП | D7: Диспетчерское наименование объекта электросетевого хозяйства сетевой организации, в результате отключения которой произошло прекращение передачи электроэнергии потребителям услуг | E7: Высший класс напряжения отключенного оборудования сетевой организации, кВ | F7: Время и дата начала прекращения передачи электрической энергии по местному времени (часы, минуты, ГГГГ.ММ.ДД) | G7: Время и дата восстановления режима потребления электрической энергии потребителей услуг (часы, минуты, ГГГГ.ММ.ДД) | H7: Вид прекращения передачи электроэнергии (П, А, В) | I7: Продолжительность прекращения передачи электрической энергии, час | L7: Перечень объектов электросетевого хозяйства, отключение которых привело к прекращению передачи электрической энергии потребителям услуг (ПС, ТП, РП, ВЛ, КЛ) | M7: Перечень потребителей 1-й и 2-й категорий надежности, в отношении которых произошло полное ограничение режима потребления электрической энергии | N7: Перечень потребителей 1-й и 2-й категорий надежности, в отношении которых произошло частичное ограничение режима потребления электрической энергии | O7: Количество точек поставки потребителей услуг сетевой организации, в отношении которых произошел перерыв электроснабжения, шт., в том числе: | X7: Суммарный объем фактической нагрузки (мощности) на присоединениях потребителей услуг, по которым произошло прекращение передачи электрической энергии на момент возникновения такого события, кВт
O8: ВСЕГО | P8: в разделении категорий надежности потребителей электрической энергии | S8: в разделении уровней напряжения ЭПУ потребителя электрической энергии | W8: Смежные сетевые организации и производители электрической энергии | Z8: Номер и дата акта расследования технологического нарушения, записи в оперативном журнале | AA8: Код организационной причины аварии | AB8: Код технической причины повреждения оборудования
P9: 1-я категория надежности | Q9: 2-я категория надежности | R9: 3-я категория надежности | S9: ВН (110 кВ и выше) | T9: СН1 (35 кВ) | U9: СН2 (6-20 кВ) | V9: НН (0,22-1 кВ) | AD9: 0.041666667
A10: 1 | B10: 2 | C10: 3 | D10: 4 | E10: 5 | F10: 6 | G10: 7 | H10: 8 | I10: 9 | J10: 10 | K10: 11 | L10: 12 | M10: 13 | N10: 14 | O10: 15 | P10: 16 | Q10: 17 | R10: 18 | S10: 19 | T10: 20 | U10: 21 | V10: 22 | W10: 23 | X10: 24 | Y10: 25 | Z10: 26 | AA10: 27 | AB10: 28 | AC10: 29
A11: 3 | B11: Участок №1 | C11: ТП | D11: ПС 110/35/10кВ Шостье ВЛ 10кВ, ф2, ЗТП2576, ф1 | E11: 0.38 | F11: 43512.334 | G11: 43512.531 | H11: В | I11: =(G11-F11)/AD9 -> 4.7333333 | J11: 2 | K11: 2 | L11: ЗТП2576 ф.1 | M11: 0 | N11: 0 | O11: 42 | P11: 0 | Q11: 0 | R11: 42 | S11: 0 | T11: 0 | U11: 0 | V11: 42 | W11: 0 | X11: =0.065*V11 -> 2.73 | Z11: №3 17.02.2019 | AA11: 3.4.12.2 | AB11: 4.10 | AC11: 1
A12: 4 | B12: Участок №1 | C12: ТП | D12: ПС 35/10кВ Зеленино ВЛ 10кВ, ф3, ЗТП5, ф4. | E12: 0.38 | F12: 43513.635 | G12: 43513.765 | H12: В | I12: =(G12-F12)/$AD$9 -> 3.1333333 | J12: 2 | K12: 2 | L12: ЗТП5 ф.4 | M12: 0 | N12: 0 | O12: 162 | P12: 0 | Q12: 0 | R12: 162 | S12: 0 | T12: 0 | U12: 0 | V12: 162 | W12: 0 | X12: =0.065*V12 -> 10.53 | Z12: №4 18.02.2019 | AA12: 3.4.12.2 | AB12: 4.10 | AC12: 1
A13: 5 | B13: Участок №1 | C13: ТП | D13: ПС 110/35/10кВ Касимов ВЛ 10кВ, ф12, МТП2591, ф.1 | E13: 0.38 | F13: 43513.814 | G13: 43513.85 | H13: В | I13: =(G13-F13)/$AD$9 -> 0.86666667 | J13: 2 | K13: 2 | L13: МТП2591, ф.1 | M13: 0 | N13: 0 | O13: 58 | P13: 0 | Q13: 0 | R13: 58 | S13: 0 | T13: 0 | U13: 0 | V13: 58 | W13: 0 | X13: =0.132*V13 -> 7.656 | Z13: №5 18.02.2019 | AA13: 3.4.12.2 | AB13: 4.10 | AC13: 1
A14: 6 | B14: Участок №1 | C14: ТП | D14: ПС 35/10кВ Лашма ВЛ 10кВ, ф3, ЗТП8, ф2 | E14: 0.38 | F14: 43514.419 | G14: 43514.5 | H14: В | I14: =(G14-F14)/$AD$9 -> 1.95 | J14: 2 | K14: 2 | L14: ЗТП8, ф2. | M14: 0 | N14: 0 | O14: 49 | P14: 0 | Q14: 0 | R14: 49 | S14: 0 | T14: 0 | U14: 0 | V14: 49 | W14: 0 | X14: =0.065*V14 -> 3.185 | Z14: №6 19.02.2019 | AA14: 3.4.12.2 | AB14: 4.10 | AC14: 1
A15: 7 | B15: Участок №1 | C15: ВЛ | D15: ПС 35/10кВ Телебукино ВЛ 10кВ, ф14 | E15: 10 (10.5) | F15: 43517.293 | G15: 43517.564 | H15: В | I15: =(G15-F15)/$AD$9 -> 6.5 | J15: 2 | K15: 2 | L15: ВЛ 10кВ, ф14 | M15: 0 | N15: 0 | O15: 77 | P15: 0 | Q15: 0 | R15: 77 | S15: 0 | T15: 0 | U15: 0 | V15: 77 | W15: 0 | X15: =0.065*V15+32 -> 37.005 | Z15: №7 19.02.2019 | AA15: 3.4.9.1 | AB15: 4.21 | AC15: 0
A16: 8 | B16: Участок №1 | C16: ВЛ | D16: ПС 35/10кВ Лашма ВЛ 10кВ, ф5 | E16: 10 (10.5) | F16: 43541.46 | G16: 43541.613 | H16: В | I16: =(G16-F16)/$AD$9 -> 3.6666667 | J16: 2 | K16: 2 | L16: ВЛ 10кВ, ф5 | M16: 0 | N16: 0 | O16: 495 | P16: 0 | Q16: 0 | R16: 495 | S16: 0 | T16: 0 | U16: 0 | V16: 495 | W16: 0 | X16: =0.065*V16-5+24 -> 51.175 | Z16: №8 18.03.2019 | AA16: 3.4.14 | AB16: 4.21 | AC16: 1

Sheet Отчет_апрель
A2: Форма 8.1 - Журнал учёта данных первичной информации по всем прекращениям передачи электрической энергии, произошедших на объектах электросетевых организаций за | Q2: январь | R2: месяц | S2: 2019 | T2: года
A3: Муниципальное унитарное многоотраслевое предприятие жилищно-коммунального хозяйства Гусь-Железхный
A4: наименование электросетевой организации
A6: Данные о факте прекращения передачи электрической энергии | J6: Признак АПВ (1 - Успешно/0 - Не успешно/2 - Отсутствует/3 - не работала (по принципу действия или выведена по режиму)) | K6: Признак АВР (1 - Успешно/0 - Не успешно/2 - Отсутствует/3 - не работала (по принципу действия или выведена по режиму)) | L6: Данные о масштабе прекращения передачи электрической энергии в сетевой организации | Y6: Перечень смежных сетевых организаций, затронутых прекращением передачи электрической энергии | Z6: Данные о причинах прекращения передачи электрической энергии и их расследовании | AC6: Учет в показателях надежности, в т.ч. индикативных показателях надежности (0 - нет, 1 - да)
A7: Номер прекращения передачи электрической энергии / Номер итоговой строки | B7: Наименование структурной единицы сетевой организации | C7: Вид объекта: КЛ, ВЛ, КВЛ, ПС, ТП, РП | D7: Диспетчерское наименование объекта электросетевого хозяйства сетевой организации, в результате отключения которой произошло прекращение передачи электроэнергии потребителям услуг | E7: Высший класс напряжения отключенного оборудования сетевой организации, кВ | F7: Время и дата начала прекращения передачи электрической энергии по местному времени (часы, минуты, ГГГГ.ММ.ДД) | G7: Время и дата восстановления режима потребления электрической энергии потребителей услуг (часы, минуты, ГГГГ.ММ.ДД) | H7: Вид прекращения передачи электроэнергии (П, А, В) | I7: Продолжительность прекращения передачи электрической энергии, час | L7: Перечень объектов электросетевого хозяйства, отключение которых привело к прекращению передачи электрической энергии потребителям услуг (ПС, ТП, РП, ВЛ, КЛ) | M7: Перечень потребителей 1-й и 2-й категорий надежности, в отношении которых произошло полное ограничение режима потребления электрической энергии | N7: Перечень потребителей 1-й и 2-й категорий надежности, в отношении которых произошло частичное ограничение режима потребления электрической энергии | O7: Количество точек поставки потребителей услуг сетевой организации, в отношении которых произошел перерыв электроснабжения, шт., в том числе: | X7: Суммарный объем фактической нагрузки (мощности) на присоединениях потребителей услуг, по которым произошло прекращение передачи электрической энергии на момент возникновения такого события, кВт
O8: ВСЕГО | P8: в разделении категорий надежности потребителей электрической энергии | S8: в разделении уровней напряжения ЭПУ потребителя электрической энергии | W8: Смежные сетевые организации и производители электрической энергии | Z8: Номер и дата акта расследования технологического нарушения, записи в оперативном журнале | AA8: Код организационной причины аварии | AB8: Код технической причины повреждения оборудования
P9: 1-я категория надежности | Q9: 2-я категория надежности | R9: 3-я категория надежности | S9: ВН (110 кВ и выше) | T9: СН1 (35 кВ) | U9: СН2 (6-20 кВ) | V9: НН (0,22-1 кВ) | AD9: 0.041666667
A10: 1 | B10: 2 | C10: 3 | D10: 4 | E10: 5 | F10: 6 | G10: 7 | H10: 8 | I10: 9 | J10: 10 | K10: 11 | L10: 12 | M10: 13 | N10: 14 | O10: 15 | P10: 16 | Q10: 17 | R10: 18 | S10: 19 | T10: 20 | U10: 21 | V10: 22 | W10: 23 | X10: 24 | Y10: 25 | Z10: 26 | AA10: 27 | AB10: 28 | AC10: 29
A11: 9 | B11: Участок №1 | C11: ВЛ | D11: ПС 35/10кВ Затон ВЛ 10кВ, ф2 | E11: 10 (10.5) | F11: 43565.708 | G11: 43565.844 | H11: В | I11: =(G11-F11)/$AD$9 -> 3.25 | J11: 2 | K11: 2 | L11: ВЛ 10кВ, №2 | M11: 0 | N11: 0 | O11: 55 | P11: 0 | Q11: 0 | R11: 55 | S11: 0 | T11: 0 | U11: 0 | V11: 55 | X11: =0.065*V11+2*3 -> 9.575 | Z11: №9 10.04.2019 | AA11: 3.4.9.1 | AB11: 4.21 | AC11: 0
A12: 10 | B12: Участок №1 | C12: ВЛ | D12: ПС 35/10кВ Затон ВЛ 10кВ, ф2 ТП Бургаз , ф1 | E12: 0.38 | F12: 43567.625 | G12: 43567.792 | H12: В | I12: =(G12-F12)/$AD$9 -> 4 | J12: 2 | K12: 2 | L12: ВЛ 0,4кВ, №2 | M12: 0 | N12: 0 | O12: 52 | P12: 0 | Q12: 0 | R12: 52 | S12: 0 | T12: 0 | U12: 0 | V12: 52 | X12: =0.065*V12 -> 3.38 | Z12: №10 11.04.2019 | AA12: 3.4.9.3 | AB12: 4.12 | AC12: 0
A13: 11 | B13: Участок №1 | C13: ВЛ | D13: ПС110/10кВ Бельки ф.6 ВЛ10кВ№6 | E13: 10 (10.5) | F13: 43568.271 | G13: 43568.299 | H13: В | I13: =(G13-F13)/$AD$9 -> 0.66666667 | J13: 2 | K13: 2 | L13: ВЛ 10кВ, №6 | M13: 0 | N13: 0 | O13: 1039 | P13: 0 | Q13: 0 | R13: 1039 | S13: 0 | T13: 0 | U13: 0 | V13: 1039 | X13: =0.065*V13+21 -> 88.535 | Z13: №11 15.04.2019 | AA13: 3.4.9.1 | AB13: 4.21 | AC13: 0
A14: 12 | B14: Участок №1 | C14: ВЛ | D14: ПС Сабурово 110/10кВ ВЛ 10кВ ф.7 | E14: 11 (10.5) | F14: 43579.522 | G14: 43579.53 | H14: В | I14: =(G14-F14)/$AD$9 -> 0.18333333 | J14: 2 | K14: 2 | L14: ВЛ 10кВ, №7 | M14: 0 | N14: 0 | O14: 1716 | P14: 0 | Q14: 0 | R14: 1716 | S14: 0 | T14: 0 | U14: 0 | V14: 1716 | X14: =0.065*V14+400 -> 511.54 | Z14: №12 15.04.2020 | AA14: 3.4.9.1 | AB14: 4.21 | AC14: 0

Sheet Отчет_апрель_(2)
A2: Форма 8.1 - Журнал учёта данных первичной информации по всем прекращениям передачи электрической энергии, произошедших на объектах электросетевых организаций за | Q2: апрель | R2: месяц | S2: 2019 | T2: года
A3: Муниципальное унитарное многоотраслевое предприятие жилищно-коммунального хозяйства Гусь-Железхный
A4: наименование электросетевой организации
A6: Данные о факте прекращения передачи электрической энергии | J6: Признак АПВ (1 - Успешно/0 - Не успешно/2 - Отсутствует/3 - не работала (по принципу действия или выведена по режиму)) | K6: Признак АВР (1 - Успешно/0 - Не успешно/2 - Отсутствует/3 - не работала (по принципу действия или выведена по режиму)) | L6: Данные о масштабе прекращения передачи электрической энергии в сетевой организации | Y6: Перечень смежных сетевых организаций, затронутых прекращением передачи электрической энергии | Z6: Данные о причинах прекращения передачи электрической энергии и их расследовании | AC6: Учет в показателях надежности, в т.ч. индикативных показателях надежности (0 - нет, 1 - да)
A7: Номер прекращения передачи электрической энергии / Номер итоговой строки | B7: Наименование структурной единицы сетевой организации | C7: Вид объекта: КЛ, ВЛ, КВЛ, ПС, ТП, РП | D7: Диспетчерское наименование объекта электросетевого хозяйства сетевой организации, в результате отключения которой произошло прекращение передачи электроэнергии потребителям услуг | E7: Высший класс напряжения отключенного оборудования сетевой организации, кВ | F7: Время и дата начала прекращения передачи электрической энергии по местному времени (часы, минуты, ГГГГ.ММ.ДД) | G7: Время и дата восстановления режима потребления электрической энергии потребителей услуг (часы, минуты, ГГГГ.ММ.ДД) | H7: Вид прекращения передачи электроэнергии (П, А, В) | I7: Продолжительность прекращения передачи электрической энергии, час | L7: Перечень объектов электросетевого хозяйства, отключение которых привело к прекращению передачи электрической энергии потребителям услуг (ПС, ТП, РП, ВЛ, КЛ) | M7: Перечень потребителей 1-й и 2-й категорий надежности, в отношении которых произошло полное ограничение режима потребления электрической энергии | N7: Перечень потребителей 1-й и 2-й категорий надежности, в отношении которых произошло частичное ограничение режима потребления электрической энергии | O7: Количество точек поставки потребителей услуг сетевой организации, в отношении которых произошел перерыв электроснабжения, шт., в том числе: | X7: Суммарный объем фактической нагрузки (мощности) на присоединениях потребителей услуг, по которым произошло прекращение передачи электрической энергии на момент возникновения такого события, кВт
O8: ВСЕГО | P8: в разделении категорий надежности потребителей электрической энергии | S8: в разделении уровней напряжения ЭПУ потребителя электрической энергии | W8: Смежные сетевые организации и производители электрической энергии | Z8: Номер и дата акта расследования технологического нарушения, записи в оперативном журнале | AA8: Код организационной причины аварии | AB8: Код технической причины повреждения оборудования
P9: 1-я категория надежности | Q9: 2-я категория надежности | R9: 3-я категория надежности | S9: ВН (110 кВ и выше) | T9: СН1 (35 кВ) | U9: СН2 (6-20 кВ) | V9: НН (0,22-1 кВ) | AD9: 0.041666667
A10: 1 | B10: 2 | C10: 3 | D10: 4 | E10: 5 | F10: 6 | G10: 7 | H10: 8 | I10: 9 | J10: 10 | K10: 11 | L10: 12 | M10: 13 | N10: 14 | O10: 15 | P10: 16 | Q10: 17 | R10: 18 | S10: 19 | T10: 20 | U10: 21 | V10: 22 | W10: 23 | X10: 24 | Y10: 25 | Z10: 26 | AA10: 27 | AB10: 28 | AC10: 29
A11: 9 | B11: Участок №2 | C11: ВЛ | D11: ПС Сабурово 110/10кВ ВЛ 10кВ ф.7 КТП 5, ВЛ 0,4кВ | E11: 0.38 | F11: 43550.365 | G11: 43550.5 | H11: П | I11: =(G11-F11)/$AD$9 -> 3.25 | J11: х | K11: х | L11: ВЛ 0,4кВ, №1 | M11: 0 | N11: 0 | O11: 62 | P11: 0 | Q11: 0 | R11: 62 | S11: 0 | T11: 0 | U11: 0 | V11: 62 | X11: =0.065*V11+12 -> 16.03 | Z11: х | AA11: х | AB11: х
A12: 10 | B12: Участок №2 | C12: ВЛ | D12: ПС Сабурово 110/10кВ ВЛ 10кВ ф.7 | E12: 10 (10.5) | F12: 43559.375 | G12: 43559.646 | H12: П | I12: =(G12-F12)/$AD$9 -> 6.5 | J12: х | K12: х | L12: ВЛ 10кВ, №7 | M12: 0 | N12: 0 | O12: 1716 | P12: 0 | Q12: 0 | R12: 1716 | S12: 0 | T12: 0 | U12: 0 | V12: 1716 | X12: =0.065*V12+400 -> 511.54 | Z12: х | AA12: х | AB12: х | AC12: 0
A13: 11 | B13: Участок №2 | C13: ВЛ | D13: ПС Сабурово 110/10кВ ВЛ 10кВ ф.7 КТП 8, ВЛ 0,4кВ | E13: 0.38 | F13: 43561.354 | G13: 43561.396 | H13: П | I13: =(G13-F13)/$AD$9 -> 1 | J13: х | K13: х | L13: ВЛ 0,4кВ, №2 | M13: 0 | N13: 0 | O13: 42 | P13: 0 | Q13: 0 | R13: 42 | S13: 0 | T13: 0 | U13: 0 | V13: 42 | X13: =0.065*V13 -> 2.73 | Z13: х | AA13: х | AB13: х | AC13: 0
A14: 12 | B14: Участок №2 | C14: ВЛ | D14: ПС Сабурово 110/10кВ ВЛ 10кВ ф.7 ЗТП 4, ВЛ 0,4кВ | E14: 0.38 | F14: 43565.417 | G14: 43565.479 | H14: П | I14: =(G14-F14)/$AD$9 -> 1.5 | J14: х | K14: х | L14: ВЛ 0,4кВ, №2 | M14: 0 | N14: 0 | O14: 57 | P14: 0 | Q14: 0 | R14: 57 | S14: 0 | T14: 0 | U14: 0 | V14: 57 | X14: =0.065*V14+15 -> 18.705 | Z14: х | AA14: х | AB14: х | AC14: 0
A15: 13 | B15: Участок №1 | C15: ВЛ | D15: ПС 35/10кВ Затон ВЛ 10кВ, ф2 | E15: 10 (10.5) | F15: 43565.708 | G15: 43565.844 | H15: В | I15: =(G15-F15)/$AD$9 -> 3.25 | J15: 2 | K15: 2 | L15: ВЛ 10кВ, №2 | M15: 0 | N15: 0 | O15: 55 | P15: 0 | Q15: 0 | R15: 55 | S15: 0 | T15: 0 | U15: 0 | V15: 55 | X15: =0.065*V15+2*3 -> 9.575 | Z15: №9 10.04.2019 | AA15: 3.4.9.1 | AB15: 4.21 | AC15: 0
A16: 14 | B16: Участок №1 | C16: ВЛ | D16: ПС 35/10кВ Затон ВЛ 10кВ, ф2 ТП Бургаз , ф1 | E16: 0.38 | F16: 43567.625 | G16: 43567.792 | H16: В | I16: =(G16-F16)/$AD$9 -> 4 | J16: 2 | K16: 2 | L16: ВЛ 0,4кВ, №1 | M16: 0 | N16: 0 | O16: 52 | P16: 0 | Q16: 0 | R16: 52 | S16: 0 | T16: 0 | U16: 0 | V16: 52 | X16: =0.065*V16 -> 3.38 | Z16: №10 11.04.2019 | AA16: 3.4.9.3 | AB16: 4.12 | AC16: 0
A17: 15 | B17: Участок №1 | C17: ВЛ | D17: ПС 35/10кВ Затон ВЛ 10кВ, ф2 | E17: 10 (10.5) | F17: 43567.458 | G17: 43567.594 | H17: П | I17: =(G17-F17)/$AD$9 -> 3.25 | J17: 2 | K17: 2 | L17: ВЛ 10кВ, №2 | M17: 0 | N17: 0 | O17: 55 | P17: 0 | Q17: 0 | R17: 55 | S17: 0 | T17: 0 | U17: 0 | V17: 55 | X17: =0.065*V17+2*3 -> 9.575 | Z17: №9 10.04.2019 | AA17: 3.4.9.1 | AB17: 4.21 | AC17: 0
A18: 16 | B18: Участок №2 | C18: ВЛ | D18: ПС 35/10кВ Телебукино ВЛ.14, КТП 2 ВЛ 0,4кВ№2 | E18: 0.38 | F18: 43567.583 | G18: 43567.667 | H18: П | I18: =(G18-F18)/$AD$9 -> 2 | J18: 2 | K18: 2 | L18: ВЛ 0,4кВ, №2 | M18: 0 | N18: 0 | O18: 39 | P18: 0 | Q18: 0 | R18: 39 | S18: 0 | T18: 0 | U18: 0 | V18: 39 | X18: =0.065*V18+4.8 -> 7.335 | Z18: х | AA18: х | AB18: х | AC18: 0
A19: 17 | B19: Участок №3 | C19: ВЛ | D19: ПС110/10кВ Бельки ф.6 ВЛ10кВ№6 | E19: 10 (10.5) | F19: 43568.271 | G19: 43568.299 | H19: В | I19: =(G19-F19)/$AD$9 -> 0.66666667 | J19: 2 | K19: 2 | L19: ВЛ 10кВ, №6 | M19: 0 | N19: 0 | O19: 1039 | P19: 0 | Q19: 0 | R19: 1039 | S19: 0 | T19: 0 | U19: 0 | V19: 1039 | X19: =0.065*V19+21 -> 88.535 | Z19: №11 15.04.2019 | AA19: 3.4.9.1 | AB19: 4.21 | AC19: 0
A20: 18 | B20: Участок №3 | C20: ВЛ | D20: ПС110/10кВ Бельки ф.6 ВЛ10кВ№7 | E20: 11 (10.5) | F20: 43571.667 | G20: 43571.799 | H20: П | I20: =(G20-F20)/$AD$9 -> 3.1666667 | J20: х | K20: х | L20: ВЛ 10кВ, №6 | M20: 0 | N20: 0 | O20: 1039 | P20: 0 | Q20: 0 | R20: 1039 | S20: 0 | T20: 0 | U20: 0 | V20: 1039 | X20: =0.065*V20+21 -> 88.535 | AC20: 0
A21: 19 | B21: Участок №1 | C21: ВЛ | D21: ПС Сабурово 110/10кВ ВЛ 10кВ ф.7 | E21: 11 (10.5) | F21: 43579.522 | G21: 43579.53 | H21: В | I21: =(G21-F21)/$AD$9 -> 0.18333333 | J21: 2 | K21: 2 | L21: ВЛ 10кВ, №7 | M21: 0 | N21: 0 | O21: 1716 | P21: 0 | Q21: 0 | R21: 1716 | S21: 0 | T21: 0 | U21: 0 | V21: 1716 | X21: =0.065*V21+400 -> 511.54 | Z21: №12 15.04.2020 | AA21: 3.4.9.1 | AB21: 4.21 | AC21: 0

Sheet отчет_Май_
A2: Форма 8.1 - Журнал учёта данных первичной информации по всем прекращениям передачи электрической энергии, произошедших на объектах электросетевых организаций за | Q2: май | R2: месяц | S2: 2019 | T2: года
A3: Муниципальное унитарное многоотраслевое предприятие жилищно-коммунального хозяйства Гусь-Железхный
A4: наименование электросетевой организации
A6: Данные о факте прекращения передачи электрической энергии | J6: Признак АПВ (1 - Успешно/0 - Не успешно/2 - Отсутствует/3 - не работала (по принципу действия или выведена по режиму)) | K6: Признак АВР (1 - Успешно/0 - Не успешно/2 - Отсутствует/3 - не работала (по принципу действия или выведена по режиму)) | L6: Данные о масштабе прекращения передачи электрической энергии в сетевой организации | Y6: Перечень смежных сетевых организаций, затронутых прекращением передачи электрической энергии | Z6: Данные о причинах прекращения передачи электрической энергии и их расследовании | AC6: Учет в показателях надежности, в т.ч. индикативных показателях надежности (0 - нет, 1 - да)
A7: Номер прекращения передачи электрической энергии / Номер итоговой строки | B7: Наименование структурной единицы сетевой организации | C7: Вид объекта: КЛ, ВЛ, КВЛ, ПС, ТП, РП | D7: Диспетчерское наименование объекта электросетевого хозяйства сетевой организации, в результате отключения которой произошло прекращение передачи электроэнергии потребителям услуг | E7: Высший класс напряжения отключенного оборудования сетевой организации, кВ | F7: Время и дата начала прекращения передачи электрической энергии по местному времени (часы, минуты, ГГГГ.ММ.ДД) | G7: Время и дата восстановления режима потребления электрической энергии потребителей услуг (часы, минуты, ГГГГ.ММ.ДД) | H7: Вид прекращения передачи электроэнергии (П, А, В) | I7: Продолжительность прекращения передачи электрической энергии, час | L7: Перечень объектов электросетевого хозяйства, отключение которых привело к прекращению передачи электрической энергии потребителям услуг (ПС, ТП, РП, ВЛ, КЛ) | M7: Перечень потребителей 1-й и 2-й категорий надежности, в отношении которых произошло полное ограничение режима потребления электрической энергии | N7: Перечень потребителей 1-й и 2-й категорий надежности, в отношении которых произошло частичное ограничение режима потребления электрической энергии | O7: Количество точек поставки потребителей услуг сетевой организации, в отношении которых произошел перерыв электроснабжения, шт., в том числе: | X7: Суммарный объем фактической нагрузки (мощности) на присоединениях потребителей услуг, по которым произошло прекращение передачи электрической энергии на момент возникновения такого события, кВт
O8: ВСЕГО | P8: в разделении категорий надежности потребителей электрической энергии | S8: в разделении уровней напряжения ЭПУ потребителя электрической энергии | W8: Смежные сетевые организации и производители электрической энергии | Z8: Номер и дата акта расследования технологического нарушения, записи в оперативном журнале | AA8: Код организационной причины аварии | AB8: Код технической причины повреждения оборудования
P9: 1-я категория надежности | Q9: 2-я категория надежности | R9: 3-я категория надежности | S9: ВН (110 кВ и выше) | T9: СН1 (35 кВ) | U9: СН2 (6-20 кВ) | V9: НН (0,22-1 кВ) | AD9: 0.041666667
A10: 1 | B10: 2 | C10: 3 | D10: 4 | E10: 5 | F10: 6 | G10: 7 | H10: 8 | I10: 9 | J10: 10 | K10: 11 | L10: 12 | M10: 13 | N10: 14 | O10: 15 | P10: 16 | Q10: 17 | R10: 18 | S10: 19 | T10: 20 | U10: 21 | V10: 22 | W10: 23 | X10: 24 | Y10: 25 | Z10: 26 | AA10: 27 | AB10: 28 | AC10: 29
A11: 23 | B11: Участок №1 | C11: ВЛ | D11: ПС Лашиа 35/10кВ ВЛ 10кВ №3 | E11: 10 (10.5) | F11: 43598.917 | G11: 43599.167 | H11: В | I11: =(G11-F11)/$AD$9 -> 6 | J11: х | K11: х | L11: ВЛ 10кВ, №3 | M11: 0 | N11: 0 | O11: 594 | P11: 0 | Q11: 0 | R11: =O11 -> 594 | S11: 0 | T11: 0 | U11: 0 | V11: =R11 -> 594 | X11: =0.065*V11+15 -> 53.61 | Z11: №13 15.04.2020 | AA11: 3.4.12.3 | AB11: 4.21 | AC11: 1
A12: 24 | B12: Участок №3 | C12: ВЛ | D12: ПС110/10кВ Бельки ф.6 ВЛ10кВ№6 | E12: 10 (10.5) | F12: 43598.917 | G12: 43599.542 | H12: В | I12: =(G12-F12)/$AD$9 -> 15 | J12: 2 | K12: 2 | L12: ВЛ 10кВ, №6 | M12: 0 | N12: 0 | O12: 1390 | P12: 0 | Q12: 0 | R12: =O12 -> 1390 | S12: 0 | T12: 0 | U12: 0 | V12: =R12 -> 1390 | X12: =0.065*V12+2*35 -> 160.35 | Z12: №14 10.04.2019 | AA12: 3.4.12.3 | AB12: 4.11 | AC12: 1
A13: 25 | B13: Участок №1 | C13: ТП | D13: ПС Лашиа 35/10кВ ВЛ 10кВ №5, ЗТП8 | E13: 10 (10.5) | F13: 43599.083 | G13: 43599.417 | H13: В | I13: =(G13-F13)/$AD$9 -> 8 | J13: 2 | K13: 2 | L13: ЗТП8 | M13: 0 | N13: 0 | O13: 490 | P13: 0 | Q13: 0 | R13: =O13 -> 490 | S13: 0 | T13: 0 | U13: 0 | V13: =R13 -> 490 | X13: =0.065*V13 -> 31.85 | Z13: №15 11.04.2019 | AA13: 3.4.12.3 | AB13: 4.12 | AC13: 1
A14: 26 | B14: Участок №1 | C14: ТП | D14: ПС Лашиа 35/10кВ ВЛ 10кВ №5, ЗТП8 | E14: 10 (10.5) | F14: 43599.875 | G14: 43599.958 | H14: В | I14: =(G14-F14)/$AD$9 -> 2 | J14: 2 | K14: 2 | L14: ЗТП8 | M14: 0 | N14: 0 | O14: 490 | P14: 0 | Q14: 0 | R14: =O14 -> 490 | S14: 0 | T14: 0 | U14: 0 | V14: =R14 -> 490 | X14: =0.065*V14+2*3 -> 37.85 | Z14: №16 10.04.2019 | AA14: 3.4.12.3 | AB14: 4.12 | AC14: 1
A15: 27 | B15: Участок №1 | C15: ТП | D15: ПС Лашиа 35/10кВ ВЛ 10кВ №3 КТП 2 | E15: 10 (10.5) | F15: 43599.403 | G15: 43599.444 | H15: В | I15: =(G15-F15)/$AD$9 -> 1 | J15: 2 | K15: 2 | L15: КТП2 | M15: 0 | N15: 0 | O15: 1 | P15: 0 | Q15: 0 | R15: =O15 -> 1 | S15: 0 | T15: 0 | U15: 0 | V15: =R15 -> 1 | X15: 24 | Z15: №17 10.04.2020 | AA15: 3.4.12.3 | AB15: 4.12 | AC15: 1
A16: 28 | B16: Участок №1 | C16: ВЛ | D16: ПС 35/10кВ Телебукино ВЛ.11 | E16: 10 (10.5) | F16: 43600.396 | G16: 43600.424 | H16: В | I16: =(G16-F16)/$AD$9 -> 0.66666667 | J16: 2 | K16: 2 | L16: ВЛ 10кВ, №11 | M16: 0 | N16: 0 | O16: 362 | P16: 0 | Q16: 0 | R16: =O16 -> 362 | S16: 0 | T16: 0 | U16: 0 | V16: =R16 -> 362 | X16: =0.065*V16+21 -> 44.53 | Z16: №18 10.04.2021 | AA16: 3.4.9.3 | AB16: 4.12 | AC16: 0

Sheet Отчёт_май_К
A2: Форма 8.1 - Журнал учёта данных первичной информации по всем прекращениям передачи электрической энергии, произошедших на объектах электросетевых организаций за | Q2: май | R2: месяц | S2: 2019 | T2: года
A3: Муниципальное унитарное многоотраслевое предприятие жилищно-коммунального хозяйства Гусь-Железхный
A4: наименование электросетевой организации
A6: Данные о факте прекращения передачи электрической энергии | J6: Признак АПВ (1 - Успешно/0 - Не успешно/2 - Отсутствует/3 - не работала (по принципу действия или выведена по режиму)) | K6: Признак АВР (1 - Успешно/0 - Не успешно/2 - Отсутствует/3 - не работала (по принципу действия или выведена по режиму)) | L6: Данные о масштабе прекращения передачи электрической энергии в сетевой организации | Y6: Перечень смежных сетевых организаций, затронутых прекращением передачи электрической энергии | Z6: Данные о причинах прекращения передачи электрической энергии и их расследовании | AC6: Учет в показателях надежности, в т.ч. индикативных показателях надежности (0 - нет, 1 - да)
A7: Номер прекращения передачи электрической энергии / Номер итоговой строки | B7: Наименование структурной единицы сетевой организации | C7: Вид объекта: КЛ, ВЛ, КВЛ, ПС, ТП, РП | D7: Диспетчерское наименование объекта электросетевого хозяйства сетевой организации, в результате отключения которой произошло прекращение передачи электроэнергии потребителям услуг | E7: Высший класс напряжения отключенного оборудования сетевой организации, кВ | F7: Время и дата начала прекращения передачи электрической энергии по местному времени (часы, минуты, ГГГГ.ММ.ДД) | G7: Время и дата восстановления режима потребления электрической энергии потребителей услуг (часы, минуты, ГГГГ.ММ.ДД) | H7: Вид прекращения передачи электроэнергии (П, А, В) | I7: Продолжительность прекращения передачи электрической энергии, час | L7: Перечень объектов электросетевого хозяйства, отключение которых привело к прекращению передачи электрической энергии потребителям услуг (ПС, ТП, РП, ВЛ, КЛ) | M7: Перечень потребителей 1-й и 2-й категорий надежности, в отношении которых произошло полное ограничение режима потребления электрической энергии | N7: Перечень потребителей 1-й и 2-й категорий надежности, в отношении которых произошло частичное ограничение режима потребления электрической энергии | O7: Количество точек поставки потребителей услуг сетевой организации, в отношении которых произошел перерыв электроснабжения, шт., в том числе: | X7: Суммарный объем фактической нагрузки (мощности) на присоединениях потребителей услуг, по которым произошло прекращение передачи электрической энергии на момент возникновения такого события, кВт
O8: ВСЕГО | P8: в разделении категорий надежности потребителей электрической энергии | S8: в разделении уровней напряжения ЭПУ потребителя электрической энергии | W8: Смежные сетевые организации и производители электрической энергии | Z8: Номер и дата акта расследования технологического нарушения, записи в оперативном журнале | AA8: Код организационной причины аварии | AB8: Код технической причины повреждения оборудования
P9: 1-я категория надежности | Q9: 2-я категория надежности | R9: 3-я категория надежности | S9: ВН (110 кВ и выше) | T9: СН1 (35 кВ) | U9: СН2 (6-20 кВ) | V9: НН (0,22-1 кВ) | AD9: 0.041666667
A10: 1 | B10: 2 | C10: 3 | D10: 4 | E10: 5 | F10: 6 | G10: 7 | H10: 8 | I10: 9 | J10: 10 | K10: 11 | L10: 12 | M10: 13 | N10: 14 | O10: 15 | P10: 16 | Q10: 17 | R10: 18 | S10: 19 | T10: 20 | U10: 21 | V10: 22 | W10: 23 | X10: 24 | Y10: 25 | Z10: 26 | AA10: 27 | AB10: 28 | AC10: 29
A11: 20 | B11: Участок №1 | C11: ВЛ | D11: ТП Бургаз ВЛ 0,4кВ | E11: 0.38 | F11: 43585.5 | G11: 43585.583 | H11: П | I11: =(G11-F11)/$AD$9 -> 2 | J11: х | K11: х | L11: ВЛ 0,4кВ, №2 | M11: 0 | N11: 0 | O11: 14 | P11: 0 | Q11: 0 | R11: =O11 -> 14 | S11: 0 | T11: 0 | U11: 0 | V11: =R11 -> 14 | X11: =0.065*V11 -> 0.91 | Z11: х | AA11: х | AB11: х | AC11: 1
A12: 21 | B12: Участок №1 | C12: ВЛ | D12: ТП 2553 ВЛ 0,4кВ | E12: 0.38 | F12: 43591.458 | G12: 43591.625 | H12: П | I12: =(G12-F12)/$AD$9 -> 4 | J12: х | K12: х | L12: ВЛ 0,4кВ, №1 | M12: 0 | N12: 0 | O12: 15 | P12: 0 | Q12: 0 | R12: =O12 -> 15 | S12: 0 | T12: 0 | U12: 0 | V12: =R12 -> 15 | X12: =0.065*V12 -> 0.975 | Z12: х | AA12: х | AB12: х | AC12: 1
A13: 22 | B13: Участок №1 | C13: ВЛ | D13: ПС Лашиа 35/10кВ ВЛ 10кВ №5 | E13: 10 (10.5) | F13: 43598.292 | G13: 43598.438 | H13: П | I13: =(G13-F13)/$AD$9 -> 3.5 | J13: х | K13: х | L13: ВЛ 10кВ, №5 | M13: 0 | N13: 0 | O13: 490 | P13: 0 | Q13: 0 | R13: =O13 -> 490 | S13: 0 | T13: 0 | U13: 0 | V13: =R13 -> 490 | X13: =0.065*V13+5.5+11 -> 48.35 | Z13: х | AA13: х | AB13: х | AC13: 1
A14: 23 | B14: Участок №1 | C14: ВЛ | D14: ПС Лашиа 35/10кВ ВЛ 10кВ №3 | E14: 10 (10.5) | F14: 43598.917 | G14: 43599.167 | H14: В | I14: =(G14-F14)/$AD$9 -> 6 | J14: х | K14: х | L14: ВЛ 10кВ, №3 | M14: 0 | N14: 0 | O14: 594 | P14: 0 | Q14: 0 | R14: =O14 -> 594 | S14: 0 | T14: 0 | U14: 0 | V14: =R14 -> 594 | X14: =0.065*V14+15 -> 53.61 | Z14: №13 15.04.2020 | AA14: 3.4.12.3 | AB14: 4.21 | AC14: 1
A15: 24 | B15: Участок №3 | C15: ВЛ | D15: ПС110/10кВ Бельки ф.6 ВЛ10кВ№6 | E15: 10 (10.5) | F15: 43598.917 | G15: 43599.542 | H15: В | I15: =(G15-F15)/$AD$9 -> 15 | J15: 2 | K15: 2 | L15: ВЛ 10кВ, №6 | M15: 0 | N15: 0 | O15: 1390 | P15: 0 | Q15: 0 | R15: =O15 -> 1390 | S15: 0 | T15: 0 | U15: 0 | V15: =R15 -> 1390 | X15: =0.065*V15+2*35 -> 160.35 | Z15: №14 10.04.2019 | AA15: 3.4.12.3 | AB15: 4.11 | AC15: 1
A16: 25 | B16: Участок №1 | C16: ТП | D16: ПС Лашиа 35/10кВ ВЛ 10кВ №5, ЗТП8 | E16: 10 (10.5) | F16: 43599.083 | G16: 43599.417 | H16: В | I16: =(G16-F16)/$AD$9 -> 8 | J16: 2 | K16: 2 | L16: ЗТП8 | M16: 0 | N16: 0 | O16: 490 | P16: 0 | Q16: 0 | R16: =O16 -> 490 | S16: 0 | T16: 0 | U16: 0 | V16: =R16 -> 490 | X16: =0.065*V16 -> 31.85 | Z16: №15 11.04.2019 | AA16: 3.4.12.3 | AB16: 4.12 | AC16: 1
A17: 26 | B17: Участок №1 | C17: ТП | D17: ПС Лашиа 35/10кВ ВЛ 10кВ №5, ЗТП8 | E17: 10 (10.5) | F17: 43599.875 | G17: 43599.958 | H17: В | I17: =(G17-F17)/$AD$9 -> 2 | J17: 2 | K17: 2 | L17: ЗТП8 | M17: 0 | N17: 0 | O17: 490 | P17: 0 | Q17: 0 | R17: =O17 -> 490 | S17: 0 | T17: 0 | U17: 0 | V17: =R17 -> 490 | X17: =0.065*V17+2*3 -> 37.85 | Z17: №16 10.04.2019 | AA17: 3.4.12.3 | AB17: 4.12 | AC17: 1
A18: 27 | B18: Участок №1 | C18: ТП | D18: ПС Лашиа 35/10кВ ВЛ 10кВ №3 КТП 2 | E18: 10 (10.5) | F18: 43599.403 | G18: 43599.444 | H18: В | I18: =(G18-F18)/$AD$9 -> 1 | J18: 2 | K18: 2 | L18: КТП2 | M18: 0 | N18: 0 | O18: 1 | P18: 0 | Q18: 0 | R18: =O18 -> 1 | S18: 0 | T18: 0 | U18: 0 | V18: =R18 -> 1 | X18: 24 | Z18: №17 10.04.2020 | AA18: 3.4.12.3 | AB18: 4.12 | AC18: 1
A19: 28 | B19: Участок №1 | C19: ВЛ | D19: ПС 35/10кВ Телебукино ВЛ.11 | E19: 10 (10.5) | F19: 43600.396 | G19: 43600.424 | H19: В | I19: =(G19-F19)/$AD$9 -> 0.66666667 | J19: 2 | K19: 2 | L19: ВЛ 10кВ, №11 | M19: 0 | N19: 0 | O19: 362 | P19: 0 | Q19: 0 | R19: =O19 -> 362 | S19: 0 | T19: 0 | U19: 0 | V19: =R19 -> 362 | X19: =0.065*V19+21 -> 44.53 | Z19: №18 10.04.2021 | AA19: 3.4.9.3 | AB19: 4.12 | AC19: 0
A20: 29 | B20: Участок №1 | C20: ТП | D20: ПС Лашиа 35/10кВ ВЛ 10кВ №3 КТП 2 | E20: 10 (10.5) | F20: 43600.438 | G20: 43600.5 | H20: П | I20: =(G20-F20)/$AD$9 -> 1.5 | J20: 2 | K20: 2 | L20: КТП2 | M20: 0 | N20: 0 | O20: 1 | P20: 0 | Q20: 0 | R20: =O20 -> 1 | S20: 0 | T20: 0 | U20: 0 | V20: =R20 -> 1 | X20: 24 | Z20: №19 10.04.2022 | AA20: 3.4.13.3 | AB20: 4.12 | AC20: 0

Sheet отчет_июнь
A2: Форма 8.1 - Журнал учёта данных первичной информации по всем прекращениям передачи электрической энергии, произошедших на объектах электросетевых организаций за | Q2: май | R2: месяц | S2: 2019 | T2: года
A3: Муниципальное унитарное многоотраслевое предприятие жилищно-коммунального хозяйства Гусь-Железхный
A4: наименование электросетевой организации
A6: Данные о факте прекращения передачи электрической энергии | J6: Признак АПВ (1 - Успешно/0 - Не успешно/2 - Отсутствует/3 - не работала (по принципу действия или выведена по режиму)) | K6: Признак АВР (1 - Успешно/0 - Не успешно/2 - Отсутствует/3 - не работала (по принципу действия или выведена по режиму)) | L6: Данные о масштабе прекращения передачи электрической энергии в сетевой организации | Y6: Перечень смежных сетевых организаций, затронутых прекращением передачи электрической энергии | Z6: Данные о причинах прекращения передачи электрической энергии и их расследовании | AC6: Учет в показателях надежности, в т.ч. индикативных показателях надежности (0 - нет, 1 - да)
A7: Номер прекращения передачи электрической энергии / Номер итоговой строки | B7: Наименование структурной единицы сетевой организации | C7: Вид объекта: КЛ, ВЛ, КВЛ, ПС, ТП, РП | D7: Диспетчерское наименование объекта электросетевого хозяйства сетевой организации, в результате отключения которой произошло прекращение передачи электроэнергии потребителям услуг | E7: Высший класс напряжения отключенного оборудования сетевой организации, кВ | F7: Время и дата начала прекращения передачи электрической энергии по местному времени (часы, минуты, ГГГГ.ММ.ДД) | G7: Время и дата восстановления режима потребления электрической энергии потребителей услуг (часы, минуты, ГГГГ.ММ.ДД) | H7: Вид прекращения передачи электроэнергии (П, А, В) | I7: Продолжительность прекращения передачи электрической энергии, час | L7: Перечень объектов электросетевого хозяйства, отключение которых привело к прекращению передачи электрической энергии потребителям услуг (ПС, ТП, РП, ВЛ, КЛ) | M7: Перечень потребителей 1-й и 2-й категорий надежности, в отношении которых произошло полное ограничение режима потребления электрической энергии | N7: Перечень потребителей 1-й и 2-й категорий надежности, в отношении которых произошло частичное ограничение режима потребления электрической энергии | O7: Количество точек поставки потребителей услуг сетевой организации, в отношении которых произошел перерыв электроснабжения, шт., в том числе: | X7: Суммарный объем фактической нагрузки (мощности) на присоединениях потребителей услуг, по которым произошло прекращение передачи электрической энергии на момент возникновения такого события, кВт
O8: ВСЕГО | P8: в разделении категорий надежности потребителей электрической энергии | S8: в разделении уровней напряжения ЭПУ потребителя электрической энергии | W8: Смежные сетевые организации и производители электрической энергии | Z8: Номер и дата акта расследования технологического нарушения, записи в оперативном журнале | AA8: Код организационной причины аварии | AB8: Код технической причины повреждения оборудования
P9: 1-я категория надежности | Q9: 2-я категория надежности | R9: 3-я категория надежности | S9: ВН (110 кВ и выше) | T9: СН1 (35 кВ) | U9: СН2 (6-20 кВ) | V9: НН (0,22-1 кВ) | AD9: 0.041666667
A10: 1 | B10: 2 | C10: 3 | D10: 4 | E10: 5 | F10: 6 | G10: 7 | H10: 8 | I10: 9 | J10: 10 | K10: 11 | L10: 12 | M10: 13 | N10: 14 | O10: 15 | P10: 16 | Q10: 17 | R10: 18 | S10: 19 | T10: 20 | U10: 21 | V10: 22 | W10: 23 | X10: 24 | Y10: 25 | Z10: 26 | AA10: 27 | AB10: 28 | AC10: 29
A11: 29 | B11: Участок №1 | C11: ВЛ | D11: ПС 35/10кВ Телебукино ВЛ.11 | E11: 10 (10.5) | F11: 43617.708 | G11: 43617.812 | H11: В | I11: =(G11-F11)/$AD$9 -> 2.5 | J11: 2 | K11: 2 | L11: ВЛ 10кВ, №11 | M11: 0 | N11: 0 | O11: 362 | P11: 0 | Q11: 0 | R11: =O11 -> 362 | S11: 0 | T11: 0 | U11: 0 | V11: =R11 -> 362 | X11: =0.065*V11+21 -> 44.53 | Z11: №18 02.06.2019 | AA11: 3.4.9.3 | AB11: 4.12 | AC11: 0
A12: 30 | B12: Участок №1 | C12: ТП | D12: ПС Лашиа 35/10кВ ВЛ 10кВ №5, ЗТП8 | E12: 10 (10.5) | F12: 43617.708 | G12: 43617.792 | H12: В | I12: =(G12-F12)/$AD$9 -> 2 | J12: 2 | K12: 2 | L12: ЗТП8 | M12: 0 | N12: 0 | O12: 490 | P12: 0 | Q12: 0 | R12: =O12 -> 490 | S12: 0 | T12: 0 | U12: 0 | V12: =R12 -> 490 | X12: =0.065*V12 -> 31.85 | Z12: №15 11.04.2019 | AA12: 3.4.12.3 | AB12: 4.12 | AC12: 1
A13: 31
A14: 32
A15: 33
A16: 34
A17: 35
A18: 36
A19: 37
A20: 38 | B20: Участок №1 | C20: ВЛ | D20: ПС Лашиа 35/10кВ ВЛ 10кВ №3 | E20: 10 (10.5) | F20: 43598.917 | G20: 43599.167 | H20: В | I20: =(G20-F20)/$AD$9 -> 6 | J20: х | K20: х | L20: ВЛ 10кВ, №3 | M20: 0 | N20: 0 | O20: 594 | P20: 0 | Q20: 0 | R20: =O20 -> 594 | S20: 0 | T20: 0 | U20: 0 | V20: =R20 -> 594 | X20: =0.065*V20+15 -> 53.61 | Z20: №13 15.04.2019 | AA20: 3.4.12.3 | AB20: 4.21 | AC20: 1
B21: Участок №3 | C21: ВЛ | D21: ПС110/10кВ Бельки ф.6 ВЛ10кВ№6 | E21: 10 (10.5) | F21: 43598.917 | G21: 43599.542 | H21: В | I21: =(G21-F21)/$AD$9 -> 15 | J21: 2 | K21: 2 | L21: ВЛ 10кВ, №6 | M21: 0 | N21: 0 | O21: 1390 | P21: 0 | Q21: 0 | R21: =O21 -> 1390 | S21: 0 | T21: 0 | U21: 0 | V21: =R21 -> 1390 | X21: =0.065*V21+2*35 -> 160.35 | Z21: №14 10.04.2019 | AA21: 3.4.12.3 | AB21: 4.11 | AC21: 1
B22: Участок №1 | C22: ТП | D22: ПС Лашиа 35/10кВ ВЛ 10кВ №5, ЗТП8 | E22: 10 (10.5) | F22: 43599.083 | G22: 43599.417 | H22: В | I22: =(G22-F22)/$AD$9 -> 8 | J22: 2 | K22: 2 | L22: ЗТП8 | M22: 0 | N22: 0 | O22: 490 | P22: 0 | Q22: 0 | R22: =O22 -> 490 | S22: 0 | T22: 0 | U22: 0 | V22: =R22 -> 490 | X22: =0.065*V22 -> 31.85 | Z22: №15 11.04.2019 | AA22: 3.4.12.3 | AB22: 4.12 | AC22: 1
B23: Участок №1 | C23: ТП | D23: ПС Лашиа 35/10кВ ВЛ 10кВ №5, ЗТП8 | E23: 10 (10.5) | F23: 43599.875 | G23: 43599.958 | H23: В | I23: =(G23-F23)/$AD$9 -> 2 | J23: 2 | K23: 2 | L23: ЗТП8 | M23: 0 | N23: 0 | O23: 490 | P23: 0 | Q23: 0 | R23: =O23 -> 490 | S23: 0 | T23: 0 | U23: 0 | V23: =R23 -> 490 | X23: =0.065*V23+2*3 -> 37.85 | Z23: №16 10.04.2019 | AA23: 3.4.12.3 | AB23: 4.12 | AC23: 1
B24: Участок №1 | C24: ТП | D24: ПС Лашиа 35/10кВ ВЛ 10кВ №3 КТП 2 | E24: 10 (10.5) | F24: 43599.403 | G24: 43599.444 | H24: В | I24: =(G24-F24)/$AD$9 -> 1 | J24: 2 | K24: 2 | L24: КТП2 | M24: 0 | N24: 0 | O24: 1 | P24: 0 | Q24: 0 | R24: =O24 -> 1 | S24: 0 | T24: 0 | U24: 0 | V24: =R24 -> 1 | X24: 24 | Z24: №17 10.04.2019 | AA24: 3.4.12.3 | AB24: 4.12 | AC24: 1
B25: Участок №1 | C25: ВЛ | D25: ПС 35/10кВ Телебукино ВЛ.11 | E25: 10 (10.5) | F25: 43600.396 | G25: 43600.424 | H25: В | I25: =(G25-F25)/$AD$9 -> 0.66666667 | J25: 2 | K25: 2 | L25: ВЛ 10кВ, №11 | M25: 0 | N25: 0 | O25: 362 | P25: 0 | Q25: 0 | R25: =O25 -> 362 | S25: 0 | T25: 0 | U25: 0 | V25: =R25 -> 362 | X25: =0.065*V25+21 -> 44.53 | Z25: №18 10.04.2019 | AA25: 3.4.9.3 | AB25: 4.12 | AC25: 0

Sheet Отчёт_июнь_К_
A2: Форма 8.1 - Журнал учёта данных первичной информации по всем прекращениям передачи электрической энергии, произошедших на объектах электросетевых организаций за | Q2: май | R2: месяц | S2: 2019 | T2: года
A3: Муниципальное унитарное многоотраслевое предприятие жилищно-коммунального хозяйства Гусь-Железхный
A4: наименование электросетевой организации
A6: Данные о факте прекращения передачи электрической энергии | J6: Признак АПВ (1 - Успешно/0 - Не успешно/2 - Отсутствует/3 - не работала (по принципу действия или выведена по режиму)) | K6: Признак АВР (1 - Успешно/0 - Не успешно/2 - Отсутствует/3 - не работала (по принципу действия или выведена по режиму)) | L6: Данные о масштабе прекращения передачи электрической энергии в сетевой организации | Y6: Перечень смежных сетевых организаций, затронутых прекращением передачи электрической энергии | Z6: Данные о причинах прекращения передачи электрической энергии и их расследовании | AC6: Учет в показателях надежности, в т.ч. индикативных показателях надежности (0 - нет, 1 - да)
A7: Номер прекращения передачи электрической энергии / Номер итоговой строки | B7: Наименование структурной единицы сетевой организации | C7: Вид объекта: КЛ, ВЛ, КВЛ, ПС, ТП, РП | D7: Диспетчерское наименование объекта электросетевого хозяйства сетевой организации, в результате отключения которой произошло прекращение передачи электроэнергии потребителям услуг | E7: Высший класс напряжения отключенного оборудования сетевой организации, кВ | F7: Время и дата начала прекращения передачи электрической энергии по местному времени (часы, минуты, ГГГГ.ММ.ДД) | G7: Время и дата восстановления режима потребления электрической энергии потребителей услуг (часы, минуты, ГГГГ.ММ.ДД) | H7: Вид прекращения передачи электроэнергии (П, А, В) | I7: Продолжительность прекращения передачи электрической энергии, час | L7: Перечень объектов электросетевого хозяйства, отключение которых привело к прекращению передачи электрической энергии потребителям услуг (ПС, ТП, РП, ВЛ, КЛ) | M7: Перечень потребителей 1-й и 2-й категорий надежности, в отношении которых произошло полное ограничение режима потребления электрической энергии | N7: Перечень потребителей 1-й и 2-й категорий надежности, в отношении которых произошло частичное ограничение режима потребления электрической энергии | O7: Количество точек поставки потребителей услуг сетевой организации, в отношении которых произошел перерыв электроснабжения, шт., в том числе: | X7: Суммарный объем фактической нагрузки (мощности) на присоединениях потребителей услуг, по которым произошло прекращение передачи электрической энергии на момент возникновения такого события, кВт
O8: ВСЕГО | P8: в разделении категорий надежности потребителей электрической энергии | S8: в разделении уровней напряжения ЭПУ потребителя электрической энергии | W8: Смежные сетевые организации и производители электрической энергии | Z8: Номер и дата акта расследования технологического нарушения, записи в оперативном журнале | AA8: Код организационной причины аварии | AB8: Код технической причины повреждения оборудования
P9: 1-я категория надежности | Q9: 2-я категория надежности | R9: 3-я категория надежности | S9: ВН (110 кВ и выше) | T9: СН1 (35 кВ) | U9: СН2 (6-20 кВ) | V9: НН (0,22-1 кВ) | AD9: 0.041666667
A10: 1 | B10: 2 | C10: 3 | D10: 4 | E10: 5 | F10: 6 | G10: 7 | H10: 8 | I10: 9 | J10: 10 | K10: 11 | L10: 12 | M10: 13 | N10: 14 | O10: 15 | P10: 16 | Q10: 17 | R10: 18 | S10: 19 | T10: 20 | U10: 21 | V10: 22 | W10: 23 | X10: 24 | Y10: 25 | Z10: 26 | AA10: 27 | AB10: 28 | AC10: 29
A11: 29 | B11: Участок №1 | C11: ВЛ | D11: ПС 35/10кВ Телебукино ВЛ.11 | E11: 10 (10.5) | F11: 43617.708 | G11: 43617.812 | H11: В | I11: =(G11-F11)/$AD$9 -> 2.5 | J11: 2 | K11: 2 | L11: ВЛ 10кВ, №11 | M11: 0 | N11: 0 | O11: 362 | P11: 0 | Q11: 0 | R11: =O11 -> 362 | S11: 0 | T11: 0 | U11: 0 | V11: =R11 -> 362 | X11: =0.065*V11+21 -> 44.53 | Z11: №19 02.06.2019 | AA11: 3.4.9.3 | AB11: 4.12 | AC11: 1
A12: 30 | B12: Участок №1 | C12: ТП | D12: ПС Лашма 35/10кВ ВЛ 10кВ №5, ЗТП8 | E12: 10 (10.5) | F12: 43617.708 | G12: 43617.792 | H12: В | I12: =(G12-F12)/$AD$9 -> 2 | J12: 2 | K12: 2 | L12: ЗТП8 | M12: 0 | N12: 0 | O12: 490 | P12: 0 | Q12: 0 | R12: =O12 -> 490 | S12: 0 | T12: 0 | U12: 0 | V12: =R12 -> 490 | X12: =0.065*V12 -> 31.85 | Z12: №20 12.06.2019 | AA12: 3.4.12.3 | AB12: 4.12 | AC12: 1
A13: 31 | B13: Участок №3 | C13: ВЛ | D13: ПС110/10кВ Бельки ф.6 ВЛ10кВ№6 | E13: 10 (10.5) | F13: 43617.007 | G13: 43617.34 | H13: В | I13: =(G13-F13)/$AD$9 -> 8 | J13: 2 | K13: 2 | L13: ВЛ 10кВ, №6 | M13: 0 | N13: 0 | O13: 1390 | P13: 0 | Q13: 0 | R13: =O13 -> 1390 | S13: 0 | T13: 0 | U13: 0 | V13: =R13 -> 1390 | X13: =0.065*V13+2*35 -> 160.35 | Z13: №21 10.06.2019 | AA13: 3.4.12.3 | AB13: 4.11 | AC13: 1
A14: 32 | B14: Участок №1 | C14: ВЛ | D14: ПС110/35/10кВ Касимов ф.12. | E14: 10 (10.5) | F14: 43621.375 | G14: 43621.549 | H14: П | I14: =(G14-F14)/$AD$9 -> 4.1666667 | L14: ВЛ 10кВ, №12 | M14: 0 | N14: 0 | O14: 310 | P14: 0 | Q14: 0 | R14: =O14 -> 310 | S14: 0 | T14: 0 | U14: 0 | V14: =R14 -> 310 | X14: =0.065*V14+1*11+1*2 -> 33.15 | AC14: 1
A15: 33 | B15: Участок №1 | C15: ВЛ | D15: ПС110/35/10кВ Касимов ф.12. ТП-2589 ф.2 | E15: 0.38 | F15: 43621.542 | G15: 43621.667 | H15: П | I15: =(G15-F15)/$AD$9 -> 3 | L15: ВЛ 0,4кВ, №2 | M15: 0 | N15: 0 | O15: 42 | P15: 0 | Q15: 0 | R15: =O15 -> 42 | S15: 0 | T15: 0 | U15: 0 | V15: =R15 -> 42 | X15: =0.065*V15 -> 2.73 | AC15: 1
A16: 34 | B16: Участок №1 | C16: ВЛ | D16: ПС110/35/10кВ Касимов ф.12. ТП-2589 ф.2 | E16: 0.38 | F16: 43622.417 | G16: 43622.625 | H16: П | I16: =(G16-F16)/$AD$9 -> 5 | L16: ВЛ 0,4кВ, №2 | M16: 0 | N16: 0 | O16: 42 | P16: 0 | Q16: 0 | R16: =O16 -> 42 | S16: 0 | T16: 0 | U16: 0 | V16: =R16 -> 42 | X16: =0.065*V16 -> 2.73 | AC16: 1
A17: 35 | B17: Участок №1 | C17: ТП | D17: ПС35/10кВ Затон ф.2 ТП Бургаз | E17: 0.38 | F17: 43623.5 | G17: 43623.583 | H17: П | I17: =(G17-F17)/$AD$9 -> 2 | L17: ТП Бургаз | M17: 0 | N17: 0 | O17: 32 | P17: 0 | Q17: 0 | R17: =O17 -> 32 | S17: 0 | T17: 0 | U17: 0 | V17: =R17 -> 32 | X17: =0.065*V17 -> 2.08 | AC17: 1
A18: 36 | B18: Участок №1 | C18: ВЛ | D18: ПС Лашма 35/10кВ ВЛ 10кВ №5, ЗТП8 | E18: 0.38 | F18: 43627.438 | G18: 43627.479 | H18: П | I18: =(G18-F18)/$AD$9 -> 1 | L18: ВЛ 0,4кВ, №3 | M18: 0 | N18: 0 | O18: 48 | P18: 0 | Q18: 0 | R18: =O18 -> 48 | S18: 0 | T18: 0 | U18: 0 | V18: =R18 -> 48 | X18: =0.065*V18 -> 3.12 | AC18: 1
D19: ПС110/35/10кВ Касимов ф.12. ТП-2589 ф.2 | E19: 0.38 | F19: 43630.417 | G19: 43630.625 | H19: П | I19: =(G19-F19)/$AD$9 -> 5 | L19: ВЛ 0,4кВ, №2 | M19: 0 | N19: 0 | O19: 42 | P19: 0 | Q19: 0 | R19: =O19 -> 42 | S19: 0 | T19: 0 | U19: 0 | V19: =R19 -> 42 | X19: =0.065*V19 -> 2.73 | AC19: 1
A24: 32 | B24: Участок №1 | C24: ВЛ | D24: ПС Лашиа 35/10кВ ВЛ 10кВ №3 | E24: 10 (10.5) | F24: 43639.132 | G24: 43639.389 | H24: В | I24: =(G24-F24)/$AD$9 -> 6.1666667 | J24: 2 | K24: 2 | L24: ВЛ 10кВ, №3 | M24: 0 | N24: 0 | O24: 594 | P24: 0 | Q24: 0 | R24: =O24 -> 594 | S24: 0 | T24: 0 | U24: 0 | V24: =R24 -> 594 | X24: =0.065*V24+2*14 -> 66.61 | Z24: №22 10.06.2019 | AC24: 1

Sheet Отчет ИюльК
A2: Форма 8.1 - Журнал учёта данных первичной информации по всем прекращениям передачи электрической энергии, произошедших на объектах электросетевых организаций за | Q2: июль | R2: месяц | S2: 2019 | T2: года
A3: МУ МПЖКХ Гусь-Железный
A4: наименование электросетевой организации
A6: Данные о факте прекращения передачи электрической энергии | J6: Данные о масштабе прекращения передачи электрической энергии в сетевой организации | W6: Перечень смежных сетевых организаций, затронутых прекращением передачи электрической энергии | X6: Данные о причинах прекращения передачи электрической энергии и их расследовании | AA6: Учет в показателях надежности, в т.ч. индикативных показателях надежности (0 - нет, 1 - да)
A7: Номер прекращения передачи электрической энергии / Номер итоговой строки | B7: Наименование структурной единицы сетевой организации | C7: Вид объекта: КЛ, ВЛ, КВЛ, ПС, ТП, РП | D7: Диспетчерское наименование объекта электросетевого хозяйства сетевой организации, в результате отключения которой произошло прекращение передачи электроэнергии потребителям услуг | E7: Высший класс напряжения отключенного оборудования сетевой организации, кВ | F7: Время и дата начала прекращения передачи электрической энергии (часы, минуты, ГГГГ.ММ.ДД) | G7: Время и дата восстановления режима потребления электрической энергии потребителей услуг (часы, минуты, ГГГГ.ММ.ДД) | H7: Вид прекращения передачи электроэнергии (П, А, В) | I7: Продолжительность прекращения передачи электрической энергии, час | J7: Перечень объектов электросетевого хозяйства, отключение которых привело к прекращению передачи электрической энергии потребителям услуг (ПС, ТП, РП, ВЛ, КЛ) | K7: Перечень потребителей 1-й и 2-й категорий надежности, в отношении которых произошло полное ограничение режима потребления электрической энергии | L7: Перечень потребителей 1-й и 2-й категорий надежности, в отношении которых произошло частичное ограничение режима потребления электрической энергии | M7: Количество точек поставки потребителей услуг сетевой организации, в отношении которых произошел перерыв электроснабжения, шт., в том числе: | V7: Суммарный объем фактической нагрузки (мощности) на присоединениях потребителей услуг, по которым произошло прекращение передачи электрической энергии на момент возникновения такого события, кВт
M8: ВСЕГО | N8: в разделении категорий надежности потребителей электрической энергии | Q8: в разделении уровней напряжения ЭПУ потребителя электрической энергии | U8: Смежные сетевые организации и производители электрической энергии | X8: Номер и дата акта расследования технологического нарушения, записи в оперативном журнале | Y8: Код организационной причины аварии | Z8: Код технической причины повреждения оборудования
N9: 1-я категория надежности | O9: 2-я категория надежности | P9: 3-я категория надежности | Q9: ВН (110 кВ и выше) | R9: СН1 (35 кВ) | S9: СН2 (6-20 кВ) | T9: НН (0,22-1 кВ) | AB9: 0.041666667
A10: 1 | B10: 2 | C10: 3 | D10: 4 | E10: 5 | F10: 6 | G10: 7 | H10: 8 | I10: 9 | J10: 10 | K10: 11 | L10: 12 | M10: 13 | N10: 14 | O10: 15 | P10: 16 | Q10: 17 | R10: 18 | S10: 19 | T10: 20 | U10: 21 | V10: 22 | W10: 23 | X10: 24 | Y10: 25 | Z10: 26 | AA10: 27
A11: 44 | B11: Участок 3 | C11: ВЛ | D11: ВЛ 0,4кВ от ТП1 Сынтул | E11: 0.38 | F11: 43647.375 | G11: 43647.583 | H11: П | I11: =(G11-F11)/$AB$9 -> 5 | J11: ВЛ 0,4кВ | K11: 0 | L11: 0 | M11: =P11 -> 149 | N11: 0 | O11: 0 | P11: 149 | Q11: 0 | R11: 0 | S11: 0 | T11: =P11 -> 149 | U11: 0 | V11: =0.23*M11 -> 34.27 | AA11: 1
A12: 45 | B12: Участок 3 | C12: ВЛ | D12: ВЛ 0,4кВ от ТП1 Сынтул | E12: 0.38 | F12: 43648.375 | G12: 43648.583 | H12: П | I12: =(G12-F12)/$AB$9 -> 5 | J12: ВЛ 0,4кВ | K12: 0 | L12: 0 | M12: =P12 -> 149 | N12: 0 | O12: 0 | P12: 149 | Q12: 0 | R12: 0 | S12: 0 | T12: =P12 -> 149 | U12: 0 | V12: =0.23*M12 -> 34.27 | AA12: 1
A13: 46 | B13: Участок 2 | C13: ВЛ | D13: ВЛ 0,4кВ от ТП11 Елатьма | E13: 0.38 | F13: 43648.427 | G13: 43648.458 | H13: П | I13: =(G13-F13)/$AB$9 -> 0.75 | J13: ВЛ 0,4кВ | K13: 0 | L13: 0 | M13: =P13 -> 22 | N13: 0 | O13: 0 | P13: 22 | Q13: 0 | R13: 0 | S13: 0 | T13: =P13 -> 22 | U13: 0 | V13: =0.23*M13 -> 5.06 | AA13: 1
A14: 47 | B14: Участок 1 | C14: ВЛ | D14: ВЛ 10кВ№5 от ПС Лашма 35/10кВ | E14: 10 (10.5) | F14: 43649.417 | G14: 43649.625 | H14: П | I14: =(G14-F14)/$AB$9 -> 5 | J14: ВЛ10кВ | K14: 0 | L14: 0 | M14: =P14 -> 490 | N14: 0 | O14: 0 | P14: 490 | Q14: 0 | R14: 0 | S14: 0 | T14: =P14 -> 490 | U14: 0 | V14: =0.23*M14 -> 112.7 | AA14: 1
A15: 48 | B15: Участок 2 | C15: ВЛ | D15: ВЛ 0,4кВ от ТП11 Елатьма | E15: 0.38 | F15: 43650.427 | G15: 43650.472 | H15: П | I15: =(G15-F15)/$AB$9 -> 1.0833333 | J15: ВЛ 0,4кВ | K15: 0 | L15: 0 | M15: =P15 -> 22 | N15: 0 | O15: 0 | P15: 22 | Q15: 0 | R15: 0 | S15: 0 | T15: =P15 -> 22 | U15: 0 | V15: =0.23*M15 -> 5.06 | AA15: 1
A16: 49 | B16: Участок 2 | C16: ВЛ | D16: ВЛ 0,4кВ от ТП11 Елатьма | E16: 0.38 | F16: 43650.562 | G16: 43650.583 | H16: П | I16: =(G16-F16)/$AB$9 -> 0.5 | J16: ВЛ 0,4кВ | K16: 0 | L16: 0 | M16: =P16 -> 22 | N16: 0 | O16: 0 | P16: 22 | Q16: 0 | R16: 0 | S16: 0 | T16: =P16 -> 22 | U16: 0 | V16: =0.23*M16 -> 5.06 | AA16: 1
A17: 50 | B17: Участок 2 | C17: ВЛ | D17: ВЛ 0,4кВ от ТП11 Елатьма | E17: 0.38 | F17: 43651.396 | G17: 43651.542 | H17: П | I17: =(G17-F17)/$AB$9 -> 3.5 | J17: ВЛ 0,4кВ | K17: 0 | L17: 0 | M17: =P17 -> 22 | N17: 0 | O17: 0 | P17: 22 | Q17: 0 | R17: 0 | S17: 0 | T17: =P17 -> 22 | U17: 0 | V17: =0.23*M17 -> 5.06 | AA17: 1
A18: 51 | B18: Участок 2 | C18: ВЛ | D18: ВЛ 0,4кВ от ТП5 Елатьма | E18: 0.38 | F18: 43655.417 | G18: 43655.5 | H18: П | I18: =(G18-F18)/$AB$9 -> 2 | J18: ВЛ 0,4кВ | K18: 0 | L18: 0 | M18: =P18 -> 34 | N18: 0 | O18: 0 | P18: 34 | Q18: 0 | R18: 0 | S18: 0 | T18: =P18 -> 34 | U18: 0 | V18: =0.23*M18 -> 7.82 | AA18: 1
A19: 52 | B19: Участок №2 | C19: ВЛ | D19: ЦРП Елатьма 10кВ ф.3 | E19: 10 (10.5) | F19: 43655.674 | G19: 43655.69 | H19: В | I19: =(G19-F19)/$AB$9 -> 0.36666667 | J19: ВЛ 10кВ №3 | K19: 0 | L19: 0 | M19: =P19 -> 1636 | N19: 0 | O19: 0 | P19: 1636 | Q19: 0 | R19: 0 | S19: 0 | T19: =P19 -> 1636 | U19: 0 | V19: 627.2 | X19: №19 02.06.2019 | Y19: 3.4.9.3 | Z19: 4.12 | AA19: 1
A20: 53 | B20: Участок №3 | C20: ВЛ | D20: ПС110/10кВ Бельки ф.6 ВЛ10кВ№6 | E20: 10 (10.5) | F20: 43656.049 | G20: 43656.34 | H20: В | I20: =(G20-F20)/$AB$9 -> 7 | J20: ВЛ 10кВ №6 | K20: 0 | L20: 0 | M20: =P20 -> 1390 | N20: 0 | O20: 0 | P20: 1390 | Q20: 0 | R20: 0 | S20: 0 | T20: =P20 -> 1390 | U20: 0 | V20: 340 | X20: №21 02.06.2019 | Y20: 3.4.12.3 | Z20: 4.12 | AA20: 1
A21: 54 | B21: Участок 2 | C21: ВЛ | D21: ВЛ 0,4кВ от ТП11 Елатьма | E21: 0.38 | F21: 43656.375 | G21: 43656.5 | H21: П | I21: =(G21-F21)/$AB$9 -> 3 | J21: ВЛ 0,4кВ | K21: 0 | L21: 0 | M21: =P21 -> 22 | N21: 0 | O21: 0 | P21: 22 | Q21: 0 | R21: 0 | S21: 0 | T21: =P21 -> 22 | U21: 0 | V21: =0.23*M21 -> 5.06 | AA21: 1
A22: 55 | B22: Участок 3 | C22: ВЛ | D22: ВЛ10кВ №4 Сынтул | E22: 10 (10.5) | F22: 43656.417 | G22: 43656.667 | H22: П | I22: =(G22-F22)/$AB$9 -> 6 | J22: ВЛ 10кВ №4 | K22: 0 | L22: 0 | M22: =P22 -> 1048 | N22: 0 | O22: 0 | P22: 1048 | Q22: 0 | R22: 0 | S22: 1 | T22: 1047 | U22: 0 | V22: =0.23*M22 -> 241.04 | AA22: 1
A23: 56 | B23: Участок 1 | C23: ТП | D23: ТП 2479 РУ 10кВ | E23: 10 (10.5) | F23: 43656.5 | G23: 43656.583 | H23: П | I23: =(G23-F23)/$AB$9 -> 2 | J23: ТП | K23: 0 | L23: 0 | M23: =P23 -> 42 | N23: 0 | O23: 0 | P23: 42 | Q23: 0 | R23: 0 | S23: 0 | T23: =P23 -> 42 | U23: 0 | V23: =0.23*M23 -> 9.66 | AA23: 1
A24: 57 | B24: Участок 1 | C24: ТП | D24: ТП 2369 РУ 10кВ | E24: 10 (10.5) | F24: 43656.583 | G24: 43656.667 | H24: П | I24: =(G24-F24)/$AB$9 -> 2 | J24: ТП | K24: 0 | L24: 0 | M24: =P24 -> 104 | N24: 0 | O24: 0 | P24: 104 | Q24: 0 | R24: 0 | S24: 0 | T24: =P24 -> 104 | U24: 0 | V24: =0.23*M24 -> 23.92 | AA24: 1
A25: 58 | B25: Участок 2 | C25: ВЛ | D25: ВЛ 0,4кВ от ТП11 Елатьма | E25: 0.38 | F25: 43657.375 | G25: 43657.521 | H25: П | I25: =(G25-F25)/$AB$9 -> 3.5 | J25: ВЛ 0,4кВ | K25: 0 | L25: 0 | M25: =P25 -> 22 | N25: 0 | O25: 0 | P25: 22 | Q25: 0 | R25: 0 | S25: 0 | T25: =P25 -> 22 | U25: 0 | V25: =0.23*M25 -> 5.06 | AA25: 1
A26: 59 | B26: Участок 2 | C26: ВЛ | D26: ВЛ 0,4кВ от ТП2 Елатьма | E26: 0.38 | F26: 43665.375 | G26: 43665.479 | H26: П | I26: =(G26-F26)/$AB$9 -> 2.5 | J26: ВЛ 0,4кВ | K26: 0 | L26: 0 | M26: =P26 -> 148 | N26: 0 | O26: 0 | P26: 148 | Q26: 0 | R26: 0 | S26: 0 | T26: =P26 -> 148 | U26: 0 | V26: =0.23*M26 -> 34.04 | AA26: 1
A27: 60 | B27: Участок 2 | C27: ВЛ | D27: ВЛ 0,4кВ от ТП10 Елатьма | E27: 0.38 | F27: 43665.5 | G27: 43665.542 | H27: П | I27: =(G27-F27)/$AB$9 -> 1 | J27: ВЛ 0,4кВ | K27: 0 | L27: 0 | M27: =P27 -> 152 | N27: 0 | O27: 0 | P27: 152 | Q27: 0 | R27: 0 | S27: 0 | T27: =P27 -> 152 | U27: 0 | V27: =0.23*M27 -> 34.96 | AA27: 1
A28: 61 | B28: Участок 2 | C28: ВЛ | D28: ВЛ 0,4кВ от ТП5 Елатьма | E28: 0.38 | F28: 43668.375 | G28: 43668.5 | H28: П | I28: =(G28-F28)/$AB$9 -> 3 | J28: ВЛ 0,4кВ | K28: 0 | L28: 0 | M28: =P28 -> 112 | N28: 0 | O28: 0 | P28: 112 | Q28: 0 | R28: 0 | S28: 0 | T28: =P28 -> 112 | U28: 0 | V28: =0.23*M28 -> 25.76 | AA28: 1
A29: 62 | B29: Участок 2 | C29: ВЛ | D29: ВЛ 0,4кВ от ТП11 Елатьма | E29: 0.38 | F29: 43669.438 | G29: 43669.562 | H29: П | I29: =(G29-F29)/$AB$9 -> 3 | J29: ВЛ 0,4кВ | K29: 0 | L29: 0 | M29: =P29 -> 22 | N29: 0 | O29: 0 | P29: 22 | Q29: 0 | R29: 0 | S29: 0 | T29: =P29 -> 22 | U29: 0 | V29: =0.23*M29 -> 5.06 | AA29: 1
A30: 63 | B30: Участок 1 | C30: ТП | D30: ТП 8 РУ 10кВ | E30: 10 (10.5) | F30: 43669.458 | G30: 43669.542 | H30: П | I30: =(G30-F30)/$AB$9 -> 2 | J30: ТП | K30: 0 | L30: 0 | M30: =P30 -> 437 | N30: 0 | O30: 0 | P30: 437 | Q30: 0 | R30: 0 | S30: 0 | T30: =P30 -> 437 | U30: 0 | V30: =0.23*M30 -> 100.51 | AA30: 1
A31: 64 | B31: Участок 2 | C31: ВЛ | D31: ВЛ 0,4кВ от ТП5 Елатьма | E31: 0.38 | F31: 43669.573 | G31: 43669.594 | H31: П | I31: =(G31-F31)/$AB$9 -> 0.5 | J31: ВЛ 0,4кВ | K31: 0 | L31: 0 | M31: =P31 -> 112 | N31: 0 | O31: 0 | P31: 112 | Q31: 0 | R31: 0 | S31: 0 | T31: =P31 -> 112 | U31: 0 | V31: =0.23*M31 -> 25.76 | AA31: 1
A32: 65 | B32: Участок 1 | C32: ТП | D32: ТП 2579 РУ 10кВ | E32: 10 (10.5) | F32: 43669.542 | G32: 43669.625 | H32: П | I32: =(G32-F32)/$AB$9 -> 2 | J32: ТП | K32: 0 | L32: 0 | M32: =P32 -> 38 | N32: 0 | O32: 0 | P32: 38 | Q32: 0 | R32: 0 | S32: 0 | T32: =P32 -> 38 | U32: 0 | V32: =0.23*M32 -> 8.74 | AA32: 1
A33: 66 | B33: Участок №1 | C33: ВЛ | D33: ПС110/10кВ Шостье ф.2 ВЛ10кВ№2 | E33: 10 (10.5) | F33: 43669.667 | G33: 43669.771 | H33: В | I33: =(G33-F33)/$AB$9 -> 2.5 | J33: ВЛ 0,4кВ, №5 | K33: 0 | L33: 0 | M33: =P33 -> 114 | N33: 0 | O33: 0 | P33: 114 | Q33: 0 | R33: 0 | S33: 0 | T33: =P33 -> 114 | U33: 0 | V33: 33.8 | X33: №21 02.06.2019 | Y33: 3.4.8.4 | Z33: 4.4 | AA33: 1
A34: 67 | B34: Участок 1 | C34: ВЛ | D34: ВЛ 0,4кВ от ТП 4 Ташенка | E34: 0.38 | F34: 43670.375 | G34: 43670.688 | H34: П | I34: =(G34-F34)/$AB$9 -> 7.5 | J34: ВЛ 0,4кВ | K34: 0 | L34: 0 | M34: =P34 -> 35 | N34: 0 | O34: 0 | P34: 35 | Q34: 0 | R34: 0 | S34: 0 | T34: =P34 -> 35 | U34: 0 | V34: =0.23*M34+12 -> 20.05 | AA34: 1
A35: 68 | B35: Участок 2 | C35: ВЛ | D35: ВЛ 0,4кВ от ТП5 Елатьма | E35: 0.38 | F35: 43670.396 | G35: 43670.479 | H35: П | I35: =(G35-F35)/$AB$9 -> 2 | J35: ВЛ 0,4кВ | K35: 0 | L35: 0 | M35: =P35 -> 112 | N35: 0 | O35: 0 | P35: 112 | Q35: 0 | R35: 0 | S35: 0 | T35: =P35 -> 112 | U35: 0 | V35: =0.23*M35 -> 25.76 | AA35: 1
A36: 69 | B36: Участок 2 | C36: ВЛ | D36: ВЛ 0,4кВ от ТП5 Елатьма | E36: 0.38 | F36: 43671.417 | G36: 43671.583 | H36: П | I36: =(G36-F36)/$AB$9 -> 4 | J36: ВЛ 0,4кВ | K36: 0 | L36: 0 | M36: =P36 -> 112 | N36: 0 | O36: 0 | P36: 112 | Q36: 0 | R36: 0 | S36: 0 | T36: =P36 -> 112 | U36: 0 | V36: =0.23*M36 -> 25.76 | AA36: 1
A37: 70 | B37: Участок 1 | C37: ВЛ | D37: ВЛ 0,4кВ от ТП 4 Ташенка | E37: 0.38 | F37: 43671.583 | G37: 43671.688 | H37: П | I37: =(G37-F37)/$AB$9 -> 2.5 | J37: ВЛ 0,4кВ | K37: 0 | L37: 0 | M37: =P37 -> 454 | N37: 0 | O37: 0 | P37: 454 | Q37: 0 | R37: 0 | S37: 0 | T37: =P37 -> 454 | U37: 0 | V37: =0.23*M37 -> 104.42 | AA37: 1
A38: 71 | B38: Участок 2 | C38: ВЛ | D38: ВЛ 0,4кВ от ТП11 Елатьма | E38: 0.38 | F38: 43672.375 | G38: 43672.5 | H38: П | I38: =(G38-F38)/$AB$9 -> 3 | J38: ВЛ 0,4кВ | K38: 0 | L38: 0 | M38: =P38 -> 22 | N38: 0 | O38: 0 | P38: 22 | Q38: 0 | R38: 0 | S38: 0 | T38: =P38 -> 22 | U38: 0 | V38: =0.23*M38 -> 5.06 | AA38: 1
A39: 72 | B39: Участок №1 | C39: ВЛ | D39: ПС Зеленино 35/10кВ ВЛ 10кВ №3, ЗТП5 ф.5 | E39: 0.38 | F39: 43674.875 | G39: 43674.979 | H39: В | I39: =(G39-F39)/$AB$9 -> 2.5 | J39: ВЛ 10кВ, №3 | K39: 0 | L39: 0 | M39: =P39 -> 144 | N39: 0 | O39: 0 | P39: 144 | Q39: 0 | R39: 0 | S39: 0 | T39: =P39 -> 144 | U39: 0 | V39: 28.8 | X39: №22 24.06.2019 | Y39: 3.4.12.3 | Z39: 4.21 | AA39: 1

Sheet Отчет Август К
A2: Форма 8.1 - Журнал учёта данных первичной информации по всем прекращениям передачи электрической энергии, произошедших на объектах электросетевых организаций за | Q2: август | R2: месяц | S2: 2019 | T2: года
A3: МУ МПЖКХ Гусь-Железный
A4: наименование электросетевой организации
A6: Данные о факте прекращения передачи электрической энергии | J6: Данные о масштабе прекращения передачи электрической энергии в сетевой организации | W6: Перечень смежных сетевых организаций, затронутых прекращением передачи электрической энергии | X6: Данные о причинах прекращения передачи электрической энергии и их расследовании | AA6: Учет в показателях надежности, в т.ч. индикативных показателях надежности (0 - нет, 1 - да)
A7: Номер прекращения передачи электрической энергии / Номер итоговой строки | B7: Наименование структурной единицы сетевой организации | C7: Вид объекта: КЛ, ВЛ, КВЛ, ПС, ТП, РП | D7: Диспетчерское наименование объекта электросетевого хозяйства сетевой организации, в результате отключения которой произошло прекращение передачи электроэнергии потребителям услуг | E7: Высший класс напряжения отключенного оборудования сетевой организации, кВ | F7: Время и дата начала прекращения передачи электрической энергии (часы, минуты, ГГГГ.ММ.ДД) | G7: Время и дата восстановления режима потребления электрической энергии потребителей услуг (часы, минуты, ГГГГ.ММ.ДД) | H7: Вид прекращения передачи электроэнергии (П, А, В) | I7: Продолжительность прекращения передачи электрической энергии, час | J7: Перечень объектов электросетевого хозяйства, отключение которых привело к прекращению передачи электрической энергии потребителям услуг (ПС, ТП, РП, ВЛ, КЛ) | K7: Перечень потребителей 1-й и 2-й категорий надежности, в отношении которых произошло полное ограничение режима потребления электрической энергии | L7: Перечень потребителей 1-й и 2-й категорий надежности, в отношении которых произошло частичное ограничение режима потребления электрической энергии | M7: Количество точек поставки потребителей услуг сетевой организации, в отношении которых произошел перерыв электроснабжения, шт., в том числе: | V7: Суммарный объем фактической нагрузки (мощности) на присоединениях потребителей услуг, по которым произошло прекращение передачи электрической энергии на момент возникновения такого события, кВт
M8: ВСЕГО | N8: в разделении категорий надежности потребителей электрической энергии | Q8: в разделении уровней напряжения ЭПУ потребителя электрической энергии | U8: Смежные сетевые организации и производители электрической энергии | X8: Номер и дата акта расследования технологического нарушения, записи в оперативном журнале | Y8: Код организационной причины аварии | Z8: Код технической причины повреждения оборудования
N9: 1-я категория надежности | O9: 2-я категория надежности | P9: 3-я категория надежности | Q9: ВН (110 кВ и выше) | R9: СН1 (35 кВ) | S9: СН2 (6-20 кВ) | T9: НН (0,22-1 кВ) | AB9: 0.041666667
A10: 1 | B10: 2 | C10: 3 | D10: 4 | E10: 5 | F10: 6 | G10: 7 | H10: 8 | I10: 9 | J10: 10 | K10: 11 | L10: 12 | M10: 13 | N10: 14 | O10: 15 | P10: 16 | Q10: 17 | R10: 18 | S10: 19 | T10: 20 | U10: 21 | V10: 22 | W10: 23 | X10: 24 | Y10: 25 | Z10: 26 | AA10: 27
A11: 73 | B11: Участок №2 | C11: ВЛ | D11: ВЛ 0,4кВ от ТП11 Елатьма | E11: 0.38 | F11: 43678.375 | G11: 43678.5 | H11: П | I11: =(G11-F11)/$AB$9 -> 3 | J11: ВЛ 0,4кВ, №2 | K11: 0 | L11: 0 | M11: =P11 -> 22 | N11: 0 | O11: 0 | P11: 22 | Q11: 0 | R11: 0 | S11: 0 | T11: =P11 -> 22 | U11: 0 | V11: =0.22*T11 -> 4.84 | AA11: 1
A12: 74 | B12: Участок №1 | C12: ТП | D12: ТП Бургаз | E12: 10 (10.5) | F12: 43678.458 | G12: 43678.667 | H12: П | I12: =(G12-F12)/$AB$9 -> 5 | J12: ТП Бургаз | K12: 0 | L12: 0 | M12: =P12 -> 28 | N12: 0 | O12: 0 | P12: 28 | Q12: 0 | R12: 0 | S12: 0 | T12: =P12 -> 28 | U12: 0 | V12: =0.22*T12 -> 6.16 | AA12: 1
A13: 75 | B13: Участок №1 | C13: ТП | D13: ТП 2284 Рыбхоз | E13: 0.38 | F13: 43683.417 | G13: 43683.458 | H13: П | I13: =(G13-F13)/$AB$9 -> 1 | J13: ТП 2284 Рыбхоз | K13: 0 | L13: 0 | M13: =P13 -> 8 | N13: 0 | O13: 0 | P13: 8 | Q13: 0 | R13: 0 | S13: 0 | T13: =P13 -> 8 | U13: 0 | V13: =0.22*T13 -> 1.76 | AA13: 1
A14: 76 | B14: Участок №1 | C14: ВЛ | D14: КРУН ВЛ10кВ№3 | E14: 10 (10.5) | F14: 43690.5 | G14: 43690.625 | H14: П | I14: =(G14-F14)/$AB$9 -> 3 | J14: КРУН ВЛ10кВ№3 | K14: 0 | L14: 0 | M14: =P14 -> 328 | N14: 0 | O14: 0 | P14: 328 | Q14: 0 | R14: 0 | S14: 0 | T14: =P14 -> 328 | U14: 0 | V14: =0.22*T14 -> 72.16 | AA14: 1
A15: 77 | B15: Участок №3 | C15: ВЛ | D15: ВЛ 0,4кВ №2 ТП5 Гусь-Железный | E15: 0.38 | F15: 43683.417 | G15: 43683.458 | H15: В | I15: =(G15-F15)/$AB$9 -> 1 | J15: ВЛ 0,4кВ, №2 | K15: 0 | L15: 0 | M15: =P15 -> 11 | N15: 0 | O15: 0 | P15: 11 | Q15: 0 | R15: 0 | S15: 0 | T15: =P15 -> 11 | U15: 0 | V15: =0.22*T15 -> 2.42 | X15: №72/1 07.08.2019 | Y15: 3.4.9.3 | Z15: 4.12 | AA15: 1
A16: 78 | B16: Участок №2 | C16: ВЛ | D16: ЦРП Елатьма 10кВ ф.3 | E16: 10 (10.5) | F16: 43685.356 | G16: 43685.362 | H16: В | I16: =(G16-F16)/$AB$9 -> 0.15 | J16: ВЛ 10кВ, №3 | K16: 0 | L16: 0 | M16: =P16 -> 1636 | N16: 0 | O16: 0 | P16: 1636 | Q16: 0 | R16: 0 | S16: 0 | T16: =P16 -> 1636 | U16: 0 | V16: =0.22*T16 -> 359.92 | X16: №73 09.08.2019 | Y16: 3.4.9.3 | Z16: 4.12 | AA16: 1
A17: 79 | B17: Участок №1 | C17: ВЛ | D17: ВЛ 0,4кВ ТП2218 ф.2 | E17: 0.38 | F17: 43686.667 | G17: 43686.75 | H17: В | I17: =(G17-F17)/$AB$9 -> 2 | J17: ВЛ 0,4кВ, №2 | K17: 0 | L17: 0 | M17: =P17 -> 14 | N17: 0 | O17: 0 | P17: 14 | Q17: 0 | R17: 0 | S17: 0 | T17: =P17 -> 14 | U17: 0 | V17: =0.22*T17 -> 3.08 | X17: №74 10.08.2019 | Y17: 3.4.12.3 | Z17: 4.12 | AA17: 1
A18: 80 | B18: Участок №2 | C18: ВЛ | D18: ЦРП Елатьма 10кВ ф.3 | E18: 10 (10.5) | F18: 43687.922 | G18: 43687.938 | H18: В | I18: =(G18-F18)/$AB$9 -> 0.36666667 | J18: ВЛ 10кВ, №3 | K18: 0 | L18: 0 | M18: =P18 -> 1636 | N18: 0 | O18: 0 | P18: 1636 | Q18: 0 | R18: 0 | S18: 0 | T18: =P18 -> 1636 | U18: 0 | V18: =0.22*T18 -> 359.92 | X18: №75 10.08.2019 | Y18: 3.4.12.3 | Z18: 4.21 | AA18: 1
A19: 81 | B19: Участок №3 | C19: ТП | D19: ТП2 Гусь-Железный | E19: 10 (10.5) | F19: 43692.625 | G19: 43692.688 | H19: П | I19: =(G19-F19)/$AB$9 -> 1.5 | J19: ТП2 Гусь-Железный | K19: 0 | L19: 0 | M19: =P19 -> 31 | N19: 0 | O19: 0 | P19: 31 | Q19: 0 | R19: 0 | S19: 0 | T19: =P19 -> 31 | U19: 0 | V19: =0.22*T19 -> 6.82 | AA19: 1
A20: 82 | B20: Участок №1 | C20: ВЛ | D20: ВЛ10кВ Ф12 ПС Касимов | E20: 10 (10.5) | F20: 43693.188 | G20: 43693.333 | H20: В | I20: =(G20-F20)/$AB$9 -> 3.5 | J20: ВЛ 10кВ, №3 | K20: 0 | L20: 0 | M20: =P20 -> 422 | N20: 0 | O20: 0 | P20: 422 | Q20: 0 | R20: 0 | S20: 0 | T20: =P20 -> 422 | U20: 0 | V20: =0.22*T20 -> 92.84 | X20: №76 10.08.2019 | Y20: 3.4.12.3 | Z20: 4.21 | AA20: 1
A21: 83 | B21: Участок №1 | C21: ВЛ | D21: ПС110/10кВ Шостье ф.2 ВЛ10кВ№2 | E21: 10 (10.5) | F21: 43694.688 | G21: 43694.833 | H21: В | I21: =(G21-F21)/$AB$9 -> 3.5 | J21: ВЛ 10кВ, №2 | K21: 0 | L21: 0 | M21: =P21 -> 86 | N21: 0 | O21: 0 | P21: 86 | Q21: 0 | R21: 0 | S21: 0 | T21: =P21 -> 86 | U21: 0 | V21: =0.22*T21 -> 18.92 | X21: №78.10.08.2019 | Y21: 3.4.12.3 | Z21: 4.21 | AA21: 1
A22: 84 | B22: Участок №1 | C22: ВЛ | D22: ПС Зеленино 35/10кВ ВЛ 10кВ №3, ЗТП5 ф.5 | E22: 10 (10.5) | F22: 43694.708 | G22: 43694.833 | H22: В | I22: =(G22-F22)/$AB$9 -> 3 | J22: ВЛ 10кВ, №3 | K22: 0 | L22: 0 | M22: =P22 -> 144 | N22: 0 | O22: 0 | P22: 144 | Q22: 0 | R22: 0 | S22: 0 | T22: =P22 -> 144 | U22: 0 | V22: =0.22*T22 -> 31.68 | X22: №77 10.08.2019 | Y22: 3.4.12.3 | Z22: 4.21 | AA22: 1
A23: 85 | B23: Участок №2 | C23: ВЛ | D23: ЦРП Елатьма 10кВ ф.3 | E23: 10 (10.5) | F23: 43695.235 | G23: 43695.25 | H23: В | I23: =(G23-F23)/$AB$9 -> 0.36666667 | J23: ВЛ 10кВ, №3 | K23: 0 | L23: 0 | M23: =P23 -> 1636 | N23: 0 | O23: 0 | P23: 1636 | Q23: 0 | R23: 0 | S23: 0 | T23: =P23 -> 1636 | U23: 0 | V23: =0.22*T23 -> 359.92 | X23: №79 10.08.2019 | Y23: 3.4.12.3 | Z23: 4.21 | AA23: 1
A24: 86 | B24: Участок №3 | C24: ВЛ | D24: ВЛ 0,4кВ №3 ТП6 Гусь-Железный | E24: 0.38 | F24: 43697.417 | G24: 43697.542 | H24: П | I24: =(G24-F24)/$AB$9 -> 3 | J24: ВЛ 0,4кВ №3 ТП6 Гусь-Железный | K24: 0 | L24: 0 | M24: =P24 -> 30 | N24: 0 | O24: 0 | P24: 30 | Q24: 0 | R24: 0 | S24: 0 | T24: =P24 -> 30 | U24: 0 | V24: =0.22*T24 -> 6.6 | AA24: 1
A25: 87 | B25: Участок №1 | C25: ТП | D25: ТП Бургаз | E25: 10 (10.5) | F25: 43697.458 | G25: 43697.667 | H25: П | I25: =(G25-F25)/$AB$9 -> 5 | J25: ТП Бургаз | K25: 0 | L25: 0 | M25: =P25 -> 28 | N25: 0 | O25: 0 | P25: 28 | Q25: 0 | R25: 0 | S25: 0 | T25: =P25 -> 28 | U25: 0 | V25: =0.22*T25 -> 6.16 | AA25: 1
A26: 88 | B26: Участок №3 | C26: ТП | D26: РУ10кВ ЗТП 8 | E26: 10 (10.5) | F26: 43700.417 | G26: 43700.562 | H26: П | I26: =(G26-F26)/$AB$9 -> 3.5 | J26: РУ10кВ ЗТП 8 | K26: 0 | L26: 0 | M26: =P26 -> 58 | N26: 0 | O26: 0 | P26: 58 | Q26: 0 | R26: 0 | S26: 0 | T26: =P26 -> 58 | U26: 0 | V26: =0.22*T26 -> 12.76 | AA26: 1
A27: 89 | B27: Участок №3 | C27: ВЛ | D27: ВЛ 0,4кВ №1 ТП1 Гусь-Железный | E27: 0.38 | F27: 43703.542 | G27: 43703.583 | H27: П | I27: =(G27-F27)/$AB$9 -> 1 | J27: ВЛ 0,4кВ №1 ТП1 Гусь-Железный | K27: 0 | L27: 0 | M27: =P27 -> 28 | N27: 0 | O27: 0 | P27: 28 | Q27: 0 | R27: 0 | S27: 0 | T27: =P27 -> 28 | U27: 0 | V27: =0.22*T27+32 -> 38.16 | AA27: 1

Sheet Отчет Сент К
A2: Форма 8.1 - Журнал учёта данных первичной информации по всем прекращениям передачи электрической энергии, произошедших на объектах электросетевых организаций за | Q2: сентябрь | R2: месяц | S2: 2019 | T2: года
A3: МУ МПЖКХ Гусь-Железный
A4: наименование электросетевой организации
A6: Данные о факте прекращения передачи электрической энергии | J6: Данные о масштабе прекращения передачи электрической энергии в сетевой организации | W6: Перечень смежных сетевых организаций, затронутых прекращением передачи электрической энергии | X6: Данные о причинах прекращения передачи электрической энергии и их расследовании | AA6: Учет в показателях надежности, в т.ч. индикативных показателях надежности (0 - нет, 1 - да)
A7: Номер прекращения передачи электрической энергии / Номер итоговой строки | B7: Наименование структурной единицы сетевой организации | C7: Вид объекта: КЛ, ВЛ, КВЛ, ПС, ТП, РП | D7: Диспетчерское наименование объекта электросетевого хозяйства сетевой организации, в результате отключения которой произошло прекращение передачи электроэнергии потребителям услуг | E7: Высший класс напряжения отключенного оборудования сетевой организации, кВ | F7: Время и дата начала прекращения передачи электрической энергии (часы, минуты, ГГГГ.ММ.ДД) | G7: Время и дата восстановления режима потребления электрической энергии потребителей услуг (часы, минуты, ГГГГ.ММ.ДД) | H7: Вид прекращения передачи электроэнергии (П, А, В) | I7: Продолжительность прекращения передачи электрической энергии, час | J7: Перечень объектов электросетевого хозяйства, отключение которых привело к прекращению передачи электрической энергии потребителям услуг (ПС, ТП, РП, ВЛ, КЛ) | K7: Перечень потребителей 1-й и 2-й категорий надежности, в отношении которых произошло полное ограничение режима потребления электрической энергии | L7: Перечень потребителей 1-й и 2-й категорий надежности, в отношении которых произошло частичное ограничение режима потребления электрической энергии | M7: Количество точек поставки потребителей услуг сетевой организации, в отношении которых произошел перерыв электроснабжения, шт., в том числе: | V7: Суммарный объем фактической нагрузки (мощности) на присоединениях потребителей услуг, по которым произошло прекращение передачи электрической энергии на момент возникновения такого события, кВт
M8: ВСЕГО | N8: в разделении категорий надежности потребителей электрической энергии | Q8: в разделении уровней напряжения ЭПУ потребителя электрической энергии | U8: Смежные сетевые организации и производители электрической энергии | X8: Номер и дата акта расследования технологического нарушения, записи в оперативном журнале | Y8: Код организационной причины аварии | Z8: Код технической причины повреждения оборудования
N9: 1-я категория надежности | O9: 2-я категория надежности | P9: 3-я категория надежности | Q9: ВН (110 кВ и выше) | R9: СН1 (35 кВ) | S9: СН2 (6-20 кВ) | T9: НН (0,22-1 кВ) | AB9: 0.041666667
A10: 1 | B10: 2 | C10: 3 | D10: 4 | E10: 5 | F10: 6 | G10: 7 | H10: 8 | I10: 9 | J10: 10 | K10: 11 | L10: 12 | M10: 13 | N10: 14 | O10: 15 | P10: 16 | Q10: 17 | R10: 18 | S10: 19 | T10: 20 | U10: 21 | V10: 22 | W10: 23 | X10: 24 | Y10: 25 | Z10: 26 | AA10: 27
A11: 89 | B11: Участок №1 | C11: ВЛ | D11: ВЛ 0,4кВ №1 ТП Бургаз | E11: 0.38 | F11: 43711.417 | G11: 43711.542 | H11: П | I11: =(G11-F11)/$AB$9 -> 3 | J11: ВЛ 0,4кВ №1 | K11: 0 | L11: 0 | M11: =P11 -> 34 | N11: 0 | O11: 0 | P11: 34 | Q11: 0 | R11: 0 | S11: 0 | T11: =P11 -> 34 | U11: 0 | V11: =0.22*T11+11 -> 18.48 | AA11: 1
A12: 90 | B12: Участок №2 | C12: ВЛ | D12: ВТР КТП7 Елатьма | E12: 10 (10.5) | F12: 43711.442 | G12: 43712.415 | H12: В | I12: =(G12-F12)/$AB$9 -> 23.35 | J12: ВЛ 10кВ, №2160 | K12: 0 | L12: 0 | M12: =P12 -> 1 | N12: 0 | O12: 0 | P12: 1 | Q12: 0 | R12: 0 | S12: 0 | T12: =P12 -> 1 | U12: 0 | V12: 189 | X12: №80 05.09.2019 | Y12: 3.4.12 | Z12: 4.12 | AA12: 1
A13: 91 | B13: Участок №1 | C13: ТП | D13: ТП2589 | E13: 10 (10.5) | F13: 43712.375 | G13: 43712.417 | H13: П | I13: =(G13-F13)/$AB$9 -> 1 | J13: ТП2589 | K13: 0 | L13: 0 | M13: =P13 -> 102 | N13: 0 | O13: 0 | P13: 102 | Q13: 0 | R13: 0 | S13: 0 | T13: =P13 -> 102 | U13: 0 | V13: =0.22*T13 -> 22.44 | AA13: 1
A14: 92 | B14: Участок №1 | C14: ТП | D14: ТП2591 | E14: 0.38 | F14: 43713.396 | G14: 43713.5 | H14: П | I14: =(G14-F14)/$AB$9 -> 2.5 | J14: ТП2591 | K14: 0 | L14: 0 | M14: =P14 -> 132 | N14: 0 | O14: 0 | P14: 132 | Q14: 0 | R14: 0 | S14: 0 | T14: =P14 -> 132 | U14: 0 | V14: =0.22*T14 -> 29.04 | AA14: 1
A15: 93 | B15: Участок №1 | C15: ВЛ | D15: ВЛ 0,4кВ №2 ТП2 Гусь-Ж | E15: 0.38 | F15: 43713.417 | G15: 43713.542 | H15: П | I15: =(G15-F15)/$AB$9 -> 3 | J15: ВЛ 0,4кВ №2 ТП2 | K15: 0 | L15: 0 | M15: =P15 -> 124 | N15: 0 | O15: 0 | P15: 124 | Q15: 0 | R15: 0 | S15: 0 | T15: =P15 -> 124 | U15: 0 | V15: =0.22*T15 -> 27.28 | AA15: 1
A16: 94 | B16: Участок №3 | C16: ВЛ | D16: ВЛ 10кВ №4 ПС Зеленино | E16: 10 (10.5) | F16: 43713.417 | G16: 43713.542 | H16: В | I16: =(G16-F16)/$AB$9 -> 3 | J16: ВЛ 10кВ, №4 | K16: 0 | L16: 0 | M16: =P16 -> 146 | N16: 0 | O16: 0 | P16: 146 | Q16: 0 | R16: 0 | S16: 0 | T16: =P16 -> 146 | U16: 0 | V16: =0.22*T16 -> 32.12 | X16: №81 05.09.2019 | Y16: 3.4.12 | Z16: 4.12 | AA16: 1
A17: 95 | B17: Участок №1 | C17: ВЛ | D17: ВЛ 0,4кВ №13 ЗТП 2369 | E17: 0.38 | F17: 43714.417 | G17: 43714.542 | H17: П | I17: =(G17-F17)/$AB$9 -> 3 | J17: ВЛ 0,4кВ №13 ЗТП 2369 | K17: 0 | L17: 0 | M17: =P17 -> 111 | N17: 0 | O17: 0 | P17: 111 | Q17: 0 | R17: 0 | S17: 0 | T17: =P17 -> 111 | U17: 0 | V17: =0.22*T17 -> 24.42 | AA17: 1
A18: 96 | B18: Участок №1 | C18: ВЛ | D18: ВЛ 0,4кВ №1 КТП2 | E18: 0.38 | F18: 43718.417 | G18: 43718.667 | H18: П | I18: =(G18-F18)/$AB$9 -> 6 | J18: ВЛ 0,4кВ №1 КТП2 | K18: 0 | L18: 0 | M18: =P18 -> 68 | N18: 0 | O18: 0 | P18: 68 | Q18: 0 | R18: 0 | S18: 0 | T18: =P18 -> 68 | U18: 0 | V18: =0.22*T18 -> 14.96 | AA18: 1
A19: 97 | B19: Участок №2 | C19: ТП | D19: ВЛ 0,4кВ №3 КТП12 | E19: 0.38 | F19: 43719.406 | G19: 43719.448 | H19: П | I19: =(G19-F19)/$AB$9 -> 1 | J19: ВЛ 0,4кВ №3 КТП12 | K19: 0 | L19: 0 | M19: =P19 -> 56 | N19: 0 | O19: 0 | P19: 56 | Q19: 0 | R19: 0 | S19: 0 | T19: =P19 -> 56 | U19: 0 | V19: =0.22*T19 -> 12.32 | AA19: 1
A20: 98 | B20: Участок №3 | C20: ВЛ | D20: ВЛ 10кВ №6 ПС Бельки ф.6 | E20: 10 (10.5) | F20: 43719.5 | G20: 43719.583 | H20: В | I20: =(G20-F20)/$AB$9 -> 2 | J20: ВЛ 10кВ, №6 | K20: 0 | L20: 0 | M20: =P20 -> 1258 | N20: 0 | O20: 0 | P20: 1258 | Q20: 0 | R20: 0 | S20: 0 | T20: =P20 -> 1258 | U20: 0 | V20: =0.22*T20+89 -> 365.76 | X20: №82 12.09.2020 | Y20: 3.4.8 | Z20: 4.4 | AA20: 0
A21: 99 | B21: Участок №2 | C21: ТП | D21: ВЛ 0,4кВ №1 КТП5 | E21: 0.38 | F21: 43721.375 | G21: 43721.417 | H21: П | I21: =(G21-F21)/$AB$9 -> 1 | J21: ВЛ 0,4кВ №1 КТП5 | K21: 0 | L21: 0 | M21: =P21 -> 72 | N21: 0 | O21: 0 | P21: 72 | Q21: 0 | R21: 0 | S21: 0 | T21: =P21 -> 72 | U21: 0 | V21: =0.22*T21 -> 15.84 | AA21: 1
A22: 100 | B22: Участок №1 | C22: ВЛ | D22: ВЛ 10кВ ф.12 от ТП2589 | E22: 10 (10.5) | F22: 43725.396 | G22: 43725.5 | H22: П | I22: =(G22-F22)/$AB$9 -> 2.5 | J22: ВЛ 10кВ ф.12 от ТП2589 | K22: 0 | L22: 0 | M22: =P22 -> 42 | N22: 0 | O22: 0 | P22: 42 | Q22: 0 | R22: 0 | S22: 0 | T22: =P22 -> 42 | U22: 0 | V22: =0.22*T22 -> 9.24 | AA22: 1
A23: 101 | B23: Участок №3 | C23: ТП | D23: ВТР ТП2535 Клетино | E23: 10 (10.5) | F23: 43725.417 | G23: 43725.458 | H23: П | I23: =(G23-F23)/$AB$9 -> 1 | J23: ВТР ТП2535 Клетино | K23: 0 | L23: 0 | M23: =P23 -> 158 | N23: 0 | O23: 0 | P23: 158 | Q23: 0 | R23: 0 | S23: 0 | T23: =P23 -> 158 | U23: 0 | V23: =0.22*T23 -> 34.76 | AA23: 1
A24: 102 | B24: Участок №1 | C24: ВЛ | D24: ВЛ 10кВ ф.12 от ТП2589 | E24: 10 (10.5) | F24: 43726.417 | G24: 43726.583 | H24: П | I24: =(G24-F24)/$AB$9 -> 4 | J24: ВЛ 10кВ ф.12 от ТП2589 | K24: 0 | L24: 0 | M24: =P24 -> 42 | N24: 0 | O24: 0 | P24: 42 | Q24: 0 | R24: 0 | S24: 0 | T24: =P24 -> 42 | U24: 0 | V24: =0.22*T24 -> 9.24 | AA24: 1
A25: 103 | B25: Участок №2 | C25: ВЛ | D25: ВЛ 10кВ ЗТП 2160 | E25: 10 (10.5) | F25: 43726.417 | G25: 43727.583 | H25: П | I25: =(G25-F25)/$AB$9 -> 28 | J25: ВЛ 10кВ ЗТП 2160 | K25: 0 | L25: 0 | M25: =P25 -> 1 | N25: 0 | O25: 0 | P25: 1 | Q25: 0 | R25: 0 | S25: 0 | T25: =P25 -> 1 | U25: 0 | V25: 232 | AA25: 1
A26: 104 | B26: Участок №3 | C26: ВЛ | D26: ВЛ 0,4кВ №1 ТП6 Сынтул | E26: 0.38 | F26: 43728.438 | G26: 43728.5 | H26: В | I26: =(G26-F26)/$AB$9 -> 1.5 | J26: ВЛ 0,4кВ, №1 | K26: 0 | L26: 0 | M26: =P26 -> 48 | N26: 0 | O26: 0 | P26: 48 | Q26: 0 | R26: 0 | S26: 0 | T26: =P26 -> 48 | U26: 0 | V26: =0.22*T26 -> 10.56 | X26: №83 23.09.2021 | Y26: 3.4.8 | Z26: 4.4 | AA26: 1
A27: 105 | B27: Участок №1 | C27: ВЛ | D27: ВЛ 0,4кВ №7 ЗТП 2478 | E27: 0.38 | F27: 43728.396 | G27: 43728.438 | H27: П | I27: =(G27-F27)/$AB$9 -> 1 | J27: ВЛ 0,4кВ №7 ЗТП 2478 | K27: 0 | L27: 0 | M27: =P27 -> 241 | N27: 0 | O27: 0 | P27: 241 | Q27: 0 | R27: 0 | S27: 0 | T27: =P27 -> 241 | U27: 0 | V27: =0.22*T27 -> 53.02 | AA27: 1
A28: 106 | B28: Участок №3 | C28: ТП | D28: РУ 0,4кВ №2 ТП5 Гусь-Ж | E28: 0.38 | F28: 43732.417 | G28: 43732.438 | H28: П | I28: =(G28-F28)/$AB$9 -> 0.5 | J28: РУ 0,4кВ №2 ТП5 Гусь-Ж | K28: 0 | L28: 0 | M28: =P28 -> 356 | N28: 0 | O28: 0 | P28: 356 | Q28: 0 | R28: 0 | S28: 0 | T28: =P28 -> 356 | U28: 0 | V28: =0.22*T28 -> 78.32 | AA28: 1

Sheet Отчет Окт К
A2: Форма 8.1 - Журнал учёта данных первичной информации по всем прекращениям передачи электрической энергии, произошедших на объектах электросетевых организаций за | Q2: сентябрь | R2: месяц | S2: 2019 | T2: года
A3: МУ МПЖКХ Гусь-Железный
A4: наименование электросетевой организации
A6: Данные о факте прекращения передачи электрической энергии | J6: Данные о масштабе прекращения передачи электрической энергии в сетевой организации | W6: Перечень смежных сетевых организаций, затронутых прекращением передачи электрической энергии | X6: Данные о причинах прекращения передачи электрической энергии и их расследовании | AA6: Учет в показателях надежности, в т.ч. индикативных показателях надежности (0 - нет, 1 - да)
A7: Номер прекращения передачи электрической энергии / Номер итоговой строки | B7: Наименование структурной единицы сетевой организации | C7: Вид объекта: КЛ, ВЛ, КВЛ, ПС, ТП, РП | D7: Диспетчерское наименование объекта электросетевого хозяйства сетевой организации, в результате отключения которой произошло прекращение передачи электроэнергии потребителям услуг | E7: Высший класс напряжения отключенного оборудования сетевой организации, кВ | F7: Время и дата начала прекращения передачи электрической энергии (часы, минуты, ГГГГ.ММ.ДД) | G7: Время и дата восстановления режима потребления электрической энергии потребителей услуг (часы, минуты, ГГГГ.ММ.ДД) | H7: Вид прекращения передачи электроэнергии (П, А, В) | I7: Продолжительность прекращения передачи электрической энергии, час | J7: Перечень объектов электросетевого хозяйства, отключение которых привело к прекращению передачи электрической энергии потребителям услуг (ПС, ТП, РП, ВЛ, КЛ) | K7: Перечень потребителей 1-й и 2-й категорий надежности, в отношении которых произошло полное ограничение режима потребления электрической энергии | L7: Перечень потребителей 1-й и 2-й категорий надежности, в отношении которых произошло частичное ограничение режима потребления электрической энергии | M7: Количество точек поставки потребителей услуг сетевой организации, в отношении которых произошел перерыв электроснабжения, шт., в том числе: | V7: Суммарный объем фактической нагрузки (мощности) на присоединениях потребителей услуг, по которым произошло прекращение передачи электрической энергии на момент возникновения такого события, кВт
M8: ВСЕГО | N8: в разделении категорий надежности потребителей электрической энергии | Q8: в разделении уровней напряжения ЭПУ потребителя электрической энергии | U8: Смежные сетевые организации и производители электрической энергии | X8: Номер и дата акта расследования технологического нарушения, записи в оперативном журнале | Y8: Код организационной причины аварии | Z8: Код технической причины повреждения оборудования
N9: 1-я категория надежности | O9: 2-я категория надежности | P9: 3-я категория надежности | Q9: ВН (110 кВ и выше) | R9: СН1 (35 кВ) | S9: СН2 (6-20 кВ) | T9: НН (0,22-1 кВ) | AB9: 0.041666667
A10: 1 | B10: 2 | C10: 3 | D10: 4 | E10: 5 | F10: 6 | G10: 7 | H10: 8 | I10: 9 | J10: 10 | K10: 11 | L10: 12 | M10: 13 | N10: 14 | O10: 15 | P10: 16 | Q10: 17 | R10: 18 | S10: 19 | T10: 20 | U10: 21 | V10: 22 | W10: 23 | X10: 24 | Y10: 25 | Z10: 26 | AA10: 27
A11: 107 | B11: Участок №2 | C11: ВЛ | D11: ВЛ 0,4кВ КТП 11 ф.2 ПС ПС Сабурово 110/10кВ ф.7 | E11: 0.38 | F11: 43740.375 | G11: 43740.604 | H11: П | I11: =(G11-F11)/$AB$9 -> 5.5 | J11: ВЛ 0,4кВ КТП 11 ф.2 | K11: 0 | L11: 0 | M11: =P11 -> 38 | N11: 0 | O11: 0 | P11: 38 | Q11: 0 | R11: 0 | S11: 0 | T11: =P11 -> 38 | U11: 0 | V11: =0.22*T11+11 -> 19.36 | AA11: 1
A12: 108 | B12: Участок №2 | C12: ВЛ | D12: ВЛ 0,4кВ КТП 11 ф.2 ПС ПС Сабурово 110/10кВ ф.7 | E12: 0.38 | F12: 43741.375 | G12: 43741.646 | H12: П | I12: =(G12-F12)/$AB$9 -> 6.5 | J12: ВЛ 0,4кВ КТП 11 ф.2 | K12: 0 | L12: 0 | M12: =P12 -> 38 | N12: 0 | O12: 0 | P12: 38 | Q12: 0 | R12: 0 | S12: 0 | T12: =P12 -> 38 | U12: 0 | V12: 189 | AA12: 1
A13: 109 | B13: Участок №2 | C13: ВЛ | D13: ВЛ 0,4кВ КТП 11 ф.2 ПС ПС Сабурово 110/10кВ ф.7 | E13: 0.38 | F13: 43742.375 | G13: 43742.646 | H13: П | I13: =(G13-F13)/$AB$9 -> 6.5 | J13: ВЛ 0,4кВ КТП 11 ф.2 | K13: 0 | L13: 0 | M13: =P13 -> 38 | N13: 0 | O13: 0 | P13: 38 | Q13: 0 | R13: 0 | S13: 0 | T13: =P13 -> 38 | U13: 0 | V13: =0.22*T13 -> 8.36 | AA13: 1
A14: 110 | B14: Участок №2 | C14: ВЛ | D14: ВЛ 0,4кВ КТП 12 ф.2 ПС ПС Сабурово 110/10кВ ф.7 | E14: 0.38 | F14: 43744.222 | G14: 43744.479 | H14: В | I14: =(G14-F14)/$AB$9 -> 6.1666667 | J14: ВЛ 0,4кВ КТП 12 ф.2 | K14: 0 | L14: 0 | M14: =P14 -> 42 | N14: 0 | O14: 0 | P14: 42 | Q14: 0 | R14: 0 | S14: 0 | T14: =P14 -> 42 | U14: 0 | V14: =0.22*T14 -> 9.24 | X14: №80 05.09.2019 | Y14: 3.4.12 | Z14: 4.12 | AA14: 1
A15: 111 | B15: Участок №1 | C15: ВЛ | D15: ВЛ 0,4кВ ЗТП 5 ф.2 ПС Зеленино 35/10кВ ф.3 | E15: 0.38 | F15: 43743.007 | G15: 43743.41 | H15: В | I15: =(G15-F15)/$AB$9 -> 9.6666667 | J15: ВЛ 0,4кВ ЗТП 5 ф.2 | K15: 0 | L15: 0 | M15: =P15 -> 124 | N15: 0 | O15: 0 | P15: 124 | Q15: 0 | R15: 0 | S15: 0 | T15: =P15 -> 124 | U15: 0 | V15: =0.22*T15 -> 27.28 | X15: №81 05.09.2019 | Y15: 3.4.12 | Z15: 4.12 | AA15: 1
A16: 112 | B16: Участок №1 | C16: ВЛ | D16: ВЛ 0,4кВ ЗТП 5 ф.2 ПС Зеленино 35/10кВ ф.3 | E16: 0.38 | F16: 43746.458 | G16: 43746.562 | H16: П | I16: =(G16-F16)/$AB$9 -> 2.5 | J16: ВЛ 0,4кВ ЗТП 5 ф.2 | K16: 0 | L16: 0 | M16: =P16 -> 124 | N16: 0 | O16: 0 | P16: 124 | Q16: 0 | R16: 0 | S16: 0 | T16: =P16 -> 124 | U16: 0 | V16: =0.22*T16 -> 27.28 | AA16: 1
A17: 113 | B17: Участок №3 | C17: ВЛ | D17: ВЛ 0,4кВ КТП 7 ПС Сынтул 35/10кВ ф.4 | E17: 0.38 | F17: 43752.417 | G17: 43752.5 | H17: П | I17: =(G17-F17)/$AB$9 -> 2 | J17: ВЛ 0,4кВ КТП 7 | K17: 0 | L17: 0 | M17: =P17 -> 56 | N17: 0 | O17: 0 | P17: 56 | Q17: 0 | R17: 0 | S17: 0 | T17: =P17 -> 56 | U17: 0 | V17: =0.22*T17 -> 12.32 | AA17: 1
A18: 114 | B18: Участок №1 | C18: ВЛ | D18: ВЛ 0,4кВ ЗТП 2369 ПС Телебукино 35/10кВ ф.11 | E18: 0.38 | F18: 43752.417 | G18: 43752.5 | H18: П | I18: =(G18-F18)/$AB$9 -> 2 | J18: ВЛ 0,4кВ ЗТП 2369 | K18: 0 | L18: 0 | M18: =P18 -> 68 | N18: 0 | O18: 0 | P18: 68 | Q18: 0 | R18: 0 | S18: 0 | T18: =P18 -> 68 | U18: 0 | V18: =0.22*T18 -> 14.96 | AA18: 1
A19: 115 | B19: Участок №1 | C19: ВЛ | D19: ВЛ 0,4кВ ЗТП 2369 ПС Телебукино 35/10кВ ф.11 | E19: 0.38 | F19: 43753.417 | G19: 43753.667 | H19: П | I19: =(G19-F19)/$AB$9 -> 6 | J19: ВЛ 0,4кВ ЗТП 2369 | K19: 0 | L19: 0 | M19: =P19 -> 68 | N19: 0 | O19: 0 | P19: 68 | Q19: 0 | R19: 0 | S19: 0 | T19: =P19 -> 68 | U19: 0 | V19: =0.22*T19 -> 14.96 | AA19: 1
A20: 116 | B20: Участок №3 | C20: ВЛ | D20: ВЛ 0,4кВ КТП 7 ПС Сынтул 35/10кВ ф.4 | E20: 0.38 | F20: 43754.417 | G20: 43754.583 | H20: П | I20: =(G20-F20)/$AB$9 -> 4 | J20: ВЛ 0,4кВ КТП 7 | K20: 0 | L20: 0 | M20: =P20 -> 34 | N20: 0 | O20: 0 | P20: 34 | Q20: 0 | R20: 0 | S20: 0 | T20: =P20 -> 34 | U20: 0 | V20: =0.22*T20+89 -> 96.48 | AA20: 0
A21: 117 | B21: Участок №3 | C21: ВЛ | D21: ВЛ 0,4кВ КТП 7 ПС Сынтул 35/10кВ ф.4 | E21: 0.38 | F21: 43755.417 | G21: 43755.542 | H21: П | I21: =(G21-F21)/$AB$9 -> 3 | J21: ВЛ 0,4кВ КТП 7 | K21: 0 | L21: 0 | M21: =P21 -> 34 | N21: 0 | O21: 0 | P21: 34 | Q21: 0 | R21: 0 | S21: 0 | T21: =P21 -> 34 | U21: 0 | V21: =0.22*T21 -> 7.48 | AA21: 1
A22: 118 | B22: Участок №1 | C22: ВЛ | D22: ВЛ 10кВ №2 ПС Шостье 110/35/10кВ ф.2 | E22: 10 (10.5) | F22: 43759.375 | G22: 43759.667 | H22: В | I22: =(G22-F22)/$AB$9 -> 7 | J22: ВЛ 10кВ №2 | K22: 0 | L22: 0 | M22: =P22 -> 112 | N22: 0 | O22: 0 | P22: 112 | Q22: 0 | R22: 0 | S22: 0 | T22: =P22 -> 112 | U22: 0 | V22: =0.22*T22 -> 24.64 | X22: №82 12.09.2020 | Y22: 3.4.8 | Z22: 4.4 | AA22: 1
A23: 119 | B23: Участок №1 | C23: ВЛ | D23: ВЛ 0,4кВ ТП 2553 ф.2 ПС Телебукино 35/10кВ ф.5 | E23: 0.38 | F23: 43759.417 | G23: 43759.708 | H23: П | I23: =(G23-F23)/$AB$9 -> 7 | J23: ВЛ 0,4кВ | K23: 0 | L23: 0 | M23: =P23 -> 34 | N23: 0 | O23: 0 | P23: 34 | Q23: 0 | R23: 0 | S23: 0 | T23: =P23 -> 34 | U23: 0 | V23: =0.22*T23 -> 7.48 | AA23: 1
A24: 120 | B24: Участок №1 | C24: ВЛ | D24: ВЛ 10кВ №12 ГПП Касимов 110/35/10кВ | E24: 10 (10.5) | F24: 43763.306 | G24: 43763.347 | H24: В | I24: =(G24-F24)/$AB$9 -> 1 | J24: ВЛ 10кВ №12 | K24: 0 | L24: 0 | M24: =P24 -> 42 | N24: 0 | O24: 0 | P24: 42 | Q24: 0 | R24: 0 | S24: 0 | T24: =P24 -> 42 | U24: 0 | V24: =0.22*T24 -> 9.24 | X24: х | Y24: х | Z24: х | AA24: 0

Sheet Отчет Ноя К
A2: Форма 8.1 - Журнал учёта данных первичной информации по всем прекращениям передачи электрической энергии, произошедших на объектах электросетевых организаций за | Q2: ноябрь | R2: месяц | S2: 2019 | T2: года
A3: МУ МПЖКХ Гусь-Железный
A4: наименование электросетевой организации
A6: Данные о факте прекращения передачи электрической энергии | J6: Данные о масштабе прекращения передачи электрической энергии в сетевой организации | W6: Перечень смежных сетевых организаций, затронутых прекращением передачи электрической энергии | X6: Данные о причинах прекращения передачи электрической энергии и их расследовании | AA6: Учет в показателях надежности, в т.ч. индикативных показателях надежности (0 - нет, 1 - да)
A7: Номер прекращения передачи электрической энергии / Номер итоговой строки | B7: Наименование структурной единицы сетевой организации | C7: Вид объекта: КЛ, ВЛ, КВЛ, ПС, ТП, РП | D7: Диспетчерское наименование объекта электросетевого хозяйства сетевой организации, в результате отключения которой произошло прекращение передачи электроэнергии потребителям услуг | E7: Высший класс напряжения отключенного оборудования сетевой организации, кВ | F7: Время и дата начала прекращения передачи электрической энергии (часы, минуты, ГГГГ.ММ.ДД) | G7: Время и дата восстановления режима потребления электрической энергии потребителей услуг (часы, минуты, ГГГГ.ММ.ДД) | H7: Вид прекращения передачи электроэнергии (П, А, В) | I7: Продолжительность прекращения передачи электрической энергии, час | J7: Перечень объектов электросетевого хозяйства, отключение которых привело к прекращению передачи электрической энергии потребителям услуг (ПС, ТП, РП, ВЛ, КЛ) | K7: Перечень потребителей 1-й и 2-й категорий надежности, в отношении которых произошло полное ограничение режима потребления электрической энергии | L7: Перечень потребителей 1-й и 2-й категорий надежности, в отношении которых произошло частичное ограничение режима потребления электрической энергии | M7: Количество точек поставки потребителей услуг сетевой организации, в отношении которых произошел перерыв электроснабжения, шт., в том числе: | V7: Суммарный объем фактической нагрузки (мощности) на присоединениях потребителей услуг, по которым произошло прекращение передачи электрической энергии на момент возникновения такого события, кВт
M8: ВСЕГО | N8: в разделении категорий надежности потребителей электрической энергии | Q8: в разделении уровней напряжения ЭПУ потребителя электрической энергии | U8: Смежные сетевые организации и производители электрической энергии | X8: Номер и дата акта расследования технологического нарушения, записи в оперативном журнале | Y8: Код организационной причины аварии | Z8: Код технической причины повреждения оборудования
N9: 1-я категория надежности | O9: 2-я категория надежности | P9: 3-я категория надежности | Q9: ВН (110 кВ и выше) | R9: СН1 (35 кВ) | S9: СН2 (6-20 кВ) | T9: НН (0,22-1 кВ) | AB9: 0.041666667
A10: 1 | B10: 2 | C10: 3 | D10: 4 | E10: 5 | F10: 6 | G10: 7 | H10: 8 | I10: 9 | J10: 10 | K10: 11 | L10: 12 | M10: 13 | N10: 14 | O10: 15 | P10: 16 | Q10: 17 | R10: 18 | S10: 19 | T10: 20 | U10: 21 | V10: 22 | W10: 23 | X10: 24 | Y10: 25 | Z10: 26 | AA10: 27
A11: 121 | B11: Участок №1 | C11: ВЛ | D11: ВЛ 10кВ ЗТП 5 ф.2 ПС Лашма 35/10кВ ф.5 | E11: 10 (10.5) | F11: 43772.531 | G11: 43772.646 | H11: В | I11: =(G11-F11)/$AB$9 -> 2.75 | J11: ВЛ 10кВ №5 | K11: 0 | L11: 0 | M11: =P11 -> 324 | N11: 0 | O11: 0 | P11: 324 | Q11: 0 | R11: 0 | S11: 0 | T11: =P11 -> 324 | U11: 0 | V11: =0.22*T11+11 -> 82.28 | X11: №88 04.11.2019 | Y11: 3.4.14 | Z11: 4.21 | AA11: 1
A12: 122 | B12: Участок №1 | C12: ВЛ | D12: ВЛ 10кВ №12 ГПП Касимов 110/35/10кВ | E12: 10 (10.5) | F12: 43772.604 | G12: 43772.646 | H12: В | I12: =(G12-F12)/$AB$9 -> 1 | J12: ВЛ 10кВ №12 | K12: 0 | L12: 0 | M12: =P12 -> 423 | N12: 0 | O12: 0 | P12: 423 | Q12: 0 | R12: 0 | S12: 0 | T12: =P12 -> 423 | U12: 0 | V12: 189 | X12: №89 04.11.2019 | Y12: 3.4.14 | Z12: 4.21 | AA12: 1
A13: 123 | B13: Участок №1 | C13: ВЛ | D13: ВЛ 0,4кВ №1 КТП 2445 ПС Шостье110/35/10кВ ф.2 | E13: 0.38 | F13: 43773.521 | G13: 43773.625 | H13: В | I13: =(G13-F13)/$AB$9 -> 2.5 | J13: ВЛ 0,4кВ КТП 2445 | K13: 0 | L13: 0 | M13: =P13 -> 45 | N13: 0 | O13: 0 | P13: 45 | Q13: 0 | R13: 0 | S13: 0 | T13: =P13 -> 45 | U13: 0 | V13: =0.22*T13 -> 9.9 | X13: №90 05.11.2019 | Y13: 3.4.9.1 | Z13: 4.14 | AA13: 1
A14: 124 | B14: Участок №1 | C14: ВЛ | D14: ВЛ 10кВ №12 ГПП Касимов 110/35/10кВ | E14: 10 (10.5) | F14: 43774.257 | G14: 43774.708 | H14: В | I14: =(G14-F14)/$AB$9 -> 10.833333 | J14: ВЛ 10кВ №12 | K14: 0 | L14: 0 | M14: =P14 -> 1 | N14: 0 | O14: 0 | P14: 1 | Q14: 0 | R14: 0 | S14: 0 | T14: =P14 -> 1 | U14: 0 | V14: =0.22*T14 -> 0.22 | X14: №91 06.11.2019 | Y14: 3.4.9.3 | Z14: 4.11 | AA14: 0
A15: 125 | B15: Участок №1 | C15: ВЛ | D15: ВЛ 10кВ №2 ПС Шостье 110/35/10кВ ф.2 | E15: 10 (10.5) | F15: 43774.542 | G15: 43774.625 | H15: П | I15: =(G15-F15)/$AB$9 -> 2 | J15: ВЛ 10кВ №2 | K15: 0 | L15: 0 | M15: =P15 -> 112 | N15: 0 | O15: 0 | P15: 112 | Q15: 0 | R15: 0 | S15: 0 | T15: =P15 -> 112 | U15: 0 | V15: =0.22*T15 -> 24.64 | AA15: 1
A16: 126 | B16: Участок №1 | C16: ВЛ | D16: ВЛ 10кВ ЗТП 2369 ПС Телебукино 35/10кВ ф.11 | E16: 10 (10.5) | F16: 43776.312 | G16: 43776.646 | H16: П | I16: =(G16-F16)/$AB$9 -> 8 | J16: ВЛ 10кВ №11 | K16: 0 | L16: 0 | M16: =P16 -> 1 | N16: 0 | O16: 0 | P16: 1 | Q16: 0 | R16: 0 | S16: 0 | T16: =P16 -> 1 | U16: 0 | V16: =0.22*T16 -> 0.22 | AA16: 1
A17: 127 | B17: Участок №1 | C17: ВЛ | D17: ВЛ 10кВ №2 ПС Шостье 110/35/10кВ ф.2 | E17: 10 (10.5) | F17: 43781.417 | G17: 43781.625 | H17: П | I17: =(G17-F17)/$AB$9 -> 5 | J17: ВЛ 10кВ №2 | K17: 0 | L17: 0 | M17: =P17 -> 112 | N17: 0 | O17: 0 | P17: 112 | Q17: 0 | R17: 0 | S17: 0 | T17: =P17 -> 112 | U17: 0 | V17: =0.22*T17 -> 24.64 | AA17: 1
A18: 128 | B18: Участок №1 | C18: ВЛ | D18: ВЛ 0,4кВ КТП 2 ПС Телебукино 35/10кВ ф.14 | E18: 0.38 | F18: 43784.417 | G18: 43784.458 | H18: П | I18: =(G18-F18)/$AB$9 -> 1 | J18: ВЛ 0,4кВ КТП2 | K18: 0 | L18: 0 | M18: =P18 -> 48 | N18: 0 | O18: 0 | P18: 48 | Q18: 0 | R18: 0 | S18: 0 | T18: =P18 -> 48 | U18: 0 | V18: =0.22*T18 -> 10.56 | AA18: 1
A19: 129 | B19: Участок №2 | C19: ВЛ | D19: ВЛ 0,4кВ ТП6 ф.2 ПС Сабурово 110/10кВ ф.7 | E19: 0.38 | F19: 43787.479 | G19: 43787.583 | H19: П | I19: =(G19-F19)/$AB$9 -> 2.5 | J19: ВЛ 0,4кВ КТП6 | K19: 0 | L19: 0 | M19: =P19 -> 5 | N19: 0 | O19: 0 | P19: 5 | Q19: 0 | R19: 0 | S19: 0 | T19: =P19 -> 5 | U19: 0 | V19: =0.22*T19 -> 1.1 | AA19: 1
A20: 130 | B20: Участок №1 | C20: ВЛ | D20: ВЛ 0,4кВ ТП14 ф.1 ПС Сабурово 110/10кВ ф.7 | E20: 0.38 | F20: 43788.396 | G20: 43788.611 | H20: П | I20: =(G20-F20)/$AB$9 -> 5.1666667 | J20: ВЛ 0,4кВ КТП14 | K20: 0 | L20: 0 | M20: =P20 -> 72 | N20: 0 | O20: 0 | P20: 72 | Q20: 0 | R20: 0 | S20: 0 | T20: =P20 -> 72 | U20: 0 | V20: =0.22*T20+89 -> 104.84 | AA20: 1
A21: 131 | B21: Участок №2 | C21: ВЛ | D21: ВЛ 0,4кВ ТП14 ф.1 ПС Сабурово 110/10кВ ф.7 | E21: 0.38 | F21: 43794.385 | G21: 43794.438 | H21: П | I21: =(G21-F21)/$AB$9 -> 1.25 | J21: ВЛ 0,4кВ КТП14 | K21: 0 | L21: 0 | M21: =P21 -> 72 | N21: 0 | O21: 0 | P21: 72 | Q21: 0 | R21: 0 | S21: 0 | T21: =P21 -> 72 | U21: 0 | V21: =0.22*T21 -> 15.84 | AA21: 1
A22: 132 | B22: Участок №1 | C22: ВЛ | D22: ВЛ 0,4кВ ТП6 ф.2 ПС Сабурово 110/10кВ ф.7 | E22: 0.38 | F22: 43795.448 | G22: 43795.583 | H22: П | I22: =(G22-F22)/$AB$9 -> 3.25 | J22: ВЛ 0,4кВ КТП6 | K22: 0 | L22: 0 | M22: =P22 -> 5 | N22: 0 | O22: 0 | P22: 5 | Q22: 0 | R22: 0 | S22: 0 | T22: =P22 -> 5 | U22: 0 | V22: =0.22*T22 -> 1.1 | AA22: 1
A23: 133 | B23: Участок №2 | C23: ВЛ | D23: ВЛ 0,4кВ ТП14 ф.1 ПС Сабурово 110/10кВ ф.7 | E23: 0.38 | F23: 43796.458 | G23: 43796.474 | H23: П | I23: =(G23-F23)/$AB$9 -> 0.38333333 | J23: ВЛ 0,4кВ КТП14 | K23: 0 | L23: 0 | M23: =P23 -> 72 | N23: 0 | O23: 0 | P23: 72 | Q23: 0 | R23: 0 | S23: 0 | T23: =P23 -> 72 | U23: 0 | V23: =0.22*T23 -> 15.84 | AA23: 1

Sheet Отчет сентябрь
A2: Форма 8.1 - Журнал учёта данных первичной информации по всем прекращениям передачи электрической энергии, произошедших на объектах электросетевых организаций за | Q2: сентябрь | R2: месяц | S2: 2019 | T2: года
A3: МУ МПЖКХ Гусь-Железный
A4: наименование электросетевой организации
A6: Данные о факте прекращения передачи электрической энергии | J6: Признак АПВ (1 - Успешно/0 - Не успешно/2 - Отсутствует/3 - не работала (по принципу действия или выведена по режиму)) | K6: Признак АВР (1 - Успешно/0 - Не успешно/2 - Отсутствует/3 - не работала (по принципу действия или выведена по режиму)) | L6: Данные о масштабе прекращения передачи электрической энергии в сетевой организации | Y6: Перечень смежных сетевых организаций, затронутых прекращением передачи электрической энергии | Z6: Данные о причинах прекращения передачи электрической энергии и их расследовании | AC6: Учет в показателях надежности, в т.ч. индикативных показателях надежности (0 - нет, 1 - да)
A7: Номер прекращения передачи электрической энергии / Номер итоговой строки | B7: Наименование структурной единицы сетевой организации | C7: Вид объекта: КЛ, ВЛ, КВЛ, ПС, ТП, РП | D7: Диспетчерское наименование объекта электросетевого хозяйства сетевой организации, в результате отключения которой произошло прекращение передачи электроэнергии потребителям услуг | E7: Высший класс напряжения отключенного оборудования сетевой организации, кВ | F7: Время и дата начала прекращения передачи электрической энергии (часы, минуты, ГГГГ.ММ.ДД) | G7: Время и дата восстановления режима потребления электрической энергии потребителей услуг (часы, минуты, ГГГГ.ММ.ДД) | H7: Вид прекращения передачи электроэнергии (П, А, В) | I7: Продолжительность прекращения передачи электрической энергии, час | L7: Перечень объектов электросетевого хозяйства, отключение которых привело к прекращению передачи электрической энергии потребителям услуг (ПС, ТП, РП, ВЛ, КЛ) | M7: Перечень потребителей 1-й и 2-й категорий надежности, в отношении которых произошло полное ограничение режима потребления электрической энергии | N7: Перечень потребителей 1-й и 2-й категорий надежности, в отношении которых произошло частичное ограничение режима потребления электрической энергии | O7: Количество точек поставки потребителей услуг сетевой организации, в отношении которых произошел перерыв электроснабжения, шт., в том числе: | X7: Суммарный объем фактической нагрузки (мощности) на присоединениях потребителей услуг, по которым произошло прекращение передачи электрической энергии на момент возникновения такого события, кВт
O8: ВСЕГО | P8: в разделении категорий надежности потребителей электрической энергии | S8: в разделении уровней напряжения ЭПУ потребителя электрической энергии | W8: Смежные сетевые организации и производители электрической энергии | Z8: Номер и дата акта расследования технологического нарушения, записи в оперативном журнале | AA8: Код организационной причины аварии | AB8: Код технической причины повреждения оборудования
P9: 1-я категория надежности | Q9: 2-я категория надежности | R9: 3-я категория надежности | S9: ВН (110 кВ и выше) | T9: СН1 (35 кВ) | U9: СН2 (6-20 кВ) | V9: НН (0,22-1 кВ) | AD9: 0.041666667
A10: 1 | B10: 2 | C10: 3 | D10: 4 | E10: 5 | F10: 6 | G10: 7 | H10: 8 | I10: 9 | J10: 10 | K10: 11 | L10: 12 | M10: 13 | N10: 14 | O10: 15 | P10: 16 | Q10: 17 | R10: 18 | S10: 19 | T10: 20 | U10: 21 | V10: 22 | W10: 23 | X10: 24 | Y10: 25 | Z10: 26 | AA10: 27 | AB10: 28 | AC10: 29
A11: 1 | B11: Участок №2 | C11: ВЛ | D11: ВТР КТП7 | E11: 10 (10.5) | F11: 43711.442 | G11: 43712.415 | H11: В | I11: =(G11-F11)/$AD$9 -> 23.35 | J11: 2 | K11: 2 | L11: ВЛ 10кВ, №2160 | M11: 0 | N11: 0 | O11: =R11 -> 1 | P11: 0 | Q11: 0 | R11: 1 | S11: 0 | T11: 0 | U11: 0 | V11: =R11 -> 1 | W11: 0 | X11: 189 | Z11: №80 05.09.2019 | AA11: 3.4.12 | AB11: 4.12 | AC11: 1
A12: 2 | B12: Участок №3 | C12: ВЛ | D12: ВЛ 10кВ №4 ПС Зеленино | E12: 10 (10.5) | F12: 43713.417 | G12: 43713.542 | H12: В | I12: =(G12-F12)/$AD$9 -> 3 | J12: 2 | K12: 2 | L12: ВЛ 10кВ, №4 | M12: 0 | N12: 0 | O12: =R12 -> 146 | P12: 0 | Q12: 0 | R12: 146 | S12: 0 | T12: 0 | U12: 0 | V12: =R12 -> 146 | W12: 0 | X12: =0.22*V12 -> 32.12 | Z12: №81 05.09.2019 | AA12: 3.4.12 | AB12: 4.12 | AC12: 1
A13: 3 | B13: Участок №3 | C13: ВЛ | D13: ВЛ 10кВ №6 ПС Бельки ф.6 | E13: 10 (10.5) | F13: 43719.5 | G13: 43719.583 | H13: В | I13: =(G13-F13)/$AD$9 -> 2 | J13: 2 | K13: 2 | L13: ВЛ 10кВ, №6 | M13: 0 | N13: 0 | O13: =R13 -> 1258 | P13: 0 | Q13: 0 | R13: 1258 | S13: 0 | T13: 0 | U13: 0 | V13: =R13 -> 1258 | W13: 0 | X13: =0.22*V13+89 -> 365.76 | Z13: №82 12.09.2020 | AA13: 3.4.8 | AB13: 4.4 | AC13: 0
A14: 4 | B14: Участок №3 | C14: ВЛ | D14: ВЛ 0,4кВ №1 ТП6 Сынтул | E14: 0.38 | F14: 43728.396 | G14: 43728.438 | H14: В | I14: =(G14-F14)/$AD$9 -> 1 | J14: 2 | K14: 2 | L14: ВЛ 0,4кВ, №1 | M14: 0 | N14: 0 | O14: =R14 -> 48 | P14: 0 | Q14: 0 | R14: 48 | S14: 0 | T14: 0 | U14: 0 | V14: =R14 -> 48 | W14: 0 | X14: =0.22*V14 -> 10.56 | Z14: №83 23.09.2021 | AA14: 3.4.8 | AB14: 4.4 | AC14: 1

Sheet Отчет октябрь
A2: Форма 8.1 - Журнал учёта данных первичной информации по всем прекращениям передачи электрической энергии, произошедших на объектах электросетевых организаций за | Q2: октябрь | R2: месяц | S2: 2019 | T2: года
A3: МУ МПЖКХ Гусь-Железный
A4: наименование электросетевой организации
A6: Данные о факте прекращения передачи электрической энергии | J6: Признак АПВ (1 - Успешно/0 - Не успешно/2 - Отсутствует/3 - не работала (по принципу действия или выведена по режиму)) | K6: Признак АВР (1 - Успешно/0 - Не успешно/2 - Отсутствует/3 - не работала (по принципу действия или выведена по режиму)) | L6: Данные о масштабе прекращения передачи электрической энергии в сетевой организации | Y6: Перечень смежных сетевых организаций, затронутых прекращением передачи электрической энергии | Z6: Данные о причинах прекращения передачи электрической энергии и их расследовании | AC6: Учет в показателях надежности, в т.ч. индикативных показателях надежности (0 - нет, 1 - да)
A7: Номер прекращения передачи электрической энергии / Номер итоговой строки | B7: Наименование структурной единицы сетевой организации | C7: Вид объекта: КЛ, ВЛ, КВЛ, ПС, ТП, РП | D7: Диспетчерское наименование объекта электросетевого хозяйства сетевой организации, в результате отключения которой произошло прекращение передачи электроэнергии потребителям услуг | E7: Высший класс напряжения отключенного оборудования сетевой организации, кВ | F7: Время и дата начала прекращения передачи электрической энергии (часы, минуты, ГГГГ.ММ.ДД) | G7: Время и дата восстановления режима потребления электрической энергии потребителей услуг (часы, минуты, ГГГГ.ММ.ДД) | H7: Вид прекращения передачи электроэнергии (П, А, В) | I7: Продолжительность прекращения передачи электрической энергии, час | L7: Перечень объектов электросетевого хозяйства, отключение которых привело к прекращению передачи электрической энергии потребителям услуг (ПС, ТП, РП, ВЛ, КЛ) | M7: Перечень потребителей 1-й и 2-й категорий надежности, в отношении которых произошло полное ограничение режима потребления электрической энергии | N7: Перечень потребителей 1-й и 2-й категорий надежности, в отношении которых произошло частичное ограничение режима потребления электрической энергии | O7: Количество точек поставки потребителей услуг сетевой организации, в отношении которых произошел перерыв электроснабжения, шт., в том числе: | X7: Суммарный объем фактической нагрузки (мощности) на присоединениях потребителей услуг, по которым произошло прекращение передачи электрической энергии на момент возникновения такого события, кВт
O8: ВСЕГО | P8: в разделении категорий надежности потребителей электрической энергии | S8: в разделении уровней напряжения ЭПУ потребителя электрической энергии | W8: Смежные сетевые организации и производители электрической энергии | Z8: Номер и дата акта расследования технологического нарушения, записи в оперативном журнале | AA8: Код организационной причины аварии | AB8: Код технической причины повреждения оборудования
P9: 1-я категория надежности | Q9: 2-я категория надежности | R9: 3-я категория надежности | S9: ВН (110 кВ и выше) | T9: СН1 (35 кВ) | U9: СН2 (6-20 кВ) | V9: НН (0,22-1 кВ) | AD9: 0.041666667
A10: 1 | B10: 2 | C10: 3 | D10: 4 | E10: 5 | F10: 6 | G10: 7 | H10: 8 | I10: 9 | J10: 10 | K10: 11 | L10: 12 | M10: 13 | N10: 14 | O10: 15 | P10: 16 | Q10: 17 | R10: 18 | S10: 19 | T10: 20 | U10: 21 | V10: 22 | W10: 23 | X10: 24 | Y10: 25 | Z10: 26 | AA10: 27 | AB10: 28 | AC10: 29
A11: 1 | B11: Участок №1 | C11: ВЛ | D11: ВЛ 0,4кВ ЗТП 5 ф.2 ПС Зеленино 35/10кВ ф.3 | E11: 0.38 | F11: 43743.007 | G11: 43743.41 | H11: В | I11: =(G11-F11)/$AD$9 -> 9.6666667 | J11: 2 | K11: 2 | L11: ВЛ0,4кВ | M11: 0 | N11: 0 | O11: =R11 -> 36 | P11: 0 | Q11: 0 | R11: 36 | S11: 0 | T11: 0 | U11: 0 | V11: =R11 -> 36 | W11: 0 | X11: =0.22*V11 -> 7.92 | Z11: №85 06.10.2019 | AA11: =орг_прич!D29 -> 3.4.12.2 | AB11: =тех_прич!D17 -> 4.13 | AC11: 1
A12: 2 | B12: Участок №2 | C12: ВЛ | D12: ВЛ 0,4кВ КТП 12 ф.2 ПС ПС Сабурово 110/10кВ ф.7 | E12: 0.38 | F12: 43744.222 | G12: 43744.479 | H12: В | I12: =(G12-F12)/$AD$9 -> 6.1666667 | J12: 2 | K12: 2 | L12: ВЛ 0,4кВ | M12: 0 | N12: 0 | O12: =R12 -> 146 | P12: 0 | Q12: 0 | R12: 146 | S12: 0 | T12: 0 | U12: 0 | V12: =R12 -> 146 | W12: 0 | X12: =0.22*V12 -> 32.12 | Z12: №86 07.09.2019 | AA12: =орг_прич!D29 -> 3.4.12.2 | AB12: 4.12 | AC12: 1
A13: 3 | B13: Участок №1 | C13: ВЛ | D13: ВЛ 10кВ №12 ГПП Касимов 110/35/10кВ | E13: 10 (10.5) | F13: 43763.306 | G13: 43763.347 | H13: В | I13: =(G13-F13)/$AD$9 -> 1 | J13: 2 | K13: 2 | L13: ВЛ 10кВ, №12 | M13: 0 | N13: 0 | O13: =R13 -> 496 | P13: 0 | Q13: 0 | R13: 496 | S13: 0 | T13: 0 | U13: 0 | V13: =R13 -> 496 | W13: 0 | X13: =0.22*V13 -> 109.12 | Z13: №87 26.09.2020 | AA13: =орг_прич!D22 -> 3.4.9.1 | AB13: =тех_прич!D18 -> 4.14 | AC13: 0

Sheet тех_прич
B2: Таблица 4. Классификационные признаки технических причин повреждений оборудования
B4: N | C4: Технические причины повреждений оборудования | D4: Код технических причин
B5: 1. | C5: Нарушение структуры материала | D5: 4.1
B6: 2. | C6: Механический износ, неудовлетворительная смазка | D6: 4.2
B7: 3. | C7: Нарушение механического соединения | D7: 4.3
B8: 4. | C8: Внешнее механическое воздействие | D8: 4.4
B9: 5. | C9: Золовой износ | D9: 4.5
B10: 6. | C10: Коррозионный, эрозионный износ | D10: 4.6
B11: 7. | C11: Нарушение герметичности | D11: 4.7
B12: 8. | C12: Нарушение нормального вибросостояния | D12: 4.8
B13: 9. | C13: Взрыв, загорание, пожар | D13: 4.9
B14: 10. | C14: Термическое повреждение, перегрев, пережог | D14: 4.10
B15: 11. | C15: Электродуговое повреждение | D15: 4.11
... B25: 21. | C25: Невыявленные причины | D25: 4.21

Sheet орг_прич
B2: N | C2: Организационные причины аварии | D2: Код организационных причин
B3: п/п
B4: 1. | C4: Ошибочные или неправильные действия оперативного и (или) диспетчерского персонала | D4: 3.4.1
B5: 2. | C5: Ошибочные или неправильные действия (или бездействие) персонала служб (подразделений) организации | D5: 3.4.2
B6: 3. | C6: Ошибочные или неправильные действия привлеченного персонала, выполняющего работу по договору | D6: 3.4.3
B7: 4. | C7: Ошибочные или неправильные действия собственного ремонтного или наладочного персонала организации | D7: 3.4.4
B8: 5. | C8: Ошибочные или неправильные действия (или бездействие) руководящего персонала | D8: 3.4.5
B9: 6. | C9: Неудовлетворительное качество производственных или должностных инструкций, других локальных актов документов организации | D9: 3.4.6
B10: 7. | C10: Несоблюдение сроков, невыполнение в требуемых объемах технического обслуживания или ремонта оборудования и устройств | D10: 3.4.7
B11: 43107 | C11: Несоблюдение сроков ТО и ремонта оборудования, устройств. | D11: 3.4.7.1
B12: 43138 | C12: Несоблюдение объемов ТО и ремонта оборудования, устройств | D12: 3.4.7.2
B13: 43166 | C13: Несвоевременное выявление и устранение дефектов | D13: 3.4.7.3
B14: 43197 | C14: Прочие нарушения | D14: 3.4.7.4
B15: 8. | C15: Воздействие посторонних лиц и организаций, не участвующих в технологическом процессе | D15: 3.4.8
B16: 43108 | C16: Производство несанкционированных строительных и погрузочно-разгрузочных работ в охранных зонах объектов электросетевого хозяйства | D16: 3.4.8.1
B17: 43139 | C17: Проезд крупногабаритной техники | D17: 3.4.8.2
B18: 43167 | C18: Несанкционированная рубка лесных насаждений | D18: 3.4.8.3
B19: 43198 | C19: Наброс посторонних предметов на ВЛ | D19: 3.4.8.4
B20: 43228 | C20: Прочие воздействия | D20: 3.4.8.5
B21: 9. | C21: Воздействие организаций, участвующих в технологическом процессе | D21: 3.4.9
B22: 43109 | C22: Отключение (повреждение) оборудования в смежной электрической сети | D22: 3.4.9.1
B23: 43140 | C23: Отключение (повреждение) оборудования на объекте генерации | D23: 3.4.9.2
B24: 43168 | C24: Отключение (повреждение) оборудования потребителей электрической энергии | D24: 3.4.9.3
B25: 10. | C25: Воздействие животных и птиц | D25: 3.4.10
B26: 11. | C26: Превышение параметров воздействия стихийных явлений относительно условий проекта | D26: 3.4.11
B27: 12. | C27: Воздействие повторяющихся стихийных явлений | D27: 3.4.12
B28: 43112 | C28: Гололедно-изморозевые отложения | D28: 3.4.12.1
B29: 43143 | C29: Ветровые нагрузки | D29: 3.4.12.2
B30: 43171 | C30: Атмосферные перенапряжения (гроза) | D30: 3.4.12.3
B31: 43202 | C31: Природные пожары | D31: 3.4.12.4
B32: 43232 | C32: Прочие воздействия неблагоприятных природных явлений | D32: 3.4.12.5
B33: 13. | C33: Дефекты (недостатки) проекта, конструкции, изготовления, монтажа | D33: 3.4.13
B34: 43113 | C34: Недостатки проекта | D34: 3.4.13.1
B35: 43144 | C35: Недостатки конструкции | D35: 3.4.13.2
B36: 43172 | C36: Дефекты изготовления | D36: 3.4.13.3
B37: 43203 | C37: Дефекты монтажа | D37: 3.4.13.4
B38: 14. | C38: Невыявленные причины
