Workbook
Name _ftn1: 'Отчет Август К'!#REF!
Name _ftn1: 'Отчет ИюльК'!$A$42
Name _ftn1: 'Отчет Ноя К'!#REF!
Name _ftn1: 'Отчет Окт К'!#REF!
Name _ftn1: 'Отчет октябрь'!#REF!
Name _ftn1: 'Отчет Сент К'!#REF!
Name _ftn1: 'Отчет сентябрь'!#REF!
Name _ftn1: Отчет_апрель!$A$12
Name _ftn1: 'Отчет_апрель_(2)'!$A$12
Name _ftn1: Отчет_март!$A$12
Name _ftn1: Отчет_февраль!$A$12
Name _ftn1: Отчет_январь!$A$14
Name _ftnref1: 'Отчет Август К'!$A$2
Name _ftnref1: 'Отчет ИюльК'!$A$2
Name _ftnref1: 'Отчет Ноя К'!$A$2
Name _ftnref1: 'Отчет Окт К'!$A$2
Name _ftnref1: 'Отчет октябрь'!$A$2
Name _ftnref1: 'Отчет Сент К'!$A$2
Name _ftnref1: 'Отчет сентябрь'!$A$2
Name _ftnref1: Отчет_апрель!$A$2
Name _ftnref1: 'Отчет_апрель_(2)'!$A$2
Name _ftnref1: Отчет_март!$A$2
Name _ftnref1: Отчет_февраль!$A$2
Name _ftnref1: Отчет_январь!$A$2
Name _Toc472327096: 'Отчет Август К'!$A$2
Name _Toc472327096: 'Отчет ИюльК'!$A$2
Name _Toc472327096: 'Отчет Ноя К'!$A$2
Name _Toc472327096: 'Отчет Окт К'!$A$2
Name _Toc472327096: 'Отчет октябрь'!$A$2
Name _Toc472327096: 'Отчет Сент К'!$A$2
Name _Toc472327096: 'Отчет сентябрь'!$A$2
Name _Toc472327096: Отчет_апрель!$A$2
Name _Toc472327096: 'Отчет_апрель_(2)'!$A$2
Name _Toc472327096: Отчет_март!$A$2
Name _Toc472327096: Отчет_февраль!$A$2
Name _Toc472327096: Отчет_январь!$A$2
Name M: год!$B$2:$B$13
Name sub_11000_1: #N/A
Name sub_11011_1: #N/A
Name sub_12000_2: !#REF!
Name sub_12000_2: !#REF!
Name sub_12000_2: !#REF!
Name sub_12000_2: !#REF!
Name sub_12000_2: !#REF!
Name sub_12000_2: !#REF!
Name sub_22301: орг_прич!$B$4
Name sub_22302: орг_прич!$B$5
Name sub_22303: орг_прич!$B$6
Name sub_22304: орг_прич!$B$7
Name sub_22305: орг_прич!$B$8
Name sub_22306: орг_прич!$B$9
Name sub_22307: орг_прич!$B$10
Name sub_22308: орг_прич!$B$15
Name sub_22309: орг_прич!$B$21
Name sub_22310: орг_прич!$B$25
Name sub_22311: орг_прич!$B$26
Name sub_22312: орг_прич!$B$27
Name sub_223122: орг_прич!$B$29
Name sub_223123: орг_прич!$B$30
Name sub_223124: орг_прич!$B$31

Sheet год
A2: Форма 8.1 - Журнал учёта данных первичной информации по всем прекращениям передачи электрической энергии, произошедших на объектах электросетевых организаций за | Q2: январь | R2: месяц | S2: 2019 | T2: года
A3: Муниципальное унитарное многоотраслевое предприятие жилищно-коммунального хозяйства Гусь-Железхный
A4: наименование электросетевой организации
A6: Данные о факте прекращения передачи электрической энергии | J6: Данные о масштабе прекращения передачи электрической энергии в сетевой организации | W6: Перечень смежных сетевых организаций, затронутых прекращением передачи электрической энергии | X6: Данные о причинах прекращения передачи электрической энергии и их расследовании | AA6: Учет в показателях надежности, в т.ч. индикативных показателях надежности (0 - нет, 1 - да)
A7: Номер прекращения передачи электрической энергии / Номер итоговой строки | B7: Наименование структурной единицы сетевой организации | C7: Вид объекта: КЛ, ВЛ, КВЛ, ПС, ТП, РП | D7: Диспетчерское наименование объекта электросетевого хозяйства сетевой организации, в результате отключения которой произошло прекращение передачи электроэнергии потребителям услуг | E7: Высший класс напряжения отключенного оборудования сетевой организации, кВ | F7: Время и дата начала прекращения передачи электрической энергии по местному времени (часы, минуты, ГГГГ.ММ.ДД) | G7: Время и дата восстановления режима потребления электрической энергии потребителей услуг (часы, минуты, ГГГГ.ММ.ДД) | H7: Вид прекращения передачи электроэнергии (П, А, В) | I7: Продолжительность прекращения передачи электрической энергии, час | J7: Перечень объектов электросетевого хозяйства, отключение которых привело к прекращению передачи электрической энергии потребителям услуг (ПС, ТП, РП, ВЛ, КЛ) | K7: Перечень потребителей 1-й и 2-й категорий надежности, в отношении которых произошло полное ограничение режима потребления электрической энергии | L7: Перечень потребителей 1-й и 2-й категорий надежности, в отношении которых произошло частичное ограничение режима потребления электрической энергии | M7: Количество точек поставки потребителей услуг сетевой организации, в отношении которых произошел перерыв электроснабжения, шт., в том числе: | V7: Суммарный объем фактической нагрузки (мощности) на присоединениях потребителей услуг, по которым произошло прекращение передачи электрической энергии на момент возникновения такого события, кВт
M8: ВСЕГО | N8: в разделении категорий надежности потребителей электрической энергии | Q8: в разделении уровней напряжения ЭПУ потребителя электрической энергии | U8: Смежные сетевые организации и производители электрической энергии | X8: Номер и дата акта расследования технологического нарушения, записи в оперативном журнале | Y8: Код организационной причины аварии | Z8: Код технической причины повреждения оборудования
N9: 1-я категория надежности | O9: 2-я категория надежности | P9: 3-я категория надежности | Q9: ВН (110 кВ и выше) | R9: СН1 (35 кВ) | S9: СН2 (6-20 кВ) | T9: НН (0,22-1 кВ) | AB9: 0.041666667
A10: =Отчет_январь!A11 -> 1 | B10: 2 | C10: 3 | D10: 4 | E10: 5 | F10: 6 | G10: 7 | H10: 8 | I10: 9 | J10: 12 | K10: 13 | L10: 14 | M10: 15 | N10: 16 | O10: 17 | P10: 18 | Q10: 19 | R10: 20 | S10: 21 | T10: 22 | U10: 23 | V10: 24 | W10: 25 | X10: 26 | Y10: 27 | Z10: 28 | AA10: 29
A11: =Отчет_январь!A11 -> 1 | B11: =Отчет_январь!B11 -> Участок №3 | C11: =Отчет_январь!C11 -> ВЛ | D11: =Отчет_январь!D11 -> ПС 35/10кВ Сынтул ВЛ 10кВ, ф4, тп6 | E11: =Отчет_январь!E11 -> 10 (10.5) | F11: =Отчет_январь!F11 -> 43464.084 | G11: =Отчет_январь!G11 -> 43464.281 | H11: =Отчет_январь!H11 -> В | I11: =Отчет_январь!I11 -> 4.7333333 | J11: =Отчет_январь!L11 -> ВЛ 10кВ, Ф4 | K11: =Отчет_январь!M11 -> 0 | L11: =Отчет_январь!N11 -> 0 | M11: =Отчет_январь!O11 -> 623 | N11: =Отчет_январь!P11 -> 0 | O11: =Отчет_январь!Q11 -> 0 | P11: =Отчет_январь!R11 -> 623 | Q11: =Отчет_январь!S11 -> 0 | ... AA11: =Отчет_январь!AC11 -> 1
A12: =Отчет_январь!A12 -> 2 | B12: =Отчет_январь!B12 -> Участок №3 | C12: =Отчет_январь!C12 -> ВЛ | D12: =Отчет_январь!D12 -> ПС 35/10кВ Сынтул ВЛ 10кВ, ф4, тп1 | E12: =Отчет_январь!E12 -> 0.38 | F12: =Отчет_январь!F12 -> 43484.01 | G12: =Отчет_январь!G12 -> 43484.106 | H12: =Отчет_январь!H12 -> В | I12: =Отчет_январь!I12 -> 2.3 | J12: =Отчет_январь!L12 -> ВЛ 0,4кВ, Ф2 | K12: =Отчет_январь!M12 -> 0 | L12: =Отчет_январь!N12 -> 0 | M12: =Отчет_январь!O12 -> 112 | N12: =Отчет_январь!P12 -> 0 | O12: =Отчет_январь!Q12 -> 0 | P12: =Отчет_январь!R12 -> 112 | Q12: =Отчет_январь!S12 -> 0 | ... AA12: =Отчет_январь!AC12 -> 1
A13: =Отчет_февраль!A11 -> 3 | B13: =Отчет_февраль!B11 -> Участок №1 | C13: =Отчет_февраль!C11 -> ТП | D13: =Отчет_февраль!D11 -> ПС 110/35/10кВ Шостье ВЛ 10кВ, ф2, ЗТП2576, ф1 | E13: =Отчет_февраль!E11 -> 0.38 | F13: =Отчет_февраль!F11 -> 43512.334 | G13: =Отчет_февраль!G11 -> 43512.531 | H13: =Отчет_февраль!H11 -> В | I13: =Отчет_февраль!I11 -> 4.7333333 | J13: =Отчет_февраль!L11 -> ЗТП2576 ф.1 | K13: =Отчет_февраль!M11 -> 0 | L13: =Отчет_февраль!N11 -> 0 | M13: =Отчет_февраль!O11 -> 42 | N13: =Отчет_февраль!P11 -> 0 | O13: =Отчет_февраль!Q11 -> 0 | P13: =Отчет_февраль!R11 -> 42 | Q13: =Отчет_февраль!S11 -> 0 | ... AA13: =Отчет_февраль!AC11 -> 1
A14: =Отчет_февраль!A12 -> 4 | B14: =Отчет_февраль!B12 -> Участок №1 | C14: =Отчет_февраль!C12 -> ТП | D14: =Отчет_февраль!D12 -> ПС 35/10кВ Зеленино ВЛ 10кВ, ф3, ЗТП5, ф4. | E14: =Отчет_февраль!E12 -> 0.38 | F14: =Отчет_февраль!F12 -> 43513.635 | G14: =Отчет_февраль!G12 -> 43513.765 | H14: =Отчет_февраль!H12 -> В | I14: =Отчет_февраль!I12 -> 3.1333333 | J14: =Отчет_февраль!L12 -> ЗТП5 ф.4 | K14: =Отчет_февраль!M12 -> 0 | L14: =Отчет_февраль!N12 -> 0 | M14: =Отчет_февраль!O12 -> 162 | N14: =Отчет_февраль!P12 -> 0 | O14: =Отчет_февраль!Q12 -> 0 | P14: =Отчет_февраль!R12 -> 162 | Q14: =Отчет_февраль!S12 -> 0 | ... AA14: =Отчет_февраль!AC12 -> 1
A15: =Отчет_февраль!A13 -> 5 | B15: =Отчет_февраль!B13 -> Участок №1 | C15: =Отчет_февраль!C13 -> ТП | D15: =Отчет_февраль!D13 -> ПС 110/35/10кВ Касимов ВЛ 10кВ, ф12, МТП2591, ф.1 | E15: =Отчет_февраль!E13 -> 0.38 | F15: =Отчет_февраль!F13 -> 43513.814 | G15: =Отчет_февраль!G13 -> 43513.85 | H15: =Отчет_февраль!H13 -> В | I15: =Отчет_февраль!I13 -> 0.86666667 | J15: =Отчет_февраль!L13 -> МТП2591, ф.1 | K15: =Отчет_февраль!M13 -> 0 | L15: =Отчет_февраль!N13 -> 0 | M15: =Отчет_февраль!O13 -> 58 | N15: =Отчет_февраль!P13 -> 0 | O15: =Отчет_февраль!Q13 -> 0 | P15: =Отчет_февраль!R13 -> 58 | Q15: =Отчет_февраль!S13 -> 0 | ... AA15: =Отчет_февраль!AC13 -> 1
A16: =Отчет_февраль!A14 -> 6 | B16: =Отчет_февраль!B14 -> Участок №1 | C16: =Отчет_февраль!C14 -> ТП | D16: =Отчет_февраль!D14 -> ПС 35/10кВ Лашма ВЛ 10кВ, ф3, ЗТП8, ф2 | E16: =Отчет_февраль!E14 -> 0.38 | F16: =Отчет_февраль!F14 -> 43514.419 | G16: =Отчет_февраль!G14 -> 43514.5 | H16: =Отчет_февраль!H14 -> В | I16: =Отчет_февраль!I14 -> 1.95 | J16: =Отчет_февраль!L14 -> ЗТП8, ф2. | K16: =Отчет_февраль!M14 -> 0 | L16: =Отчет_февраль!N14 -> 0 | M16: =Отчет_февраль!O14 -> 49 | N16: =Отчет_февраль!P14 -> 0 | O16: =Отчет_февраль!Q14 -> 0 | P16: =Отчет_февраль!R14 -> 49 | Q16: =Отчет_февраль!S14 -> 0 | ... AA16: =Отчет_февраль!AC14 -> 1
A17: =Отчет_февраль!A15 -> 7 | B17: =Отчет_февраль!B15 -> Участок №1 | C17: =Отчет_февраль!C15 -> ВЛ | D17: =Отчет_февраль!D15 -> ПС 35/10кВ Телебукино ВЛ 10кВ, ф14 | E17: =Отчет_февраль!E15 -> 10 (10.5) | F17: =Отчет_февраль!F15 -> 43517.293 | G17: =Отчет_февраль!G15 -> 43517.564 | H17: =Отчет_февраль!H15 -> В | I17: =Отчет_февраль!I15 -> 6.5 | J17: =Отчет_февраль!L15 -> ВЛ 10кВ, ф14 | K17: =Отчет_февраль!M15 -> 0 | L17: =Отчет_февраль!N15 -> 0 | M17: =Отчет_февраль!O15 -> 77 | N17: =Отчет_февраль!P15 -> 0 | O17: =Отчет_февраль!Q15 -> 0 | P17: =Отчет_февраль!R15 -> 77 | Q17: =Отчет_февраль!S15 -> 0 | ... AA17: =Отчет_февраль!AC15 -> 0
A18: =Отчет_март!A11 -> 3 | B18: =Отчет_март!B11 -> Участок №1 | C18: =Отчет_март!C11 -> ТП | D18: =Отчет_март!D11 -> ПС 110/35/10кВ Шостье ВЛ 10кВ, ф2, ЗТП2576, ф1 | E18: =Отчет_март!E11 -> 0.38 | F18: =Отчет_март!F11 -> 43512.334 | G18: =Отчет_март!G11 -> 43512.531 | H18: =Отчет_март!H11 -> В | I18: =Отчет_март!I11 -> 4.7333333 | J18: =Отчет_март!L11 -> ЗТП2576 ф.1 | K18: =Отчет_март!M11 -> 0 | L18: =Отчет_март!N11 -> 0 | M18: =Отчет_март!O11 -> 42 | N18: =Отчет_март!P11 -> 0 | O18: =Отчет_март!Q11 -> 0 | P18: =Отчет_март!R11 -> 42 | Q18: =Отчет_март!S11 -> 0 | ... AA18: =Отчет_март!AC11 -> 1
A19: =Отчет_март!A12 -> 4 | B19: =Отчет_март!B12 -> Участок №1 | C19: =Отчет_март!C12 -> ТП | D19: =Отчет_март!D12 -> ПС 35/10кВ Зеленино ВЛ 10кВ, ф3, ЗТП5, ф4. | E19: =Отчет_март!E12 -> 0.38 | F19: =Отчет_март!F12 -> 43513.635 | G19: =Отчет_март!G12 -> 43513.765 | H19: =Отчет_март!H12 -> В | I19: =Отчет_март!I12 -> 3.1333333 | J19: =Отчет_март!L12 -> ЗТП5 ф.4 | K19: =Отчет_март!M12 -> 0 | L19: =Отчет_март!N12 -> 0 | M19: =Отчет_март!O12 -> 162 | N19: =Отчет_март!P12 -> 0 | O19: =Отчет_март!Q12 -> 0 | P19: =Отчет_март!R12 -> 162 | Q19: =Отчет_март!S12 -> 0 | ... AA19: =Отчет_март!AC12 -> 1
A20: =Отчет_март!A13 -> 5 | B20: =Отчет_март!B13 -> Участок №1 | C20: =Отчет_март!C13 -> ТП | D20: =Отчет_март!D13 -> ПС 110/35/10кВ Касимов ВЛ 10кВ, ф12, МТП2591, ф.1 | E20: =Отчет_март!E13 -> 0.38 | F20: =Отчет_март!F13 -> 43513.814 | G20: =Отчет_март!G13 -> 43513.85 | H20: =Отчет_март!H13 -> В | I20: =Отчет_март!I13 -> 0.86666667 | J20: =Отчет_март!L13 -> МТП2591, ф.1 | K20: =Отчет_март!M13 -> 0 | L20: =Отчет_март!N13 -> 0 | M20: =Отчет_март!O13 -> 58 | N20: =Отчет_март!P13 -> 0 | O20: =Отчет_март!Q13 -> 0 | P20: =Отчет_март!R13 -> 58 | Q20: =Отчет_март!S13 -> 0 | ... AA20: =Отчет_март!AC13 -> 1
A21: =Отчет_март!A14 -> 6 | B21: =Отчет_март!B14 -> Участок №1 | C21: =Отчет_март!C14 -> ТП | D21: =Отчет_март!D14 -> ПС 35/10кВ Лашма ВЛ 10кВ, ф3, ЗТП8, ф2 | E21: =Отчет_март!E14 -> 0.38 | F21: =Отчет_март!F14 -> 43514.419 | G21: =Отчет_март!G14 -> 43514.5 | H21: =Отчет_март!H14 -> В | I21: =Отчет_март!I14 -> 1.95 | J21: =Отчет_март!L14 -> ЗТП8, ф2. | K21: =Отчет_март!M14 -> 0 | L21: =Отчет_март!N14 -> 0 | M21: =Отчет_март!O14 -> 49 | N21: =Отчет_март!P14 -> 0 | O21: =Отчет_март!Q14 -> 0 | P21: =Отчет_март!R14 -> 49 | Q21: =Отчет_март!S14 -> 0 | ... AA21: =Отчет_март!AC14 -> 1
A22: =Отчет_март!A15 -> 7 | B22: =Отчет_март!B15 -> Участок №1 | C22: =Отчет_март!C15 -> ВЛ | D22: =Отчет_март!D15 -> ПС 35/10кВ Телебукино ВЛ 10кВ, ф14 | E22: =Отчет_март!E15 -> 10 (10.5) | F22: =Отчет_март!F15 -> 43517.293 | G22: =Отчет_март!G15 -> 43517.564 | H22: =Отчет_март!H15 -> В | I22: =Отчет_март!I15 -> 6.5 | J22: =Отчет_март!L15 -> ВЛ 10кВ, ф14 | K22: =Отчет_март!M15 -> 0 | L22: =Отчет_март!N15 -> 0 | M22: =Отчет_март!O15 -> 77 | N22: =Отчет_март!P15 -> 0 | O22: =Отчет_март!Q15 -> 0 | P22: =Отчет_март!R15 -> 77 | Q22: =Отчет_март!S15 -> 0 | ... AA22: =Отчет_март!AC15 -> 0
A23: =Отчет_март!A16 -> 8 | B23: =Отчет_март!B16 -> Участок №1 | C23: =Отчет_март!C16 -> ВЛ | D23: =Отчет_март!D16 -> ПС 35/10кВ Лашма ВЛ 10кВ, ф5 | E23: =Отчет_март!E16 -> 10 (10.5) | F23: =Отчет_март!F16 -> 43541.46 | G23: =Отчет_март!G16 -> 43541.613 | H23: =Отчет_март!H16 -> В | I23: =Отчет_март!I16 -> 3.6666667 | J23: =Отчет_март!L16 -> ВЛ 10кВ, ф5 | K23: =Отчет_март!M16 -> 0 | L23: =Отчет_март!N16 -> 0 | M23: =Отчет_март!O16 -> 495 | N23: =Отчет_март!P16 -> 0 | O23: =Отчет_март!Q16 -> 0 | P23: =Отчет_март!R16 -> 495 | Q23: =Отчет_март!S16 -> 0 | ... AA23: =Отчет_март!AC16 -> 1
A24: =Отчет_апрель!A11 -> 9 | B24: =Отчет_апрель!B11 -> Участок №1 | C24: =Отчет_апрель!C11 -> ВЛ | D24: =Отчет_апрель!D11 -> ПС 35/10кВ Затон ВЛ 10кВ, ф2 | E24: =Отчет_апрель!E11 -> 10 (10.5) | F24: =Отчет_апрель!F11 -> 43565.708 | G24: =Отчет_апрель!G11 -> 43565.844 | H24: =Отчет_апрель!H11 -> В | I24: =Отчет_апрель!I11 -> 3.25 | J24: =Отчет_апрель!L11 -> ВЛ 10кВ, №2 | K24: =Отчет_апрель!M11 -> 0 | L24: =Отчет_апрель!N11 -> 0 | M24: =Отчет_апрель!O11 -> 55 | N24: =Отчет_апрель!P11 -> 0 | O24: =Отчет_апрель!Q11 -> 0 | P24: =Отчет_апрель!R11 -> 55 | Q24: =Отчет_апрель!S11 -> 0 | ... AA24: =Отчет_апрель!AC11 -> 0
A25: =Отчет_апрель!A12 -> 10 | B25: =Отчет_апрель!B12 -> Участок №1 | C25: =Отчет_апрель!C12 -> ВЛ | D25: =Отчет_апрель!D12 -> ПС 35/10кВ Затон ВЛ 10кВ, ф2 ТП Бургаз , ф1 | E25: =Отчет_апрель!E12 -> 0.38 | F25: =Отчет_апрель!F12 -> 43567.625 | G25: =Отчет_апрель!G12 -> 43567.792 | H25: =Отчет_апрель!H12 -> В | I25: =Отчет_апрель!I12 -> 4 | J25: =Отчет_апрель!L12 -> ВЛ 0,4кВ, №2 | K25: =Отчет_апрель!M12 -> 0 | L25: =Отчет_апрель!N12 -> 0 | M25: =Отчет_апрель!O12 -> 52 | N25: =Отчет_апрель!P12 -> 0 | O25: =Отчет_апрель!Q12 -> 0 | P25: =Отчет_апрель!R12 -> 52 | Q25: =Отчет_апрель!S12 -> 0 | ... AA25: =Отчет_апрель!AC12 -> 0
A26: =Отчет_апрель!A13 -> 11 | B26: =Отчет_апрель!B13 -> Участок №1 | C26: =Отчет_апрель!C13 -> ВЛ | D26: =Отчет_апрель!D13 -> ПС110/10кВ Бельки ф.6 ВЛ10кВ№6 | E26: =Отчет_апрель!E13 -> 10 (10.5) | F26: =Отчет_апрель!F13 -> 43568.271 | G26: =Отчет_апрель!G13 -> 43568.299 | H26: =Отчет_апрель!H13 -> В | I26: =Отчет_апрель!I13 -> 0.66666667 | J26: =Отчет_апрель!L13 -> ВЛ 10кВ, №6 | K26: =Отчет_апрель!M13 -> 0 | L26: =Отчет_апрель!N13 -> 0 | M26: =Отчет_апрель!O13 -> 1039 | N26: =Отчет_апрель!P13 -> 0 | O26: =Отчет_апрель!Q13 -> 0 | P26: =Отчет_апрель!R13 -> 1039 | Q26: =Отчет_апрель!S13 -> 0 | ... AA26: =Отчет_апрель!AC13 -> 0
A27: =Отчет_апрель!A14 -> 12 | B27: =Отчет_апрель!B14 -> Участок №1 | C27: =Отчет_апрель!C14 -> ВЛ | D27: =Отчет_апрель!D14 -> ПС Сабурово 110/10кВ ВЛ 10кВ ф.7 | E27: =Отчет_апрель!E14 -> 11 (10.5) | F27: =Отчет_апрель!F14 -> 43579.522 | G27: =Отчет_апрель!G14 -> 43579.53 | H27: =Отчет_апрель!H14 -> В | I27: =Отчет_апрель!I14 -> 0.18333333 | J27: =Отчет_апрель!L14 -> ВЛ 10кВ, №7 | K27: =Отчет_апрель!M14 -> 0 | L27: =Отчет_апрель!N14 -> 0 | M27: =Отчет_апрель!O14 -> 1716 | N27: =Отчет_апрель!P14 -> 0 | O27: =Отчет_апрель!Q14 -> 0 | P27: =Отчет_апрель!R14 -> 1716 | Q27: =Отчет_апрель!S14 -> 0 | ... AA27: =Отчет_апрель!AC14 -> 0
A28: =Отчёт_май_К!A11 -> 20 | B28: =Отчёт_май_К!B11 -> Участок №1 | C28: =Отчёт_май_К!C11 -> ВЛ | D28: =Отчёт_май_К!D11 -> ТП Бургаз ВЛ 0,4кВ | E28: =Отчёт_май_К!E11 -> 0.38 | F28: =Отчёт_май_К!F11 -> 43585.5 | G28: =Отчёт_май_К!G11 -> 43585.583 | H28: =Отчёт_май_К!H11 -> П | I28: =Отчёт_май_К!I11 -> 2 | J28: =Отчёт_май_К!L11 -> ВЛ 0,4кВ, №2 | K28: =Отчёт_май_К!M11 -> 0 | L28: =Отчёт_май_К!N11 -> 0 | M28: =Отчёт_май_К!O11 -> 14 | N28: =Отчёт_май_К!P11 -> 0 | O28: =Отчёт_май_К!Q11 -> 0 | P28: =Отчёт_май_К!R11 -> 14 | Q28: =Отчёт_май_К!S11 -> 0 | ... AA28: =Отчёт_май_К!AC11 -> 1
A29: =Отчёт_май_К!A12 -> 21 | B29: =Отчёт_май_К!B12 -> Участок №1 | C29: =Отчёт_май_К!C12 -> ВЛ | D29: =Отчёт_май_К!D12 -> ТП 2553 ВЛ 0,4кВ | E29: =Отчёт_май_К!E12 -> 0.38 | F29: =Отчёт_май_К!F12 -> 43591.458 | G29: =Отчёт_май_К!G12 -> 43591.625 | H29: =Отчёт_май_К!H12 -> П | I29: =Отчёт_май_К!I12 -> 4 | J29: =Отчёт_май_К!L12 -> ВЛ 0,4кВ, №1 | K29: =Отчёт_май_К!M12 -> 0 | L29: =Отчёт_май_К!N12 -> 0 | M29: =Отчёт_май_К!O12 -> 15 | N29: =Отчёт_май_К!P12 -> 0 | O29: =Отчёт_май_К!Q12 -> 0 | P29: =Отчёт_май_К!R12 -> 15 | Q29: =Отчёт_май_К!S12 -> 0 | ... AA29: =Отчёт_май_К!AC12 -> 1
A30: =Отчёт_май_К!A13 -> 22 | B30: =Отчёт_май_К!B13 -> Участок №1 | C30: =Отчёт_май_К!C13 -> ВЛ | D30: =Отчёт_май_К!D13 -> ПС Лашиа 35/10кВ ВЛ 10кВ №5 | E30: =Отчёт_май_К!E13 -> 10 (10.5) | F30: =Отчёт_май_К!F13 -> 43598.292 | G30: =Отчёт_май_К!G13 -> 43598.438 | H30: =Отчёт_май_К!H13 -> П | I30: =Отчёт_май_К!I13 -> 3.5 | J30: =Отчёт_май_К!L13 -> ВЛ 10кВ, №5 | K30: =Отчёт_май_К!M13 -> 0 | L30: =Отчёт_май_К!N13 -> 0 | M30: =Отчёт_май_К!O13 -> 490 | N30: =Отчёт_май_К!P13 -> 0 | O30: =Отчёт_май_К!Q13 -> 0 | P30: =Отчёт_май_К!R13 -> 490 | Q30: =Отчёт_май_К!S13 -> 0 | ... AA30: =Отчёт_май_К!AC13 -> 1
A31: =Отчёт_май_К!A14 -> 23 | B31: =Отчёт_май_К!B14 -> Участок №1 | C31: =Отчёт_май_К!C14 -> ВЛ | D31: =Отчёт_май_К!D14 -> ПС Лашиа 35/10кВ ВЛ 10кВ №3 | E31: =Отчёт_май_К!E14 -> 10 (10.5) | F31: =Отчёт_май_К!F14 -> 43598.917 | G31: =Отчёт_май_К!G14 -> 43599.167 | H31: =Отчёт_май_К!H14 -> В | I31: =Отчёт_май_К!I14 -> 6 | J31: =Отчёт_май_К!L14 -> ВЛ 10кВ, №3 | K31: =Отчёт_май_К!M14 -> 0 | L31: =Отчёт_май_К!N14 -> 0 | M31: =Отчёт_май_К!O14 -> 594 | N31: =Отчёт_май_К!P14 -> 0 | O31: =Отчёт_май_К!Q14 -> 0 | P31: =Отчёт_май_К!R14 -> 594 | Q31: =Отчёт_май_К!S14 -> 0 | ... AA31: =Отчёт_май_К!AC14 -> 1
A32: =Отчёт_май_К!A15 -> 24 | B32: =Отчёт_май_К!B15 -> Участок №3 | C32: =Отчёт_май_К!C15 -> ВЛ | D32: =Отчёт_май_К!D15 -> ПС110/10кВ Бельки ф.6 ВЛ10кВ№6 | E32: =Отчёт_май_К!E15 -> 10 (10.5) | F32: =Отчёт_май_К!F15 -> 43598.917 | G32: =Отчёт_май_К!G15 -> 43599.542 | H32: =Отчёт_май_К!H15 -> В | I32: =Отчёт_май_К!I15 -> 15 | J32: =Отчёт_май_К!L15 -> ВЛ 10кВ, №6 | K32: =Отчёт_май_К!M15 -> 0 | L32: =Отчёт_май_К!N15 -> 0 | M32: =Отчёт_май_К!O15 -> 1390 | N32: =Отчёт_май_К!P15 -> 0 | O32: =Отчёт_май_К!Q15 -> 0 | P32: =Отчёт_май_К!R15 -> 1390 | Q32: =Отчёт_май_К!S15 -> 0 | ... AA32: =Отчёт_май_К!AC15 -> 1
A33: =Отчёт_май_К!A16 -> 25 | B33: =Отчёт_май_К!B16 -> Участок №1 | C33: =Отчёт_май_К!C16 -> ТП | D33: =Отчёт_май_К!D16 -> ПС Лашиа 35/10кВ ВЛ 10кВ №5, ЗТП8 | E33: =Отчёт_май_К!E16 -> 10 (10.5) | F33: =Отчёт_май_К!F16 -> 43599.083 | G33: =Отчёт_май_К!G16 -> 43599.417 | H33: =Отчёт_май_К!H16 -> В | I33: =Отчёт_май_К!I16 -> 8 | J33: =Отчёт_май_К!L16 -> ЗТП8 | K33: =Отчёт_май_К!M16 -> 0 | L33: =Отчёт_май_К!N16 -> 0 | M33: =Отчёт_май_К!O16 -> 490 | N33: =Отчёт_май_К!P16 -> 0 | O33: =Отчёт_май_К!Q16 -> 0 | P33: =Отчёт_май_К!R16 -> 490 | Q33: =Отчёт_май_К!S16 -> 0 | ... AA33: =Отчёт_май_К!AC16 -> 1
A34: =Отчёт_май_К!A17 -> 26 | B34: =Отчёт_май_К!B17 -> Участок №1 | C34: =Отчёт_май_К!C17 -> ТП | D34: =Отчёт_май_К!D17 -> ПС Лашиа 35/10кВ ВЛ 10кВ №5, ЗТП8 | E34: =Отчёт_май_К!E17 -> 10 (10.5) | F34: =Отчёт_май_К!F17 -> 43599.875 | G34: =Отчёт_май_К!G17 -> 43599.958 | H34: =Отчёт_май_К!H17 -> В | I34: =Отчёт_май_К!I17 -> 2 | J34: =Отчёт_май_К!L17 -> ЗТП8 | K34: =Отчёт_май_К!M17 -> 0 | L34: =Отчёт_май_К!N17 -> 0 | M34: =Отчёт_май_К!O17 -> 490 | N34: =Отчёт_май_К!P17 -> 0 | O34: =Отчёт_май_К!Q17 -> 0 | P34: =Отчёт_май_К!R17 -> 490 | Q34: =Отчёт_май_К!S17 -> 0 | ... AA34: =Отчёт_май_К!AC17 -> 1
A35: =Отчёт_май_К!A18 -> 27 | B35: =Отчёт_май_К!B18 -> Участок №1 | C35: =Отчёт_май_К!C18 -> ТП | D35: =Отчёт_май_К!D18 -> ПС Лашиа 35/10кВ ВЛ 10кВ №3 КТП 2 | E35: =Отчёт_май_К!E18 -> 10 (10.5) | F35: =Отчёт_май_К!F18 -> 43599.403 | G35: =Отчёт_май_К!G18 -> 43599.444 | H35: =Отчёт_май_К!H18 -> В | I35: =Отчёт_май_К!I18 -> 1 | J35: =Отчёт_май_К!L18 -> КТП2 | K35: =Отчёт_май_К!M18 -> 0 | L35: =Отчёт_май_К!N18 -> 0 | M35: =Отчёт_май_К!O18 -> 1 | N35: =Отчёт_май_К!P18 -> 0 | O35: =Отчёт_май_К!Q18 -> 0 | P35: =Отчёт_май_К!R18 -> 1 | Q35: =Отчёт_май_К!S18 -> 0 | ... AA35: =Отчёт_май_К!AC18 -> 1
A36: =Отчёт_май_К!A19 -> 28 | B36: =Отчёт_май_К!B19 -> Участок №1 | C36: =Отчёт_май_К!C19 -> ВЛ | D36: =Отчёт_май_К!D19 -> ПС 35/10кВ Телебукино ВЛ.11 | E36: =Отчёт_май_К!E19 -> 10 (10.5) | F36: =Отчёт_май_К!F19 -> 43600.396 | G36: =Отчёт_май_К!G19 -> 43600.424 | H36: =Отчёт_май_К!H19 -> В | I36: =Отчёт_май_К!I19 -> 0.66666667 | J36: =Отчёт_май_К!L19 -> ВЛ 10кВ, №11 | K36: =Отчёт_май_К!M19 -> 0 | L36: =Отчёт_май_К!N19 -> 0 | M36: =Отчёт_май_К!O19 -> 362 | N36: =Отчёт_май_К!P19 -> 0 | O36: =Отчёт_май_К!Q19 -> 0 | P36: =Отчёт_май_К!R19 -> 362 | Q36: =Отчёт_май_К!S19 -> 0 | ... AA36: =Отчёт_май_К!AC19 -> 0
A37: =Отчёт_май_К!A20 -> 29 | B37: =Отчёт_май_К!B20 -> Участок №1 | C37: =Отчёт_май_К!C20 -> ТП | D37: =Отчёт_май_К!D20 -> ПС Лашиа 35/10кВ ВЛ 10кВ №3 КТП 2 | E37: =Отчёт_май_К!E20 -> 10 (10.5) | F37: =Отчёт_май_К!F20 -> 43600.438 | G37: =Отчёт_май_К!G20 -> 43600.5 | H37: =Отчёт_май_К!H20 -> П | I37: =Отчёт_май_К!I20 -> 1.5 | J37: =Отчёт_май_К!L20 -> КТП2 | K37: =Отчёт_май_К!M20 -> 0 | L37: =Отчёт_май_К!N20 -> 0 | M37: =Отчёт_май_К!O20 -> 1 | N37: =Отчёт_май_К!P20 -> 0 | O37: =Отчёт_май_К!Q20 -> 0 | P37: =Отчёт_май_К!R20 -> 1 | Q37: =Отчёт_май_К!S20 -> 0 | ... AA37: =Отчёт_май_К!AC20 -> 0
A38: =Отчёт_июнь_К_!A11 -> 29 | B38: =Отчёт_июнь_К_!B11 -> Участок №1 | C38: =Отчёт_июнь_К_!C11 -> ВЛ | D38: =Отчёт_июнь_К_!D11 -> ПС 35/10кВ Телебукино ВЛ.11 | E38: =Отчёт_июнь_К_!E11 -> 10 (10.5) | F38: =Отчёт_июнь_К_!F11 -> 43617.708 | G38: =Отчёт_июнь_К_!G11 -> 43617.812 | H38: =Отчёт_июнь_К_!H11 -> В | I38: =Отчёт_июнь_К_!I11 -> 2.5 | J38: =Отчёт_июнь_К_!L11 -> ВЛ 10кВ, №11 | K38: =Отчёт_июнь_К_!M11 -> 0 | L38: =Отчёт_июнь_К_!N11 -> 0 | M38: =Отчёт_июнь_К_!O11 -> 362 | N38: =Отчёт_июнь_К_!P11 -> 0 | O38: =Отчёт_июнь_К_!Q11 -> 0 | P38: =Отчёт_июнь_К_!R11 -> 362 | Q38: =Отчёт_июнь_К_!S11 -> 0 | ... AA38: =Отчёт_июнь_К_!AC11 -> 1
A39: =Отчёт_июнь_К_!A12 -> 30 | B39: =Отчёт_июнь_К_!B12 -> Участок №1 | C39: =Отчёт_июнь_К_!C12 -> ТП | D39: =Отчёт_июнь_К_!D12 -> ПС Лашма 35/10кВ ВЛ 10кВ №5, ЗТП8 | E39: =Отчёт_июнь_К_!E12 -> 10 (10.5) | F39: =Отчёт_июнь_К_!F12 -> 43617.708 | G39: =Отчёт_июнь_К_!G12 -> 43617.792 | H39: =Отчёт_июнь_К_!H12 -> В | I39: =Отчёт_июнь_К_!I12 -> 2 | J39: =Отчёт_июнь_К_!L12 -> ЗТП8 | K39: =Отчёт_июнь_К_!M12 -> 0 | L39: =Отчёт_июнь_К_!N12 -> 0 | M39: =Отчёт_июнь_К_!O12 -> 490 | N39: =Отчёт_июнь_К_!P12 -> 0 | O39: =Отчёт_июнь_К_!Q12 -> 0 | P39: =Отчёт_июнь_К_!R12 -> 490 | Q39: =Отчёт_июнь_К_!S12 -> 0 | ... AA39: =Отчёт_июнь_К_!AC12 -> 1
A40: =Отчёт_июнь_К_!A13 -> 31 | B40: =Отчёт_июнь_К_!B13 -> Участок №3 | C40: =Отчёт_июнь_К_!C13 -> ВЛ | D40: =Отчёт_июнь_К_!D13 -> ПС110/10кВ Бельки ф.6 ВЛ10кВ№6 | E40: =Отчёт_июнь_К_!E13 -> 10 (10.5) | F40: =Отчёт_июнь_К_!F13 -> 43617.007 | G40: =Отчёт_июнь_К_!G13 -> 43617.34 | H40: =Отчёт_июнь_К_!H13 -> В | I40: =Отчёт_июнь_К_!I13 -> 8 | J40: =Отчёт_июнь_К_!L13 -> ВЛ 10кВ, №6 | K40: =Отчёт_июнь_К_!M13 -> 0 | L40: =Отчёт_июнь_К_!N13 -> 0 | M40: =Отчёт_июнь_К_!O13 -> 1390 | N40: =Отчёт_июнь_К_!P13 -> 0 | O40: =Отчёт_июнь_К_!Q13 -> 0 | P40: =Отчёт_июнь_К_!R13 -> 1390 | Q40: =Отчёт_июнь_К_!S13 -> 0 | ... AA40: =Отчёт_июнь_К_!AC13 -> 1
A41: =Отчёт_июнь_К_!A14 -> 32 | B41: =Отчёт_июнь_К_!B14 -> Участок №1 | C41: =Отчёт_июнь_К_!C14 -> ВЛ | D41: =Отчёт_июнь_К_!D14 -> ПС110/35/10кВ Касимов ф.12. | E41: =Отчёт_июнь_К_!E14 -> 10 (10.5) | F41: =Отчёт_июнь_К_!F14 -> 43621.375 | G41: =Отчёт_июнь_К_!G14 -> 43621.549 | H41: =Отчёт_июнь_К_!H14 -> П | I41: =Отчёт_июнь_К_!I14 -> 4.1666667 | J41: =Отчёт_июнь_К_!L14 -> ВЛ 10кВ, №12 | K41: =Отчёт_июнь_К_!M14 -> 0 | L41: =Отчёт_июнь_К_!N14 -> 0 | M41: =Отчёт_июнь_К_!O14 -> 310 | N41: =Отчёт_июнь_К_!P14 -> 0 | O41: =Отчёт_июнь_К_!Q14 -> 0 | P41: =Отчёт_июнь_К_!R14 -> 310 | Q41: =Отчёт_июнь_К_!S14 -> 0 | ... AA41: =Отчёт_июнь_К_!AC14 -> 1
A42: =Отчёт_июнь_К_!A15 -> 33 | B42: =Отчёт_июнь_К_!B15 -> Участок №1 | C42: =Отчёт_июнь_К_!C15 -> ВЛ | D42: =Отчёт_июнь_К_!D15 -> ПС110/35/10кВ Касимов ф.12. ТП-2589 ф.2 | E42: =Отчёт_июнь_К_!E15 -> 0.38 | F42: =Отчёт_июнь_К_!F15 -> 43621.542 | G42: =Отчёт_июнь_К_!G15 -> 43621.667 | H42: =Отчёт_июнь_К_!H15 -> П | I42: =Отчёт_июнь_К_!I15 -> 3 | J42: =Отчёт_июнь_К_!L15 -> ВЛ 0,4кВ, №2 | K42: =Отчёт_июнь_К_!M15 -> 0 | L42: =Отчёт_июнь_К_!N15 -> 0 | M42: =Отчёт_июнь_К_!O15 -> 42 | N42: =Отчёт_июнь_К_!P15 -> 0 | O42: =Отчёт_июнь_К_!Q15 -> 0 | P42: =Отчёт_июнь_К_!R15 -> 42 | Q42: =Отчёт_июнь_К_!S15 -> 0 | ... AA42: =Отчёт_июнь_К_!AC15 -> 1
...

Sheet Отчет_январь
A2: Форма 8.1 - Журнал учёта данных первичной информации по всем прекращениям передачи электрической энергии, произошедших на объектах электросетевых организаций за | Q2: январь | R2: месяц | S2: 2019 | T2: года
A3: Муниципальное унитарное многоотраслевое предприятие жилищно-коммунального хозяйства Гусь-Железхный
A4: наименование электросетевой организации
A6: Данные о факте прекращения передачи электрической энергии | J6: Признак АПВ (1 - Успешно/0 - Не успешно/2 - Отсутствует/3 - не работала (по принципу действия или выведена по режиму)) | K6: Признак АВР (1 - Успешно/0 - Не успешно/2 - Отсутствует/3 - не работала (по принципу действия или выведена по режиму)) | L6: Данные о масштабе прекращения передачи электрической энергии в сетевой организации | Y6: Перечень смежных сетевых организаций, затронутых прекращением передачи электрической энергии | Z6: Данные о причинах прекращения передачи электрической энергии и их расследовании | AC6: Учет в показателях надежности, в т.ч. индикативных показателях надежности (0 - нет, 1 - да)
A7: Номер прекращения передачи электрической энергии / Номер итоговой строки | B7: Наименование структурной единицы сетевой организации | C7: Вид объекта: КЛ, ВЛ, КВЛ, ПС, ТП, РП | D7: Диспетчерское наименование объекта электросетевого хозяйства сетевой организации, в результате отключения которой произошло прекращение передачи электроэнергии потребителям услуг | E7: Высший класс напряжения отключенного оборудования сетевой организации, кВ | F7: Время и дата начала прекращения передачи электрической энергии по местному времени (часы, минуты, ГГГГ.ММ.ДД) | G7: Время и дата восстановления режима потребления электрической энергии потребителей услуг (часы, минуты, ГГГГ.ММ.ДД) | H7: Вид прекращения передачи электроэнергии (П, А, В) | I7: Продолжительность прекращения передачи электрической энергии, час | L7: Перечень объектов электросетевого хозяйства, отключение которых привело к прекращению передачи электрической энергии потребителям услуг (ПС, ТП, РП, ВЛ, КЛ) | M7: Перечень потребителей 1-й и 2-й категорий надежности, в отношении которых произошло полное ограничение режима потребления электрической энергии | N7: Перечень потребителей 1-й и 2-й категорий надежности, в отношении которых произошло частичное ограничение режима потребления электрической энергии | O7: Количество точек поставки потребителей услуг сетевой организации, в отношении которых произошел перерыв электроснабжения, шт., в том числе: | X7: Суммарный объем фактической нагрузки (мощности) на присоединениях потребителей услуг, по которым произошло прекращение передачи электрической энергии на момент возникновения такого события, кВт
O8: ВСЕГО | P8: в разделении категорий надежности потребителей электрической энергии | S8: в разделении уровней напряжения ЭПУ потребителя электрической энергии | W8: Смежные сетевые организации и производители электрической энергии | Z8: Номер и дата акта расследования технологического нарушения, записи в оперативном журнале | AA8: Код организационной причины аварии | AB8: Код технической причины повреждения оборудования
P9: 1-я категория надежности | Q9: 2-я категория надежности | R9: 3-я категория надежности | S9: ВН (110 кВ и выше) | T9: СН1 (35 кВ) | U9: СН2 (6-20 кВ) | V9: НН (0,22-1 кВ) | AD9: 0.041666667
A10: 1 | B10: 2 | C10: 3 | D10: 4 | E10: 5 | F10: 6 | G10: 7 | H10: 8 | I10: 9 | J10: 10 | K10: 11 | L10: 12 | M10: 13 | N10: 14 | O10: 15 | P10: 16 | Q10: 17 | R10: 18 | S10: 19 | T10: 20 | U10: 21 | V10: 22 | W10: 23 | X10: 24 | Y10: 25 | Z10: 26 | AA10: 27 | AB10: 28 | AC10: 29
A11: 1 | B11: Участок №3 | C11: ВЛ | D11: ПС 35/10кВ Сынтул ВЛ 10кВ, ф4, тп6 | E11: 10 (10.5) | F11: 43464.084 | G11: 43464.281 | H11: В | I11: =(G11-F11)/AD9 -> 4.7333333 | J11: 2 | K11: 2 | L11: ВЛ 10кВ, Ф4 | M11: 0 | N11: 0 | O11: 623 | P11: 0 | Q11: 0 | R11: 623 | S11: 0 | T11: 0 | U11: 0 | V11: 623 | W11: 0 | X11: 218.5 | Z11: №1 30.12.2018 | AA11: 3.4.7.3 | AB11: 4.12 | AC11: 1
A12: 2 | B12: Участок №3 | C12: ВЛ | D12: ПС 35/10кВ Сынтул ВЛ 10кВ, ф4, тп1 | E12: 0.38 | F12: 43484.01 | G12: 43484.106 | H12: В | I12: =(G12-F12)/$AD$9 -> 2.3 | J12: 2 | K12: 2 | L12: ВЛ 0,4кВ, Ф2 | M12: 0 | N12: 0 | O12: 112 | P12: 0 | Q12: 0 | R12: 112 | S12: 0 | T12: 0 | U12: 0 | V12: 112 | W12: 0 | X12: 5.8 | Z12: №2 21.01.2018 | AA12: 3.4.8.4 | AB12: 4.4 | AC12: 1

Sheet Отчет_февраль
A2: Форма 8.1 - Журнал учёта данных первичной информации по всем прекращениям передачи электрической энергии, произошедших на объектах электросетевых организаций за | Q2: январь | R2: месяц | S2: 2019 | T2: года
A3: Муниципальное унитарное многоотраслевое предприятие жилищно-коммунального хозяйства Гусь-Железхный
A4: наименование электросетевой организации
A6: Данные о факте прекращения передачи электрической энергии | J6: Признак АПВ (1 - Успешно/0 - Не успешно/2 - Отсутствует/3 - не работала (по принципу действия или выведена по режиму)) | K6: Признак АВР (1 - Успешно/0 - Не успешно/2 - Отсутствует/3 - не работала (по принципу действия или выведена по режиму)) | L6: Данные о масштабе прекращения передачи электрической энергии в сетевой организации | Y6: Перечень смежных сетевых организаций, затронутых прекращением передачи электрической энергии | Z6: Данные о причинах прекращения передачи электрической энергии и их расследовании | AC6: Учет в показателях надежности, в т.ч. индикативных показателях надежности (0 - нет, 1 - да)
A7: Номер прекращения передачи электрической энергии / Номер итоговой строки | B7: Наименование структурной единицы сетевой организации | C7: Вид объекта: КЛ, ВЛ, КВЛ, ПС, ТП, РП | D7: Диспетчерское наименование объекта электросетевого хозяйства сетевой организации, в результате отключения которой произошло прекращение передачи электроэнергии потребителям услуг | E7: Высший класс напряжения отключенного оборудования сетевой организации, кВ | F7: Время и дата начала прекращения передачи электрической энергии по местному времени (часы, минуты, ГГГГ.ММ.ДД) | G7: Время и дата восстановления режима потребления электрической энергии потребителей услуг (часы, минуты, ГГГГ.ММ.ДД) | H7: Вид прекращения передачи электроэнергии (П, А, В) | I7: Продолжительность прекращения передачи электрической энергии, час | L7: Перечень объектов электросетевого хозяйства, отключение которых привело к прекращению передачи электрической энергии потребителям услуг (ПС, ТП, РП, ВЛ, КЛ) | M7: Перечень потребителей 1-й и 2-й категорий надежности, в отношении которых произошло полное ограничение режима потребления электрической энергии | N7: Перечень потребителей 1-й и 2-й категорий надежности, в отношении которых произошло частичное ограничение режима потребления электрической энергии | O7: Количество точек поставки потребителей услуг сетевой организации, в отношении которых произошел перерыв электроснабжения, шт., в том числе: | X7: Суммарный объем фактической нагрузки (мощности) на присоединениях потребителей услуг, по которым произошло прекращение передачи электрической энергии на момент возникновения такого события, кВт
O8: ВСЕГО | P8: в разделении категорий надежности потребителей электрической энергии | S8: в разделении уровней напряжения ЭПУ потребителя электрической энергии | W8: Смежные сетевые организации и производители электрической энергии | Z8: Номер и дата акта расследования технологического нарушения, записи в оперативном журнале | AA8: Код организационной причины аварии | AB8: Код технической причины повреждения оборудования
P9: 1-я категория надежности | Q9: 2-я категория надежности | R9: 3-я категория надежности | S9: ВН (110 кВ и выше) | T9: СН1 (35 кВ) | U9: СН2 (6-20 кВ) | V9: НН (0,22-1 кВ) | AD9: 0.041666667
A10: 1 | B10: 2 | C10: 3 | D10: 4 | E10: 5 | F10: 6 | G10: 7 | H10: 8 | I10: 9 | J10: 10 | K10: 11 | L10: 12 | M10: 13 | N10: 14 | O10: 15 | P10: 16 | Q10: 17 | R10: 18 | S10: 19 | T10: 20 | U10: 21 | V10: 22 | W10: 23 | X10: 24 | Y10: 25 | Z10: 26 | AA10: 27 | AB10: 28 | AC10: 29
A11: 3 | B11: Участок №1 | C11: ТП | D11: ПС 110/35/10кВ Шостье ВЛ 10кВ, ф2, ЗТП2576, ф1 | E11: 0.38 | F11: 43512.334 | G11: 43512.531 | H11: В | I11: =(G11-F11)/AD9 -> 4.7333333 | J11: 2 | K11: 2 | L11: ЗТП2576 ф.1 | M11: 0 | N11: 0 | O11: 42 | P11: 0 | Q11: 0 | R11: 42 | S11: 0 | T11: 0 | U11: 0 | V11: 42 | W11: 0 | X11: =0.065*V11 -> 2.73 | Z11: №3 17.02.2019 | AA11: 3.4.12.2 | AB11: 4.10 | AC11: 1
A12: 4 | B12: Участок №1 | C12: ТП | D12: ПС 35/10кВ Зеленино ВЛ 10кВ, ф3, ЗТП5, ф4. | E12: 0.38 | F12: 43513.635 | G12: 43513.765 | H12: В | I12: =(G12-F12)/$AD$9 -> 3.1333333 | J12: 2 | K12: 2 | L12: ЗТП5 ф.4 | M12: 0 | N12: 0 | O12: 162 | P12: 0 | Q12: 0 | R12: 162 | S12: 0 | T12: 0 | U12: 0 | V12: 162 | W12: 0 | X12: =0.065*V12 -> 10.53 | Z12: №4 18.02.2019 | AA12: 3.4.12.2 | AB12: 4.10 | AC12: 1
A13: 5 | B13: Участок №1 | C13: ТП | D13: ПС 110/35/10кВ Касимов ВЛ 10кВ, ф12, МТП2591, ф.1 | E13: 0.38 | F13: 43513.814 | G13: 43513.85 | H13: В | I13: =(G13-F13)/$AD$9 -> 0.86666667 | J13: 2 | K13: 2 | L13: МТП2591, ф.1 | M13: 0 | N13: 0 | O13: 58 | P13: 0 | Q13: 0 | R13: 58 | S13: 0 | T13: 0 | U13: 0 | V13: 58 | W13: 0 | X13: =0.132*V13 -> 7.656 | Z13: №5 18.02.2019 | AA13: 3.4.12.2 | AB13: 4.10 | AC13: 1
A14: 6 | B14: Участок №1 | C14: ТП | D14: ПС 35/10кВ Лашма ВЛ 10кВ, ф3, ЗТП8, ф2 | E14: 0.38 | F14: 43514.419 | G14: 43514.5 | H14: В | I14: =(G14-F14)/$AD$9 -> 1.95 | J14: 2 | K14: 2 | L14: ЗТП8, ф2. | M14: 0 | N14: 0 | O14: 49 | P14: 0 | Q14: 0 | R14: 49 | S14: 0 | T14: 0 | U14: 0 | V14: 49 | W14: 0 | X14: =0.065*V14 -> 3.185 | Z14: №6 19.02.2019 | AA14: 3.4.12.2 | AB14: 4.10 | AC14: 1
A15: 7 | B15: Участок №1 | C15: ВЛ | D15: ПС 35/10кВ Телебукино ВЛ 10кВ, ф14 | E15: 10 (10.5) | F15: 43517.293 | G15: 43517.564 | H15: В | I15: =(G15-F15)/$AD$9 -> 6.5 | J15: 2 | K15: 2 | L15: ВЛ 10кВ, ф14 | M15: 0 | N15: 0 | O15: 77 | P15: 0 | Q15: 0 | R15: 77 | S15: 0 | T15: 0 | U15: 0 | V15: 77 | W15: 0 | X15: =0.065*V15+32 -> 37.005 | Z15: №7 19.02.2019 | AA15: 3.4.9.1 | AB15: 4.21 | AC15: 0

Sheet Отчет_март
A2: Форма 8.1 - Журнал учёта данных первичной информации по всем прекращениям передачи электрической энергии, произошедших на объектах электросетевых организаций за | Q2: январь | R2: месяц | S2: 2019 | T2: года
A3: Муниципальное унитарное многоотраслевое предприятие жилищно-коммунального хозяйства Гусь-Железхный
A4: наименование электросетевой организации
A6: Данные о факте прекращения передачи электрической энергии | J6: Признак АПВ (1 - Успешно/0 - Не успешно/2 - Отсутствует/3 - не работала (по принципу действия или выведена по режиму)) | K6: Признак АВР (1 - Успешно/0 - Не успешно/2 - Отсутствует/3 - не работала (по принципу действия или выведена по режиму)) | L6: Данные о масштабе прекращения передачи электрической энергии в сетевой организации | Y6: Перечень смежных сетевых организаций, затронутых прекращением передачи электрической энергии | Z6: Данные о причинах прекращения передачи электрической энергии и их расследовании | AC6: Учет в показателях надежности, в т.ч. индикативных показателях надежности (0 - нет, 1 - да)
A7: Номер прекращения передачи электрической энергии / Номер итоговой строки | B7: Наименование структурной единицы сетевой организации | C7: Вид объекта: КЛ, ВЛ, КВЛ, ПС, ТП, РП | D7: Диспетчерское наименование объекта электросетевого хозяйства сетевой организации, в результате отключения которой произошло прекращение передачи электроэнергии потребителям услуг | E7: Высший класс напряжения отключенного оборудования сетевой организации, кВ | F7: Время и дата начала прекращения передачи электрической энергии по местному времени (часы, минуты, ГГГГ.ММ.ДД) | G7: Время и дата восстановления режима потребления электрической энергии потребителей услуг (часы, минуты, ГГГГ.ММ.ДД) | H7: Вид прекращения передачи электроэнергии (П, А, В) | I7: Продолжительность прекращения передачи электрической энергии, час | L7: Перечень объектов электросетевого хозяйства, отключение которых привело к прекращению передачи электрической энергии потребителям услуг (ПС, ТП, РП, ВЛ, КЛ) | M7: Перечень потребителей 1-й и 2-й категорий надежности, в отношении которых произошло полное ограничение режима потребления электрической энергии | N7: Перечень потребителей 1-й и 2-й категорий надежности, в отношении которых произошло частичное ограничение режима потребления электрической энергии | O7: Количество точек поставки потребителей услуг сетевой организации, в отношении которых произошел перерыв электроснабжения, шт., в том числе: | X7: Суммарный объем фактической нагрузки (мощности) на присоединениях потребителей услуг, по которым произошло прекращение передачи электрической энергии на момент возникновения такого события, кВт
O8: ВСЕГО | P8: в разделении категорий надежности потребителей электрической энергии | S8: в разделении уровней напряжения ЭПУ потребителя электрической энергии | W8: Смежные сетевые организации и производители электрической энергии | Z8: Номер и дата акта расследования технологического нарушения, записи в оперативном журнале | AA8: Код организационной причины аварии | AB8: Код технической причины повреждения оборудования
P9: 1-я категория надежности | Q9: 2-я категория надежности | R9: 3-я категория надежности | S9: ВН (110 кВ и выше) | T9: СН1 (35 кВ) | U9: СН2 (6-20 кВ) | V9: НН (0,22-1 кВ) | AD9: 0.041666667
A10: 1 | B10: 2 | C10: 3 | D10: 4 | E10: 5 | F10: 6 | G10: 7 | H10: 8 | I10: 9 | J10: 10 | K10: 11 | L10: 12 | M10: 13 | N10: 14 | O10: 15 | P10: 16 | Q10: 17 | R10: 18 | S10: 19 | T10: 20 | U10: 21 | V10: 22 | W10: 23 | X10: 24 | Y10: 25 | Z10: 26 | AA10: 27 | AB10: 28 | AC10: 29
A11: 3 | B11: Участок №1 | C11: ТП | D11: ПС 110/35/10кВ Шостье ВЛ 10кВ, ф2, ЗТП2576, ф1 | E11: 0.38 | F11: 43512.334 | G11: 43512.531 | H11: В | I11: =(G11-F11)/AD9 -> 4.7333333 | J11: 2 | K11: 2 | L11: ЗТП2576 ф.1 | M11: 0 | N11: 0 | O11: 42 | P11: 0 | Q11: 0 | R11: 42 | S11: 0 | T11: 0 | U11: 0 | V11: 42 | W11: 0 | X11: =0.065*V11 -> 2.73 | Z11: №3 17.02.2019 | AA11: 3.4.12.2 | AB11: 4.10 | AC11: 1
A12: 4 | B12: Участок №1 | C12: ТП | D12: ПС 35/10кВ Зеленино ВЛ 10кВ, ф3, ЗТП5, ф4. | E12: 0.38 | F12: 43513.635 | G12: 43513.765 | H12: В | I12: =(G12-F12)/$AD$9 -> 3.1333333 | J12: 2 | K12: 2 | L12: ЗТП5 ф.4 | M12: 0 | N12: 0 | O12: 162 | P12: 0 | Q12: 0 | R12: 162 | S12: 0 | T12: 0 | U12: 0 | V12: 162 | W12: 0 | X12: =0.065*V12 -> 10.53 | Z12: №4 18.02.2019 | AA12: 3.4.12.2 | AB12: 4.10 | AC12: 1
A13: 5 | B13: Участок №1 | C13: ТП | D13: ПС 110/35/10кВ Касимов ВЛ 10кВ, ф12, МТП2591, ф.1 | E13: 0.38 | F13: 43513.814 | G13: 43513.85 | H13: В | I13: =(G13-F13)/$AD$9 -> 0.86666667 | J13: 2 | K13: 2 | L13: МТП2591, ф.1 | M13: 0 | N13: 0 | O13: 58 | P13: 0 | Q13: 0 | R13: 58 | S13: 0 | T13: 0 | U13: 0 | V13: 58 | W13: 0 | X13: =0.132*V13 -> 7.656 | Z13: №5 18.02.2019 | AA13: 3.4.12.2 | AB13: 4.10 | AC13: 1
A14: 6 | B14: Участок №1 | C14: ТП | D14: ПС 35/10кВ Лашма ВЛ 10кВ, ф3, ЗТП8, ф2 | E14: 0.38 | F14: 43514.419 | G14: 43514.5 | H14: В | I14: =(G14-F14)/$AD$9 -> 1.95 | J14: 2 | K14: 2 | L14: ЗТП8, ф2. | M14: 0 | N14: 0 | O14: 49 | P14: 0 | Q14: 0 | R14: 49 | S14: 0 | T14: 0 | U14: 0 | V14: 49 | W14: 0 | X14: =0.065*V14 -> 3.185 | Z14: №6 19.02.2019 | AA14: 3.4.12.2 | AB14: 4.10 | AC14: 1
A15: 7 | B15: Участок №1 | C15: ВЛ | D15: ПС 35/10кВ Телебукино ВЛ 10кВ, ф14 | E15: 10 (10.5) | F15: 43517.293 | G15: 43517.564 | H15: В | I15: =(G15-F15)/$AD$9 -> 6.5 | J15: 2 | K15: 2 | L15: ВЛ 10кВ, ф14 | M15: 0 | N15: 0 | O15: 77 | P15: 0 | Q15: 0 | R15: 77 | S15: 0 | T15: 0 | U15: 0 | V15: 77 | W15: 0 | X15: =0.065*V15+32 -> 37.005 | Z15: №7 19.02.2019 | AA15: 3.4.9.1 | AB15: 4.21 | AC15: 0
A16: 8 | B16: Участок №1 | C16: ВЛ | D16: ПС 35/10кВ Лашма ВЛ 10кВ, ф5 | E16: 10 (10.5) | F16: 43541.46 | G16: 43541.613 | H16: В | I16: =(G16-F16)/$AD$9 -> 3.6666667 | J16: 2 | K16: 2 | L16: ВЛ 10кВ, ф5 | M16: 0 | N16: 0 | O16: 495 | P16: 0 | Q16: 0 | R16: 495 | S16: 0 | T16: 0 | U16: 0 | V16: 495 | W16: 0 | X16: =0.065*V16-5+24 -> 51.175 | Z16: №8 18.03.2019 | AA16: 3.4.14 | AB16: 4.21 | AC16: 1

Sheet Отчет_апрель
A2: Форма 8.1 - Журнал учёта данных первичной информации по всем прекращениям передачи электрической энергии, произошедших на объектах электросетевых организаций за | Q2: январь | R2: месяц | S2: 2019 | T2: года
A3: Муниципальное унитарное многоотраслевое предприятие жилищно-коммунального хозяйства Гусь-Железхный
A4: наименование электросетевой организации
A6: Данные о факте прекращения передачи электрической энергии | J6: Признак АПВ (1 - Успешно/0 - Не успешно/2 - Отсутствует/3 - не работала (по принципу действия или выведена по режиму)) | K6: Признак АВР (1 - Успешно/0 - Не успешно/2 - Отсутствует/3 - не работала (по принципу действия или выведена по режиму)) | L6: Данные о масштабе прекращения передачи электрической энергии в сетевой организации | Y6: Перечень смежных сетевых организаций, затронутых прекращением передачи электрической энергии | Z6: Данные о причинах прекращения передачи электрической энергии и их расследовании | AC6: Учет в показателях надежности, в т.ч. индикативных показателях надежности (0 - нет, 1 - да)
A7: Номер прекращения передачи электрической энергии / Номер итоговой строки | B7: Наименование структурной единицы сетевой организации | C7: Вид объекта: КЛ, ВЛ, КВЛ, ПС, ТП, РП | D7: Диспетчерское наименование объекта электросетевого хозяйства сетевой организации, в результате отключения которой произошло прекращение передачи электроэнергии потребителям услуг | E7: Высший класс напряжения отключенного оборудования сетевой организации, кВ | F7: Время и дата начала прекращения передачи электрической энергии по местному времени (часы, минуты, ГГГГ.ММ.ДД) | G7: Время и дата восстановления режима потребления электрической энергии потребителей услуг (часы, минуты, ГГГГ.ММ.ДД) | H7: Вид прекращения передачи электроэнергии (П, А, В) | I7: Продолжительность прекращения передачи электрической энергии, час | L7: Перечень объектов электросетевого хозяйства, отключение которых привело к прекращению передачи электрической энергии потребителям услуг (ПС, ТП, РП, ВЛ, КЛ) | M7: Перечень потребителей 1-й и 2-й категорий надежности, в отношении которых произошло полное ограничение режима потребления электрической энергии | N7: Перечень потребителей 1-й и 2-й категорий надежности, в отношении которых произошло частичное ограничение режима потребления электрической энергии | O7: Количество точек поставки потребителей услуг сетевой организации, в отношении которых произошел перерыв электроснабжения, шт., в том числе: | X7: Суммарный объем фактической нагрузки (мощности) на присоединениях потребителей услуг, по которым произошло прекращение передачи электрической энергии на момент возникновения такого события, кВт
O8: ВСЕГО | P8: в разделении категорий надежности потребителей электрической энергии | S8: в разделении уровней напряжения ЭПУ потребителя электрической энергии | W8: Смежные сетевые организации и производители электрической энергии | Z8: Номер и дата акта расследования технологического нарушения, записи в оперативном журнале | AA8: Код организационной причины аварии | AB8: Код технической причины повреждения оборудования
P9: 1-я категория надежности | Q9: 2-я категория надежности | R9: 3-я категория надежности | S9: ВН (110 кВ и выше) | T9: СН1 (35 кВ) | U9: СН2 (6-20 кВ) | V9: НН (0,22-1 кВ) | AD9: 0.041666667
A10: 1 | B10: 2 | C10: 3 | D10: 4 | E10: 5 | F10: 6 | G10: 7 | H10: 8 | I10: 9 | J10: 10 | K10: 11 | L10: 12 | M10: 13 | N10: 14 | O10: 15 | P10: 16 | Q10: 17 | R10: 18 | S10: 19 | T10: 20 | U10: 21 | V10: 22 | W10: 23 | X10: 24 | Y10: 25 | Z10: 26 | AA10: 27 | AB10: 28 | AC10: 29
A11: 9 | B11: Участок №1 | C11: ВЛ | D11: ПС 35/10кВ Затон ВЛ 10кВ, ф2 | E11: 10 (10.5) | F11: 43565.708 | G11: 43565.844 | H11: В | I11: =(G11-F11)/$AD$9 -> 3.25 | J11: 2 | K11: 2 | L11: ВЛ 10кВ, №2 | M11: 0 | N11: 0 | O11: 55 | P11: 0 | Q11: 0 | R11: 55 | S11: 0 | T11: 0 | U11: 0 | V11: 55 | X11: =0.065*V11+2*3 -> 9.575 | Z11: №9 10.04.2019 | AA11: 3.4.9.1 | AB11: 4.21 | AC11: 0
A12: 10 | B12: Участок №1 | C12: ВЛ | D12: ПС 35/10кВ Затон ВЛ 10кВ, ф2 ТП Бургаз , ф1 | E12: 0.38 | F12: 43567.625 | G12: 43567.792 | H12: В | I12: =(G12-F12)/$AD$9 -> 4 | J12: 2 | K12: 2 | L12: ВЛ 0,4кВ, №2 | M12: 0 | N12: 0 | O12: 52 | P12: 0 | Q12: 0 | R12: 52 | S12: 0 | T12: 0 | U12: 0 | V12: 52 | X12: =0.065*V12 -> 3.38 | Z12: №10 11.04.2019 | AA12: 3.4.9.3 | AB12: 4.12 | AC12: 0
A13: 11 | B13: Участок №1 | C13: ВЛ | D13: ПС110/10кВ Бельки ф.6 ВЛ10кВ№6 | E13: 10 (10.5) | F13: 43568.271 | G13: 43568.299 | H13: В | I13: =(G13-F13)/$AD$9 -> 0.66666667 | J13: 2 | K13: 2 | L13: ВЛ 10кВ, №6 | M13: 0 | N13: 0 | O13: 1039 | P13: 0 | Q13: 0 | R13: 1039 | S13: 0 | T13: 0 | U13: 0 | V13: 1039 | X13: =0.065*V13+21 -> 88.535 | Z13: №11 15.04.2019 | AA13: 3.4.9.1 | AB13: 4.21 | AC13: 0
A14: 12 | B14: Участок №1 | C14: ВЛ | D14: ПС Сабурово 110/10кВ ВЛ 10кВ ф.7 | E14: 11 (10.5) | F14: 43579.522 | G14: 43579.53 | H14: В | I14: =(G14-F14)/$AD$9 -> 0.18333333 | J14: 2 | K14: 2 | L14: ВЛ 10кВ, №7 | M14: 0 | N14: 0 | O14: 1716 | P14: 0 | Q14: 0 | R14: 1716 | S14: 0 | T14: 0 | U14: 0 | V14: 1716 | X14: =0.065*V14+400 -> 511.54 | Z14: №12 15.04.2020 | AA14: 3.4.9.1 | AB14: 4.21 | AC14: 0

Sheet Отчет_апрель_(2)
A2: Форма 8.1 - Журнал учёта данных первичной информации по всем прекращениям передачи электрической энергии, произошедших на объектах электросетевых организаций за | Q2: апрель | R2: месяц | S2: 2019 | T2: года
A3: Муниципальное унитарное многоотраслевое предприятие жилищно-коммунального хозяйства Гусь-Железхный
A4: наименование электросетевой организации
A6: Данные о факте прекращения передачи электрической энергии | J6: Признак АПВ (1 - Успешно/0 - Не успешно/2 - Отсутствует/3 - не работала (по принципу действия или выведена по режиму)) | K6: Признак АВР (1 - Успешно/0 - Не успешно/2 - Отсутствует/3 - не работала (по принципу действия или выведена по режиму)) | L6: Данные о масштабе прекращения передачи электрической энергии в сетевой организации | Y6: Перечень смежных сетевых организаций, затронутых прекращением передачи электрической энергии | Z6: Данные о причинах прекращения передачи электрической энергии и их расследовании | AC6: Учет в показателях надежности, в т.ч. индикативных показателях надежности (0 - нет, 1 - да)
A7: Номер прекращения передачи электрической энергии / Номер итоговой строки | B7: Наименование структурной единицы сетевой организации | C7: Вид объекта: КЛ, ВЛ, КВЛ, ПС, ТП, РП | D7: Диспетчерское наименование объекта электросетевого хозяйства сетевой организации, в результате отключения которой произошло прекращение передачи электроэнергии потребителям услуг | E7: Высший класс напряжения отключенного оборудования сетевой организации, кВ | F7: Время и дата начала прекращения передачи электрической энергии по местному времени (часы, минуты, ГГГГ.ММ.ДД) | G7: Время и дата восстановления режима потребления электрической энергии потребителей услуг (часы, минуты, ГГГГ.ММ.ДД) | H7: Вид прекращения передачи электроэнергии (П, А, В) | I7: Продолжительность прекращения передачи электрической энергии, час | L7: Перечень объектов электросетевого хозяйства, отключение которых привело к прекращению передачи электрической энергии потребителям услуг (ПС, ТП, РП, ВЛ, КЛ) | M7: Перечень потребителей 1-й и 2-й категорий надежности, в отношении которых произошло полное ограничение режима потребления электрической энергии | N7: Перечень потребителей 1-й и 2-й категорий надежности, в отношении которых произошло частичное ограничение режима потребления электрической энергии | O7: Количество точек поставки потребителей услуг сетевой организации, в отношении которых произошел перерыв электроснабжения, шт., в том числе: | X7: Суммарный объем фактической нагрузки (мощности) на присоединениях потребителей услуг, по которым произошло прекращение передачи электрической энергии на момент возникновения такого события, кВт
O8: ВСЕГО | P8: в разделении категорий надежности потребителей электрической энергии | S8: в разделении уровней напряжения ЭПУ потребителя электрической энергии | W8: Смежные сетевые организации и производители электрической энергии | Z8: Номер и дата акта расследования технологического нарушения, записи в оперативном журнале | AA8: Код организационной причины аварии | AB8: Код технической причины повреждения оборудования
P9: 1-я категория надежности | Q9: 2-я категория надежности | R9: 3-я категория надежности | S9: ВН (110 кВ и выше) | T9: СН1 (35 кВ) | U9: СН2 (6-20 кВ) | V9: НН (0,22-1 кВ) | AD9: 0.041666667
A10: 1 | B10: 2 | C10: 3 | D10: 4 | E10: 5 | F10: 6 | G10: 7 | H10: 8 | I10: 9 | J10: 10 | K10: 11 | L10: 12 | M10: 13 | N10: 14 | O10: 15 | P10: 16 | Q10: 17 | R10: 18 | S10: 19 | T10: 20 | U10: 21 | V10: 22 | W10: 23 | X10: 24 | Y10: 25 | Z10: 26 | AA10: 27 | AB10: 28 | AC10: 29
A11: 9 | B11: Участок №2 | C11: ВЛ | D11: ПС Сабурово 110/10кВ ВЛ 10кВ ф.7 КТП 5, ВЛ 0,4кВ | E11: 0.38 | F11: 43550.365 | G11: 43550.5 | H11: П | I11: =(G11-F11)/$AD$9 -> 3.25 | J11: х | K11: х | L11: ВЛ 0,4кВ, №1 | M11: 0 | N11: 0 | O11: 62 | P11: 0 | Q11: 0 | R11: 62 | S11: 0 | T11: 0 | U11: 0 | V11: 62 | X11: =0.065*V11+12 -> 16.03 | Z11: х | AA11: х | AB11: х
A12: 10 | B12: Участок №2 | C12: ВЛ | D12: ПС Сабурово 110/10кВ ВЛ 10кВ ф.7 | E12: 10 (10.5) | F12: 43559.375 | G12: 43559.646 | H12: П | I12: =(G12-F12)/$AD$9 -> 6.5 | J12: х | K12: х | L12: ВЛ 10кВ, №7 | M12: 0 | N12: 0 | O12: 1716 | P12: 0 | Q12: 0 | R12: 1716 | S12: 0 | T12: 0 | U12: 0 | V12: 1716 | X12: =0.065*V12+400 -> 511.54 | Z12: х | AA12: х | AB12: х | AC12: 0
A13: 11 | B13: Участок №2 | C13: ВЛ | D13: ПС Сабурово 110/10кВ ВЛ 10кВ ф.7 КТП 8, ВЛ 0,4кВ | E13: 0.38 | F13: 43561.354 | G13: 43561.396 | H13: П | I13: =(G13-F13)/$AD$9 -> 1 | J13: х | K13: х | L13: ВЛ 0,4кВ, №2 | M13: 0 | N13: 0 | O13: 42 | P13: 0 | Q13: 0 | R13: 42 | S13: 0 | T13: 0 | U13: 0 | V13: 42 | X13: =0.065*V13 -> 2.73 | Z13: х | AA13: х | AB13: х | AC13: 0
A14: 12 | B14: Участок №2 | C14: ВЛ | D14: ПС Сабурово 110/10кВ ВЛ 10кВ ф.7 ЗТП 4, ВЛ 0,4кВ | E14: 0.38 | F14: 43565.417 | G14: 43565.479 | H14: П | I14: =(G14-F14)/$AD$9 -> 1.5 | J14: х | K14: х | L14: ВЛ 0,4кВ, №2 | M14: 0 | N14: 0 | O14: 57 | P14: 0 | Q14: 0 | R14: 57 | S14: 0 | T14: 0 | U14: 0 | V14: 57 | X14: =0.065*V14+15 -> 18.705 | Z14: х | AA14: х | AB14: х | AC14: 0
A15: 13 | B15: Участок №1 | C15: ВЛ | D15: ПС 35/10кВ Затон ВЛ 10кВ, ф2 | E15: 10 (10.5) | F15: 43565.708 | G15: 43565.844 | H15: В | I15: =(G15-F15)/$AD$9 -> 3.25 | J15: 2 | K15: 2 | L15: ВЛ 10кВ, №2 | M15: 0 | N15: 0 | O15: 55 | P15: 0 | Q15: 0 | R15: 55 | S15: 0 | T15: 0 | U15: 0 | V15: 55 | X15: =0.065*V15+2*3 -> 9.575 | Z15: №9 10.04.2019 | AA15: 3.4.9.1 | AB15: 4.21 | AC15: 0
A16: 14 | B16: Участок №1 | C16: ВЛ | D16: ПС 35/10кВ Затон ВЛ 10кВ, ф2 ТП Бургаз , ф1 | E16: 0.38 | F16: 43567.625 | G16: 43567.792 | H16: В | I16: =(G16-F16)/$AD$9 -> 4 | J16: 2 | K16: 2 | L16: ВЛ 0,4кВ, №1 | M16: 0 | N16: 0 | O16: 52 | P16: 0 | Q16: 0 | R16: 52 | S16: 0 | T16: 0 | U16: 0 | V16: 52 | X16: =0.065*V16 -> 3.38 | Z16: №10 11.04.2019 | AA16: 3.4.9.3 | AB16: 4.12 | AC16: 0
A17: 15 | B17: Участок №1 | C17: ВЛ | D17: ПС 35/10кВ Затон ВЛ 10кВ, ф2 | E17: 10 (10.5) | F17: 43567.458 | G17: 43567.594 | H17: П | I17: =(G17-F17)/$AD$9 -> 3.25 | J17: 2 | K17: 2 | L17: ВЛ 10кВ, №2 | M17: 0 | N17: 0 | O17: 55 | P17: 0 | Q17: 0 | R17: 55 | S17: 0 | T17: 0 | U17: 0 | V17: 55 | X17: =0.065*V17+2*3 -> 9.575 | Z17: №9 10.04.2019 | AA17: 3.4.9.1 | AB17: 4.21 | AC17: 0
A18: 16 | B18: Участок №2 | C18: ВЛ | D18: ПС 35/10кВ Телебукино ВЛ.14, КТП 2 ВЛ 0,4кВ№2 | E18: 0.38 | F18: 43567.583 | G18: 43567.667 | H18: П | I18: =(G18-F18)/$AD$9 -> 2 | J18: 2 | K18: 2 | L18: ВЛ 0,4кВ, №2 | M18: 0 | N18: 0 | O18: 39 | P18: 0 | Q18: 0 | R18: 39 | S18: 0 | T18: 0 | U18: 0 | V18: 39 | X18: =0.065*V18+4.8 -> 7.335 | Z18: х | AA18: х | AB18: х | AC18: 0
A19: 17 | B19: Участок №3 | C19: ВЛ | D19: ПС110/10кВ Бельки ф.6 ВЛ10кВ№6 | E19: 10 (10.5) | F19: 43568.271 | G19: 43568.299 | H19: В | I19: =(G19-F19)/$AD$9 -> 0.66666667 | J19: 2 | K19: 2 | L19: ВЛ 10кВ, №6 | M19: 0 | N19: 0 | O19: 1039 | P19: 0 | Q19: 0 | R19: 1039 | S19: 0 | T19: 0 | U19: 0 | V19: 1039 | X19: =0.065*V19+21 -> 88.535 | Z19: №11 15.04.2019 | AA19: 3.4.9.1 | AB19: 4.21 | AC19: 0
A20: 18 | B20: Участок №3 | C20: ВЛ | D20: ПС110/10кВ Бельки ф.6 ВЛ10кВ№7 | E20: 11 (10.5) | F20: 43571.667 | G20: 43571.799 | H20: П | I20: =(G20-F20)/$AD$9 -> 3.1666667 | J20: х | K20: х | L20: ВЛ 10кВ, №6 | M20: 0 | N20: 0 | O20: 1039 | P20: 0 | Q20: 0 | R20: 1039 | S20: 0 | T20: 0 | U20: 0 | V20: 1039 | X20: =0.065*V20+21 -> 88.535 | AC20: 0
A21: 19 | B21: Участок №1 | C21: ВЛ | D21: ПС Сабурово 110/10кВ ВЛ 10кВ ф.7 | E21: 11 (10.5) | F21: 43579.522 | G21: 43579.53 | H21: В | I21: =(G21-F21)/$AD$9 -> 0.18333333 | J21: 2 | K21: 2 | L21: ВЛ 10кВ, №7 | M21: 0 | N21: 0 | O21: 1716 | P21: 0 | Q21: 0 | R21: 1716 | S21: 0 | T21: 0 | U21: 0 | V21: 1716 | X21: =0.065*V21+400 -> 511.54 | Z21: №12 15.04.2020 | AA21: 3.4.9.1 | AB21: 4.21 | AC21: 0

Sheet отчет_Май_
A2: Форма 8.1 - Журнал учёта данных первичной информации по всем прекращениям передачи электрической энергии, произошедших на объектах электросетевых организаций за | Q2: май | R2: месяц | S2: 2019 | T2: года
A3: Муниципальное унитарное многоотраслевое предприятие жилищно-коммунального хозяйства Гусь-Железхный
A4: наименование электросетевой организации
A6: Данные о факте прекращения передачи электрической энергии | J6: Признак АПВ (1 - Успешно/0 - Не успешно/2 - Отсутствует/3 - не работала (по принципу действия или выведена по режиму)) | K6: Признак АВР (1 - Успешно/0 - Не успешно/2 - Отсутствует/3 - не работала (по принципу действия или выведена по режиму)) | L6: Данные о масштабе прекращения передачи электрической энергии в сетевой организации | Y6: Перечень смежных сетевых организаций, затронутых прекращением передачи электрической энергии | Z6: Данные о причинах прекращения передачи электрической энергии и их расследовании | AC6: Учет в показателях надежности, в т.ч. индикативных показателях надежности (0 - нет, 1 - да)
A7: Номер прекращения передачи электрической энергии / Номер итоговой строки | B7: Наименование структурной единицы сетевой организации | C7: Вид объекта: КЛ, ВЛ, КВЛ, ПС, ТП, РП | D7: Диспетчерское наименование объекта электросетевого хозяйства сетевой организации, в результате отключения которой произошло прекращение передачи электроэнергии потребителям услуг | E7: Высший класс напряжения отключенного оборудования сетевой организации, кВ | F7: Время и дата начала прекращения передачи электрической энергии по местному времени (часы, минуты, ГГГГ.ММ.ДД) | G7: Время и дата восстановления режима потребления электрической энергии потребителей услуг (часы, минуты, ГГГГ.ММ.ДД) | H7: Вид прекращения передачи электроэнергии (П, А, В) | I7: Продолжительность прекращения передачи электрической энергии, час | L7: Перечень объектов электросетевого хозяйства, отключение которых привело к прекращению передачи электрической энергии потребителям услуг (ПС, ТП, РП, ВЛ, КЛ) | M7: Перечень потребителей 1-й и 2-й категорий надежности, в отношении которых произошло полное ограничение режима потребления электрической энергии | N7: Перечень потребителей 1-й и 2-й категорий надежности, в отношении которых произошло частичное ограничение режима потребления электрической энергии | O7: Количество точек поставки потребителей услуг сетевой организации, в отношении которых произошел перерыв электроснабжения, шт., в том числе: | X7: Суммарный объем фактической нагрузки (мощности) на присоединениях потребителей услуг, по которым произошло прекращение передачи электрической энергии на момент возникновения такого события, кВт
O8: ВСЕГО | P8: в разделении категорий надежности потребителей электрической энергии | S8: в разделении уровней напряжения ЭПУ потребителя электрической энергии | W8: Смежные сетевые организации и производители электрической энергии | Z8: Номер и дата акта расследования технологического нарушения, записи в оперативном журнале | AA8: Код организационной причины аварии | AB8: Код технической причины повреждения оборудования
P9: 1-я категория надежности | Q9: 2-я категория надежности | R9: 3-я категория надежности | S9: ВН (110 кВ и выше) | T9: СН1 (35 кВ) | U9: СН2 (6-20 кВ) | V9: НН (0,22-1 кВ) | AD9: 0.041666667
A10: 1 | B10: 2 | C10: 3 | D10: 4 | E10: 5 | F10: 6 | G10: 7 | H10: 8 | I10: 9 | J10: 10 | K10: 11 | L10: 12 | M10: 13 | N10: 14 | O10: 15 | P10: 16 | Q10: 17 | R10: 18 | S10: 19 | T10: 20 | U10: 21 | V10: 22 | W10: 23 | X10: 24 | Y10: 25 | Z10: 26 | AA10: 27 | AB10: 28 | AC10: 29
A11: 23 | B11: Участок №1 | C11: ВЛ | D11: ПС Лашиа 35/10кВ ВЛ 10кВ №3 | E11: 10 (10.5) | F11: 43598.917 | G11: 43599.167 | H11: В | I11: =(G11-F11)/$AD$9 -> 6 | J11: х | K11: х | L11: ВЛ 10кВ, №3 | M11: 0 | N11: 0 | O11: 594 | P11: 0 | Q11: 0 | R11: =O11 -> 594 | S11: 0 | T11: 0 | U11: 0 | V11: =R11 -> 594 | X11: =0.065*V11+15 -> 53.61 | Z11: №13 15.04.2020 | AA11: 3.4.12.3 | AB11: 4.21 | AC11: 1
A12: 24 | B12: Участок №3 | C12: ВЛ | D12: ПС110/10кВ Бельки ф.6 ВЛ10кВ№6 | E12: 10 (10.5) | F12: 43598.917 | G12: 43599.542 | H12: В | I12: =(G12-F12)/$AD$9 -> 15 | J12: 2 | K12: 2 | L12: ВЛ 10кВ, №6 | M12: 0 | N12: 0 | O12: 1390 | P12: 0 | Q12: 0 | R12: =O12 -> 1390 | S12: 0 | T12: 0 | U12: 0 | V12: =R12 -> 1390 | X12: =0.065*V12+2*35 -> 160.35 | Z12: №14 10.04.2019 | AA12: 3.4.12.3 | AB12: 4.11 | AC12: 1
A13: 25 | B13: Участок №1 | C13: ТП | D13: ПС Лашиа 35/10кВ ВЛ 10кВ №5, ЗТП8 | E13: 10 (10.5) | F13: 43599.083 | G13: 43599.417 | H13: В | I13: =(G13-F13)/$AD$9 -> 8 | J13: 2 | K13: 2 | L13: ЗТП8 | M13: 0 | N13: 0 | O13: 490 | P13: 0 | Q13: 0 | R13: =O13 -> 490 | S13: 0 | T13: 0 | U13: 0 | V13: =R13 -> 490 | X13: =0.065*V13 -> 31.85 | Z13: №15 11.04.2019 | AA13: 3.4.12.3 | AB13: 4.12 | AC13: 1
A14: 26 | B14: Участок №1 | C14: ТП | D14: ПС Лашиа 35/10кВ ВЛ 10кВ №5, ЗТП8 | E14: 10 (10.5) | F14: 43599.875 | G14: 43599.958 | H14: В | I14: =(G14-F14)/$AD$9 -> 2 | J14: 2 | K14: 2 | L14: ЗТП8 | M14: 0 | N14: 0 | O14: 490 | P14: 0 | Q14: 0 | R14: =O14 -> 490 | S14: 0 | T14: 0 | U14: 0 | V14: =R14 -> 490 | X14: =0.065*V14+2*3 -> 37.85 | Z14: №16 10.04.2019 | AA14: 3.4.12.3 | AB14: 4.12 | AC14: 1
A15: 27 | B15: Участок №1 | C15: ТП | D15: ПС Лашиа 35/10кВ ВЛ 10кВ №3 КТП 2 | E15: 10 (10.5) | F15: 43599.403 | G15: 43599.444 | H15: В | I15: =(G15-F15)/$AD$9 -> 1 | J15: 2 | K15: 2 | L15: КТП2 | M15: 0 | N15: 0 | O15: 1 | P15: 0 | Q15: 0 | R15: =O15 -> 1 | S15: 0 | T15: 0 | U15: 0 | V15: =R15 -> 1 | X15: 24 | Z15: №17 10.04.2020 | AA15: 3.4.12.3 | AB15: 4.12 | AC15: 1
A16: 28 | B16: Участок №1 | C16: ВЛ | D16: ПС 35/10кВ Телебукино ВЛ.11 | E16: 10 (10.5) | F16: 43600.396 | G16: 43600.424 | H16: В | I16: =(G16-F16)/$AD$9 -> 0.66666667 | J16: 2 | K16: 2 | L16: ВЛ 10кВ, №11 | M16: 0 | N16: 0 | O16: 362 | P16: 0 | Q16: 0 | R16: =O16 -> 362 | S16: 0 | T16: 0 | U16: 0 | V16: =R16 -> 362 | X16: =0.065*V16+21 -> 44.53 | Z16: №18 10.04.2021 | AA16: 3.4.9.3 | AB16: 4.12 | AC16: 0

Sheet Отчёт_май_К
