Workbook
Name \a: #REF!
Name \m: #REF!
Name \n: #REF!
Name \o: #REF!
Name _M8: #N/A
Name _M9: #N/A
Name _Num2: #REF!
Name _q11: #N/A
Name _q15: #N/A
Name _q17: #N/A
Name _q2: #N/A
Name _q3: #N/A
Name _q4: #N/A
Name _q5: #N/A
Name _q6: #N/A
Name _q7: #N/A
Name _q8: #N/A
Name _q9: #N/A
Name ÷ĺňâĺđňűé: #REF!
Name AES: #REF!
Name àî: #N/A
Name ALL_ORG: #REF!
Name âňîđîé: #REF!
Name AOE: #REF!
Name APR: #REF!
Name AUG: #REF!
Name BALEE_FLOAD: #REF!
Name BALEE_PROT: #REF!,#REF!,#REF!,#REF!
Name BALM_FLOAD: #REF!
Name BALM_PROT: #REF!,#REF!,#REF!,#REF!
Name cd: #N/A
Name CheckBC_List21_1_1: #REF!
Name CheckBC_List21_1_2: #REF!
Name CheckBC_List21_1_3: #REF!
Name CheckBC_List21_1_4: #REF!
Name CheckBC_List21_1_5: #REF!
Name com: #N/A
Name CompOt: '1.5'!CompOt
Name CompOt: ГСМ!CompOt
Name CompOt: #N/A
Name CompOt2: #N/A
Name CompRas: '1.5'!CompRas
Name CompRas: ГСМ!CompRas
Name CompRas: #N/A
Name Contents: #REF!
Name COPY_DIAP: #REF!
Name ct: #N/A
Name ď: #N/A
Name DaNet: [1]TEHSHEET!$K$5:$K$6
Name DATA: #REF!
Name DATE: #REF!
Name ďď: #N/A
Name đđ: #N/A
Name đđđ: #N/A
Name DEC: #REF!
Name ďĺđâűé: #REF!
Name DOC: #REF!
Name Down_range: #REF!
Name dsragh: #N/A
Name ęĺ: #N/A

Sheet Перечень необх.документов
B1: Перечень необходимой документации, подаваемой организацией, оказывающей услуги по передаче электроэнергии, в ГУ РЭК Рязанской области для установления тарифов на услуги по передаче электроэнергии.
B3: Расчетные материалы, представляются в ГУ РЭК Рязанской области в одном экземпляре, сшитые и пронумерованные в скоросшиватель, с соответствующим перечнем (заявлением, реквизитами организации, оглавлением, учредительными документами (устав, свидетельство о постановке на учет в налоговом органе, свидетельство о регистрации), документы , подтверждающие право собственности на имущество (свидетельство, договор аренды, план приватизации), пояснительной запиской (в пояснительной записке указывается краткая характеристика предприятия, все причины, обосновывающие необходимость установления или пересмотра тарифа с постатейными расшифровками, а также необходимые вычисления, проводимые при формировании затрат, прибыли и калькуляции себестоимости, как плановой, так и фактической), расчетными таблицами, обосновывающими материалами. Кроме того, представляется расчет в электронном виде (на электронном носителе, и по электронной почте info@rek.ryazan.ru )
B5: 1. Официальное заявление
B6: Заявление подписывается руководителем организации, заверяется печатью, должно содержать наименование и реквизиты организации.
B7: 2. Реквизиты сетевой организации
B8: 3.Оглавление
B9: 4.Учредительные документы
B10: 5. Документы, подтверждающие право собственности на сетевое имущество
B11: 6. Пояснительная записка
B12: 7. Расчетные таблицы
B13: Таблицы и расчеты предоставляются в соответствии с «Методическими указаниями по расчету регулируемых тарифов и цен на электрическую (тепловую)энергию на розничном (потребительском) рынке», утвержденными Приказом ФСТ России от 06.08.2004 N 20-э/2 и Методическими указаниями по расчету тарифов на услуги по передаче электрической энергии, устанавливаемых с применением метода долгосрочной индексации необходимой валовой выручки, утвержденными Приказом ФСТ РФ от 17.02.2012 N 98-э .
B14: 8. Обосновывающие материалы (подлинники или заверенные заявителем копии)
C16: Наименование обосновывающих материалов | D16: Показатели, для которых используются материалы
B17: 1. | C17: 1. Бухгалтерская отчетность за 2018 год, представляемая по формам, утвержденным Приказом Министерства финансов Российской Федерации от 22.07.2003 N 67н "О формах бухгалтерской отчетности организаций": | D17: Анализ хозяйственной деятельности
C18: - Бухгалтерский баланс (форма N 1);
C19: - Отчет о прибылях и убытках (форма N 2);
C20: - Отчет об изменениях капитала (форма N 3-годовая);
C21: - Отчет о движении денежных средств (форма N 4-годовая);
C22: - Приложение к бухгалтерскому балансу (форма N 5-годовая).
C23: Пояснительная записка к балансу.
C24: 2. Налоговые декларации по транспортному налогу, налогу на землю, налогу на имущество, налогу на прибыль за 2018 год, документы о налоговых льготах.
C25: 3. Копия приказа об учетной политике организации, заверенная в установленном порядке.
C26: 4. Статистическая форма 5-З "Сведения о затратах на производство и продажу продукции (товаров, работ, услуг)" за 2018 год.
C27: 5.Статотчетность по форме 46-ээ (передача) за 2018 год.
C28: 6. Отчетность, содержащая данные раздельного учета, согласно приложению №1 к Порядку, утвержденного приказом Министерства энергетики Российской Федерации от 13 декабря 2011г. №585
B29: 2. | C29: 1. Плановая покупка электрической энергии сбытовой организацией (в части поступления в сеть данной сетевой организации, согласованное со сбытовой компанией). | D29: Объем поступления и отпуска электрической энергии, перетоки между уровнями напряжения
C30: 2. Баланс электрической энергии (мощности) по сетям ВН, СН1, СН2 и НН (таблицы 1.4.,1.5)
C31: 3. Расчет технологического расхода электрической энергии (потерь) в электрических сетях (таблица 1.3)
C32: 4. Отпуск (передача) электроэнергии ТСО (таблица 1.30).
B33: 3. | C33: Система условных единиц для распределения общей суммы тарифной выручки по классам напряжения (таблицы 2.1., 2.2) факт 2018 и план 2020-2024 | D33: Состав оборудования
B34: 4. | C34: 1. Расчет стоимости покупной энергии на технологические цели (потери ФСК) (Таблица П 1.12) | D34: Затраты на услуги по передаче электроэнергии по ЕНЭС
C35: 2. Расчет суммы платы за услуги по организации функционирования и развитию Единой энергетической системы России и организации функционирования торговой системы оптового рынка электрической энергии (мощности), передаче электроэнергии по ЕНЭС. (таблица П 1.13)
B36: 5. | C36: 1. Смета затрат на содержание сетей (таблица 1.15) и калькуляция расходов, связанных с передачей электрической энергии (таблица 1.18.2) | D36: Затраты на регулируемую деятельность
C37: 2. Расчет расходов на сырье, основные и вспомогательные материалы на расчетный период регулирования с выделением расходов на ремонт основных средств, включая:
C38: - динамику годовых объемов потребления основных и вспомогательных материалов за последние 3 года;
C39: -реестр договоров на поставку материалов;
C40: - счета-фактуры с текущими ценами на момент регулирования;
C41: - нормы и нормативы расхода материалов с указанием регламентирующих документов.
C42: 3. Расчет расходов на работы и услуги производственного характера на расчетный период регулирования с выделением расходов на ремонт основных средств, включая:
C43: - расшифровку данных расходов;
...

Sheet Заявление
A2: Для установления индивидуальных тарифов
J4: Начальнику ГУ РЭК | L4: 1
J5: Рязанской области
J6: О.Н Голыхову
A8: №_______ от _____________2019г.
A10: ЗАЯВЛЕНИЕ.
A11: Прошу Вас в соответствии с законом РФ от 14.04.1995 г. №35-ФЗ «Об электроэнергетике», установить индивидуальные долгосрочные тарифы на услуги по передаче электрической энергии на основе долгосрочных параметров регулирования по сетям МУ МПЖКХ Гусь-Железный (указать наименование организации) на 2020-2024 годы (указать систему налогообложениия (без НДС).
A13: Наименование сетевой организации | B13: Год | C13: Двухставочный тариф | E13: Одноставочный тариф
C14: Ставка за содержание электрических сетей<*> | D14: Ставка на оплату технологического расхода (потерь)
C15: руб./МВт.мес. | D15: руб./МВт.ч | E15: руб./МВт.ч
A16: ='Реквизиты организации'!C8 -> МУ МПЖКХ Гусь-Железный | B16: 2020 | C16: ='Свод долгосрочный '!H164 -> 751630.71 | D16: ='Свод долгосрочный '!H167 -> 859.46544 | E16: ='Свод долгосрочный '!K170 -> 2740.9966
B17: 2021 | C17: ='Свод долгосрочный '!J164 -> 667889.35 | D17: ='Свод долгосрочный '!J167 -> 900.69748 | E17: ='Свод долгосрочный '!L170 -> 2999.1203
B18: 2022 | C18: ='Свод долгосрочный '!K164 -> 823236.71 | D18: ='Свод долгосрочный '!K167 -> 944.83989 | E18: ='Свод долгосрочный '!M170 -> 3128.8616
B19: 2023 | C19: ='Свод долгосрочный '!M164 -> 947861.4 | D19: ='Свод долгосрочный '!L167 -> 992.05453 | E19: ='Свод долгосрочный '!N170 -> 3246.1908
B20: 2024 | C20: ='Свод долгосрочный '!N164 -> 974630.6 | D20: ='Свод долгосрочный '!M167 -> 1047.6096 | E20: ='Свод долгосрочный '!N170 -> 3246.1908
A22: Принять долгосрочные параметры регулирования и необходимую валовую выручку на долгосрочный период регулирования (без учета оплаты потерь):
A24: Наименование сетевой организации | B24: Год | C24: Базовый уровень подконтрольных расходов | D24: Индекс эффективности подконтрольных расходов | E24: Коэффициент эластичности подконтрольных расходов по количеству активов | F24: Уровень потерь электрической энергии при ее передаче по электрическим сетям | J24: Показатель средней продолжительности прекращения передачи электрической энергии на точку поставки | K24: Показатель средней частоты прекращения передачи электрической энергии на точку поставки | L24: Показатель уровня качества оказываемых услуг
C25: млн. руб. | D25: % | E25: % | F25: % | J25: час. | K25: шт.
A26: 1 | B26: 2 | C26: 3 | D26: 4 | E26: 5 | F26: 6 | J26: 7 | K26: 8 | L26: 9
A27: =A16 -> МУ МПЖКХ Гусь-Железный | B27: 2020 | C27: ='Свод долгосрочный '!H18 -> 25545.441 | D27: 0.01 | E27: 0.75 | F27: ='Свод долгосрочный '!H124 -> 0.19646776 | J27: 1 | K27: 1.1 | L27: 0
B28: 2021 | C28: ='Свод долгосрочный '!J18 -> 25470.707 | D28: 0.01 | E28: 0.75 | F28: 0.19646788 | J28: =J27 -> 1 | K28: =K27 -> 1.1 | L28: 0
B29: 2022 | C29: ='Свод долгосрочный '!K18 -> 30644.582 | D29: 0.01 | E29: 0.75 | F29: 0.19646788 | J29: =J28 -> 1 | K29: =K28 -> 1.1 | L29: 0
B30: 2023 | C30: ='Свод долгосрочный '!L18 -> 31481.609 | D30: 0.01 | E30: 0.75 | F30: 0.19646788 | J30: =J29 -> 1 | K30: =K29 -> 1.1 | L30: 0
B31: 2024 | C31: ='Свод долгосрочный '!M18 -> 32413.464 | D31: 0.01 | E31: 0.75 | F31: 0.19646788 | J31: =J30 -> 1 | K31: =K30 -> 1.1 | L31: 0
A34: Наименование сетевой организации | B34: Год | C34: НВВ сетевых организаций без учета оплаты потерь (отнесенная на сторонних потребителей)
C35: тыс.руб.
A36: =A27 -> МУ МПЖКХ Гусь-Железный | B36: 2020 | C36: ='Свод долгосрочный '!H85 -> 37873.168
B37: 2021 | C37: ='Свод долгосрочный '!J85 -> 34152.923
B38: 2022 | C38: ='Свод долгосрочный '!K85 -> 41841.829
B39: 2023 | C39: ='Свод долгосрочный '!L85 -> 46933.964
B40: 2024 | C40: ='Свод долгосрочный '!M85 -> 48176.004
A47: Начальник МУ МПЖКХ Гусь-Железный | G47: А.А. Куликов
A50: Расчетные материалы на ___ листах прилагаются.
A67: Заявление подписывается руководителем организации, заверяется печатью, должно содержать наименование и реквизиты организации.

Sheet Реквизиты организации
G1: 2
B3: Реквизиты организации
A5: № п/п | B5: Наименование | C5: Данные об организации
A6: 1 | B6: Наименование организации в соответствии с уставом:
B7: полное наименование организации | C7: Муниципальное унитарное многоотраслевое предприятие жилищно-коммунального хозяйства Гусь-Железный
B8: сокращенное название организации | C8: МУ МПЖКХ Гусь-Железный
A9: 2 | B9: Муниципальное образование | C9: Касимовский муниципальный район
A10: 3 | B10: Адрес организации:
B11: юридический адрес | C11: 391320, Рязанская область, Касимовский район р.п. Гусь-Железный, ул. Дачная, 9
B12: фактический адрес (месторасположение) | C12: 391320, Рязанская область, Касимовский район р.п. Гусь-Железный, ул. Дачная, 9
A13: 4 | B13: ИНН | C13: 6204000137
A14: 5 | B14: КПП | C14: 622401001
A15: 6 | B15: ОКТМО | C15: 61608154
A16: 7 | B16: ОКОПФ | C16: 42
A17: 8 | B17: Адрес ЕИАС
A18: 9 | B18: Наменование муниципального образования в котором осуществляется услуга | C18: Касимовский муниципальный район
A19: 10 | B19: ФИО руководителя организации | C19: Куликов Александр Александрович
B20: контактный телефон/факс | C20: (849131)46131
B21: е-mail | C21: kunicun@rambler.ru
A22: 11 | B22: ФИО начальника ПЭО | C22: Куницына Ирина Фёдоровна
B23: контактный телефон/факс | C23: (849131)46131
A24: 12 | B24: ФИО ответственного за электрохозяйство | C24: Евстифеев Григорий Михайлович
B25: контактный телефон/факс | C25: (849131)46131
A26: 13 | B26: ФИО главного бухгалтера | C26: Гордеева Ирина Александровна
B27: контактный телефон/факс | C27: (849131)46236
A28: 14 | B28: ФИО непосредственного исполнителя | C28: Евстифеев Григорий Михайлович
B29: контактный телефон/факс | C29: (849131)46131
B30: е-mail | C30: gewstifeew@yandex.ru
A31: 15 | B31: Банковские реквизиты:
B32: расчетный счет | C32: 40702810253050100111
B33: банк | C33: Отделение №8606 Сбербанка России г.Рязань
B34: корреспондентский счет | C34: 30101810500000000614
B35: БИК | C35: 0046126614

Sheet 2.1
G1: Таблица № 2.1 | AB1: 3
A3: Система условных единиц для распределения общей суммы тарифной выручки по классам напряжения. | AB3: 3
A5: Объем воздушных линий электропередач (ВЛЭП) и кабельных линий электропередач (КЛЭП) в условных единицах в зависимост от протяженности, напряжения, конструктивного использования и материала опор.
F6: ФАКТ 2018 | I6: ПЛАН 2019 | L6: 2020 предпр. | O6: 2020 РЭК | R6: 2021 | U6: 2022 | X6: 2023 | AA6: 2024
B7: Напряжение, кВ | C7: Количество цепей на опоре | D7: Материал опор | E7: Количество условных единиц (у) на 100 км трассы ЛЭП | F7: Протяженность по трассе | G7: Объем условных единиц | H7: Количество условных единиц (у) на 100 км трассы ЛЭП | I7: Протяженность по трассе | J7: Объем условных единиц | K7: Количество условных единиц (у) на 100 км трассы ЛЭП | L7: Протяженность по трассе | M7: Объем условных единиц | N7: Количество условных единиц (у) на 100 км трассы ЛЭП | O7: Протяженность по трассе | P7: Объем условных единиц | Q7: Количество условных единиц (у) на 100 км трассы ЛЭП | R7: Протяженность по трассе | S7: Объем условных единиц | T7: Количество условных единиц (у) на 100 км трассы ЛЭП | U7: Протяженность по трассе | V7: Объем условных единиц | W7: Количество условных единиц (у) на 100 км трассы ЛЭП | X7: Протяженность по трассе | Y7: Объем условных единиц | Z7: Количество условных единиц (у) на 100 км трассы ЛЭП | AA7: Протяженность по трассе | AB7: Объем условных единиц
E8: у.е./100км | F8: км | G8: у.е. | H8: у.е./100км | I8: км | J8: у.е. | K8: у.е./100км | L8: км | M8: у.е. | N8: у.е./100км | O8: км | P8: у.е. | Q8: у.е./100км | R8: км | S8: у.е. | T8: у.е./100км | U8: км | V8: у.е. | W8: у.е./100км | X8: км | Y8: у.е. | Z8: у.е./100км | AA8: км | AB8: у.е.
A9: 1 | B9: =+A9+1 -> 2 | C9: =+B9+1 -> 3 | D9: =+C9+1 -> 4 | E9: =+D9+1 -> 5 | F9: =+E9+1 -> 6 | G9: 7 = 5 * 6 /100 | H9: 5 | I9: 6 | J9: 7 = 5 * 6 /100 | K9: 5 | L9: 6 | M9: 7 = 5 * 6 /100 | N9: 5 | O9: 6 | P9: 7 = 5 * 6 /100 | Q9: 5 | R9: 6 | S9: 7 = 5 * 6 /100 | T9: 5 | U9: 6 | V9: 7 = 5 * 6 /100 | W9: 5 | X9: 6 | Y9: 7 = 5 * 6 /100 | Z9: 5 | AA9: 6 | AB9: 7 = 5 * 6 /100
A10: ВЛЭП | B10: 1150 | C10: - | D10: металл | E10: 800 | G10: =E10*F10/100 -> 0 | H10: 800 | J10: =H10*I10/100 -> 0 | K10: 800 | M10: =K10*L10/100 -> 0 | N10: 800 | P10: =N10*O10/100 -> 0 | Q10: 800 | S10: =Q10*R10/100 -> 0 | T10: 800 | V10: =T10*U10/100 -> 0 | W10: 800 | Y10: =W10*X10/100 -> 0 | Z10: 800 | AB10: =Z10*AA10/100 -> 0
B11: 750 | C11: 1 | D11: металл | E11: 600 | G11: =E11*F11/100 -> 0 | H11: 600 | J11: =H11*I11/100 -> 0 | K11: 600 | M11: =K11*L11/100 -> 0 | N11: 600 | P11: =N11*O11/100 -> 0 | Q11: 600 | S11: =Q11*R11/100 -> 0 | T11: 600 | V11: =T11*U11/100 -> 0 | W11: 600 | Y11: =W11*X11/100 -> 0 | Z11: 600 | AB11: =Z11*AA11/100 -> 0
B12: 400-500 | C12: 1 | D12: металл | E12: 400 | G12: =E12*F12/100 -> 0 | H12: 400 | J12: =H12*I12/100 -> 0 | K12: 400 | M12: =K12*L12/100 -> 0 | N12: 400 | P12: =N12*O12/100 -> 0 | Q12: 400 | S12: =Q12*R12/100 -> 0 | T12: 400 | V12: =T12*U12/100 -> 0 | W12: 400 | Y12: =W12*X12/100 -> 0 | Z12: 400 | AB12: =Z12*AA12/100 -> 0
D13: ж/бетон | E13: 300 | G13: =E13*F13/100 -> 0 | H13: 300 | J13: =H13*I13/100 -> 0 | K13: 300 | M13: =K13*L13/100 -> 0 | N13: 300 | P13: =N13*O13/100 -> 0 | Q13: 300 | S13: =Q13*R13/100 -> 0 | T13: 300 | V13: =T13*U13/100 -> 0 | W13: 300 | Y13: =W13*X13/100 -> 0 | Z13: 300 | AB13: =Z13*AA13/100 -> 0
B14: 330 | C14: 1 | D14: металл | E14: 230 | G14: =E14*F14/100 -> 0 | H14: 230 | J14: =H14*I14/100 -> 0 | K14: 230 | M14: =K14*L14/100 -> 0 | N14: 230 | P14: =N14*O14/100 -> 0 | Q14: 230 | S14: =Q14*R14/100 -> 0 | T14: 230 | V14: =T14*U14/100 -> 0 | W14: 230 | Y14: =W14*X14/100 -> 0 | Z14: 230 | AB14: =Z14*AA14/100 -> 0
D15: ж/бетон | E15: 170 | G15: =E15*F15/100 -> 0 | H15: 170 | J15: =H15*I15/100 -> 0 | K15: 170 | M15: =K15*L15/100 -> 0 | N15: 170 | P15: =N15*O15/100 -> 0 | Q15: 170 | S15: =Q15*R15/100 -> 0 | T15: 170 | V15: =T15*U15/100 -> 0 | W15: 170 | Y15: =W15*X15/100 -> 0 | Z15: 170 | AB15: =Z15*AA15/100 -> 0
C16: 2 | D16: металл | E16: 290 | G16: =E16*F16/100 -> 0 | H16: 290 | J16: =H16*I16/100 -> 0 | K16: 290 | M16: =K16*L16/100 -> 0 | N16: 290 | P16: =N16*O16/100 -> 0 | Q16: 290 | S16: =Q16*R16/100 -> 0 | T16: 290 | V16: =T16*U16/100 -> 0 | W16: 290 | Y16: =W16*X16/100 -> 0 | Z16: 290 | AB16: =Z16*AA16/100 -> 0
D17: ж/бетон | E17: 210 | G17: =E17*F17/100 -> 0 | H17: 210 | J17: =H17*I17/100 -> 0 | K17: 210 | M17: =K17*L17/100 -> 0 | N17: 210 | P17: =N17*O17/100 -> 0 | Q17: 210 | S17: =Q17*R17/100 -> 0 | T17: 210 | V17: =T17*U17/100 -> 0 | W17: 210 | Y17: =W17*X17/100 -> 0 | Z17: 210 | AB17: =Z17*AA17/100 -> 0
B18: 220 | C18: 1 | D18: дерево | E18: 260 | G18: =E18*F18/100 -> 0 | H18: 260 | J18: =H18*I18/100 -> 0 | K18: 260 | M18: =K18*L18/100 -> 0 | N18: 260 | P18: =N18*O18/100 -> 0 | Q18: 260 | S18: =Q18*R18/100 -> 0 | T18: 260 | V18: =T18*U18/100 -> 0 | W18: 260 | Y18: =W18*X18/100 -> 0 | Z18: 260 | AB18: =Z18*AA18/100 -> 0
D19: металл | E19: 210 | G19: =E19*F19/100 -> 0 | H19: 210 | J19: =H19*I19/100 -> 0 | K19: 210 | M19: =K19*L19/100 -> 0 | N19: 210 | P19: =N19*O19/100 -> 0 | Q19: 210 | S19: =Q19*R19/100 -> 0 | T19: 210 | V19: =T19*U19/100 -> 0 | W19: 210 | Y19: =W19*X19/100 -> 0 | Z19: 210 | AB19: =Z19*AA19/100 -> 0
D20: ж/бетон | E20: 140 | G20: =E20*F20/100 -> 0 | H20: 140 | J20: =H20*I20/100 -> 0 | K20: 140 | M20: =K20*L20/100 -> 0 | N20: 140 | P20: =N20*O20/100 -> 0 | Q20: 140 | S20: =Q20*R20/100 -> 0 | T20: 140 | V20: =T20*U20/100 -> 0 | W20: 140 | Y20: =W20*X20/100 -> 0 | Z20: 140 | AB20: =Z20*AA20/100 -> 0
C21: 2 | D21: металл | E21: 270 | G21: =E21*F21/100 -> 0 | H21: 270 | J21: =H21*I21/100 -> 0 | K21: 270 | M21: =K21*L21/100 -> 0 | N21: 270 | P21: =N21*O21/100 -> 0 | Q21: 270 | S21: =Q21*R21/100 -> 0 | T21: 270 | V21: =T21*U21/100 -> 0 | W21: 270 | Y21: =W21*X21/100 -> 0 | Z21: 270 | AB21: =Z21*AA21/100 -> 0
D22: ж/бетон | E22: 180 | G22: =E22*F22/100 -> 0 | H22: 180 | J22: =H22*I22/100 -> 0 | K22: 180 | M22: =K22*L22/100 -> 0 | N22: 180 | P22: =N22*O22/100 -> 0 | Q22: 180 | S22: =Q22*R22/100 -> 0 | T22: 180 | V22: =T22*U22/100 -> 0 | W22: 180 | Y22: =W22*X22/100 -> 0 | Z22: 180 | AB22: =Z22*AA22/100 -> 0
B23: 110-150 | C23: 1 | D23: дерево | E23: 180 | G23: =E23*F23/100 -> 0 | H23: 180 | J23: =H23*I23/100 -> 0 | K23: 180 | M23: =K23*L23/100 -> 0 | N23: 180 | P23: =N23*O23/100 -> 0 | Q23: 180 | S23: =Q23*R23/100 -> 0 | T23: 180 | V23: =T23*U23/100 -> 0 | W23: 180 | Y23: =W23*X23/100 -> 0 | Z23: 180 | AB23: =Z23*AA23/100 -> 0
D24: металл | E24: 160 | G24: =E24*F24/100 -> 0 | H24: 160 | J24: =H24*I24/100 -> 0 | K24: 160 | M24: =K24*L24/100 -> 0 | N24: 160 | P24: =N24*O24/100 -> 0 | Q24: 160 | S24: =Q24*R24/100 -> 0 | T24: 160 | V24: =T24*U24/100 -> 0 | W24: 160 | Y24: =W24*X24/100 -> 0 | Z24: 160 | AB24: =Z24*AA24/100 -> 0
D25: ж/бетон | E25: 130 | G25: =E25*F25/100 -> 0 | H25: 130 | J25: =H25*I25/100 -> 0 | K25: 130 | M25: =K25*L25/100 -> 0 | N25: 130 | P25: =N25*O25/100 -> 0 | Q25: 130 | S25: =Q25*R25/100 -> 0 | T25: 130 | V25: =T25*U25/100 -> 0 | W25: 130 | Y25: =W25*X25/100 -> 0 | Z25: 130 | AB25: =Z25*AA25/100 -> 0
C26: 2 | D26: металл | E26: 190 | G26: =E26*F26/100 -> 0 | H26: 190 | J26: =H26*I26/100 -> 0 | K26: 190 | M26: =K26*L26/100 -> 0 | N26: 190 | P26: =N26*O26/100 -> 0 | Q26: 190 | S26: =Q26*R26/100 -> 0 | T26: 190 | V26: =T26*U26/100 -> 0 | W26: 190 | Y26: =W26*X26/100 -> 0 | Z26: 190 | AB26: =Z26*AA26/100 -> 0
D27: ж/бетон | E27: 160 | G27: =E27*F27/100 -> 0 | H27: 160 | J27: =H27*I27/100 -> 0 | K27: 160 | M27: =K27*L27/100 -> 0 | N27: 160 | P27: =N27*O27/100 -> 0 | Q27: 160 | S27: =Q27*R27/100 -> 0 | T27: 160 | V27: =T27*U27/100 -> 0 | W27: 160 | Y27: =W27*X27/100 -> 0 | Z27: 160 | AB27: =Z27*AA27/100 -> 0
A28: КЛЭП | B28: 220 | C28: - | D28: - | E28: 3000 | G28: =E28*F28/100 -> 0 | H28: 3000 | J28: =H28*I28/100 -> 0 | K28: 3000 | M28: =K28*L28/100 -> 0 | N28: 3000 | P28: =N28*O28/100 -> 0 | Q28: 3000 | S28: =Q28*R28/100 -> 0 | T28: 3000 | V28: =T28*U28/100 -> 0 | W28: 3000 | Y28: =W28*X28/100 -> 0 | Z28: 3000 | AB28: =Z28*AA28/100 -> 0
B29: 110 | C29: - | D29: - | E29: 2300 | G29: =E29*F29/100 -> 0 | H29: 2300 | J29: =H29*I29/100 -> 0 | K29: 2300 | M29: =K29*L29/100 -> 0 | N29: 2300 | P29: =N29*O29/100 -> 0 | Q29: 2300 | S29: =Q29*R29/100 -> 0 | T29: 2300 | V29: =T29*U29/100 -> 0 | W29: 2300 | Y29: =W29*X29/100 -> 0 | Z29: 2300 | AB29: =Z29*AA29/100 -> 0
A30: ВН, всего | G30: =SUM(G10:G29) -> 0 | J30: =SUM(J10:J29) -> 0 | M30: =SUM(M10:M29) -> 0 | P30: =SUM(P10:P29) -> 0 | S30: =SUM(S10:S29) -> 0 | V30: =SUM(V10:V29) -> 0 | Y30: =SUM(Y10:Y29) -> 0 | AB30: =SUM(AB10:AB29) -> 0
A31: ВЛЭП | B31: 35 | C31: 1 | D31: дерево | E31: 170 | G31: =E31*F31/100 -> 0 | H31: 170 | J31: =H31*I31/100 -> 0 | K31: 170 | M31: =K31*L31/100 -> 0 | N31: 170 | P31: =N31*O31/100 -> 0 | Q31: 170 | S31: =Q31*R31/100 -> 0 | T31: 170 | V31: =T31*U31/100 -> 0 | W31: 170 | Y31: =W31*X31/100 -> 0 | Z31: 170 | AB31: =Z31*AA31/100 -> 0
D32: металл | E32: 140 | G32: =E32*F32/100 -> 0 | H32: 140 | J32: =H32*I32/100 -> 0 | K32: 140 | M32: =K32*L32/100 -> 0 | N32: 140 | P32: =N32*O32/100 -> 0 | Q32: 140 | S32: =Q32*R32/100 -> 0 | T32: 140 | V32: =T32*U32/100 -> 0 | W32: 140 | Y32: =W32*X32/100 -> 0 | Z32: 140 | AB32: =Z32*AA32/100 -> 0
D33: ж/бетон | E33: 120 | G33: =E33*F33/100 -> 0 | H33: 120 | J33: =H33*I33/100 -> 0 | K33: 120 | M33: =K33*L33/100 -> 0 | N33: 120 | P33: =N33*O33/100 -> 0 | Q33: 120 | S33: =Q33*R33/100 -> 0 | T33: 120 | V33: =T33*U33/100 -> 0 | W33: 120 | Y33: =W33*X33/100 -> 0 | Z33: 120 | AB33: =Z33*AA33/100 -> 0
C34: 2 | D34: металл | E34: 180 | G34: =E34*F34/100 -> 0 | H34: 180 | J34: =H34*I34/100 -> 0 | K34: 180 | M34: =K34*L34/100 -> 0 | N34: 180 | P34: =N34*O34/100 -> 0 | Q34: 180 | S34: =Q34*R34/100 -> 0 | T34: 180 | V34: =T34*U34/100 -> 0 | W34: 180 | Y34: =W34*X34/100 -> 0 | Z34: 180 | AB34: =Z34*AA34/100 -> 0
D35: ж/бетон | E35: 150 | G35: =E35*F35/100 -> 0 | H35: 150 | J35: =H35*I35/100 -> 0 | K35: 150 | M35: =K35*L35/100 -> 0 | N35: 150 | P35: =N35*O35/100 -> 0 | Q35: 150 | S35: =Q35*R35/100 -> 0 | T35: 150 | V35: =T35*U35/100 -> 0 | W35: 150 | Y35: =W35*X35/100 -> 0 | Z35: 150 | AB35: =Z35*AA35/100 -> 0
B36: 1 - 20 | C36: - | D36: дерево | E36: 160 | G36: =E36*F36/100 -> 0 | H36: 160 | J36: =H36*I36/100 -> 0 | K36: 160 | M36: =K36*L36/100 -> 0 | N36: 160 | P36: =N36*O36/100 -> 0 | Q36: 160 | S36: =Q36*R36/100 -> 0 | T36: 160 | V36: =T36*U36/100 -> 0 | W36: 160 | Y36: =W36*X36/100 -> 0 | Z36: 160 | AB36: =Z36*AA36/100 -> 0
D37: дерево на ж/б пасынках | E37: 140 | F37: 7.031 | G37: =E37*F37/100 -> 9.8434 | H37: 140 | I37: 4.6 | J37: =H37*I37/100 -> 6.44 | K37: 140 | L37: 4.6 | M37: =K37*L37/100 -> 6.44 | N37: 140 | O37: =F37 -> 7.031 | P37: =N37*O37/100 -> 9.8434 | Q37: 140 | R37: =O37 -> 7.031 | S37: =Q37*R37/100 -> 9.8434 | T37: 140 | U37: =R37 -> 7.031 | V37: =T37*U37/100 -> 9.8434 | W37: 140 | X37: =U37 -> 7.031 | Y37: =W37*X37/100 -> 9.8434 | Z37: 140 | AA37: =X37 -> 7.031 | AB37: =Z37*AA37/100 -> 9.8434
D38: ж/бетон, металл | E38: 110 | F38: 48.255 | G38: =E38*F38/100 -> 53.0805 | H38: 110 | I38: 49.301 | J38: =H38*I38/100 -> 54.2311 | K38: 110 | L38: 51.271 | M38: =K38*L38/100 -> 56.3981 | N38: 110 | O38: 49.118 | P38: =N38*O38/100 -> 54.0298 | Q38: 110 | R38: =O38+0.07 -> 49.188 | S38: =Q38*R38/100 -> 54.1068 | T38: 110 | U38: =R38 -> 49.188 | V38: =T38*U38/100 -> 54.1068 | W38: 110 | X38: =U38 -> 49.188 | Y38: =W38*X38/100 -> 54.1068 | Z38: 110 | AA38: =X38 -> 49.188 | AB38: =Z38*AA38/100 -> 54.1068
A39: КЛЭП | B39: 20 -35 | C39: - | D39: - | E39: 470 | G39: =E39*F39/100 -> 0 | H39: 470 | J39: =H39*I39/100 -> 0 | K39: 470 | M39: =K39*L39/100 -> 0 | N39: 470 | P39: =N39*O39/100 -> 0 | Q39: 470 | S39: =Q39*R39/100 -> 0 | T39: 470 | V39: =T39*U39/100 -> 0 | W39: 470 | Y39: =W39*X39/100 -> 0 | Z39: 470 | AB39: =Z39*AA39/100 -> 0
B40: 3 - 10 | C40: - | D40: - | E40: 350 | F40: 3.153 | G40: =E40*F40/100 -> 11.0355 | H40: 350 | I40: 3.153 | J40: =H40*I40/100 -> 11.0355 | K40: 350 | L40: 3.763 | M40: =K40*L40/100 -> 13.1705 | N40: 350 | O40: =F40 -> 3.153 | P40: =N40*O40/100 -> 11.0355 | Q40: 350 | R40: =O40 -> 3.153 | S40: =Q40*R40/100 -> 11.0355 | T40: 350 | U40: =R40 -> 3.153 | V40: =T40*U40/100 -> 11.0355 | W40: 350 | X40: =U40 -> 3.153 | Y40: =W40*X40/100 -> 11.0355 | Z40: 350 | AA40: =X40 -> 3.153 | AB40: =Z40*AA40/100 -> 11.0355
A41: СН, всего | G41: =G42+G43 -> 73.9594 | J41: =J42+J43 -> 71.7066 | M41: =M42+M43 -> 76.0086 | P41: =P42+P43 -> 74.9087 | S41: =S42+S43 -> 74.9857 | V41: =V42+V43 -> 74.9857 | Y41: =Y42+Y43 -> 74.9857 | AB41: =AB42+AB43 -> 74.9857
B42: в т.ч. СН1 (35 кВ) | G42: =G31+G32+G33+G34+G35+G39 -> 0 | J42: =J31+J32+J33+J34+J35+J39 -> 0 | M42: =M31+M32+M33+M34+M35+M39 -> 0 | P42: =P31+P32+P33+P34+P35+P39 -> 0 | S42: =S31+S32+S33+S34+S35+S39 -> 0 | V42: =V31+V32+V33+V34+V35+V39 -> 0 | Y42: =Y31+Y32+Y33+Y34+Y35+Y39 -> 0 | AB42: =AB31+AB32+AB33+AB34+AB35+AB39 -> 0
...

Sheet 2.2
A3: Объем подстанций 35-1150 кВ, трансформаторных подстанций (ТП), комплексных трансформаторных подстанций (КТП) и распределительных пунктов(РП) 0,4-20 кВ в условных единицах. | AE3: Таблица № 2.2
F4: ФАКТ 2018 | I4: ПЛАН 2019 | L4: ФАКТ 2019 | O4: 2020 предпр. | R4: 2020 РЭК | U4: 2021 | X4: 2022 | AA4: 2023 | AD4: 2024
A5: п/п | B5: Наименование | C5: Единица измерения | D5: Напряжение, кВ | E5: Количество условных единиц (у) на единицу измерения | F5: Количество единиц измерения | G5: Объем условных единиц | H5: Количество условных единиц (у) на единицу измерения | I5: Количество единиц измерения | J5: Объем условных единиц | K5: Количество условных единиц (у) на единицу измерения | L5: Количество единиц измерения | M5: Объем условных единиц | N5: Количество условных единиц (у) на единицу измерения | O5: Количество единиц измерения | P5: Объем условных единиц | Q5: Количество условных единиц (у) на единицу измерения | R5: Количество единиц измерения | S5: Объем условных единиц | T5: Количество условных единиц (у) на единицу измерения | U5: Количество единиц измерения | V5: Объем условных единиц | W5: Количество условных единиц (у) на единицу измерения | X5: Количество единиц измерения | Y5: Объем условных единиц | Z5: Количество условных единиц (у) на единицу измерения | AA5: Количество единиц измерения | AB5: Объем условных единиц | AC5: Количество условных единиц (у) на единицу измерения | AD5: Количество единиц измерения | AE5: Объем условных единиц
E6: у/ед.изм. | F6: ед.изм. | G6: у | H6: у/ед.изм. | I6: ед.изм. | J6: у | K6: у/ед.изм. | L6: ед.изм. | M6: у | N6: у/ед.изм. | O6: ед.изм. | P6: у | Q6: у/ед.изм. | R6: ед.изм. | S6: у | T6: у/ед.изм. | U6: ед.изм. | V6: у | W6: у/ед.изм. | X6: ед.изм. | Y6: у | Z6: у/ед.изм. | AA6: ед.изм. | AB6: у | AC6: у/ед.изм. | AD6: ед.изм. | AE6: у
A7: 1 | B7: =A7+1 -> 2 | C7: =B7+1 -> 3 | D7: =C7+1 -> 4 | E7: =D7+1 -> 5 | F7: =E7+1 -> 6 | G7: =F7+1 -> 7 | H7: =G7+1 -> 8 | I7: =H7+1 -> 9 | ... AE7: =AD7+1 -> 31
A8: 1 | B8: Подстанция | C8: П/ст | D8: 220 | E8: 210 | G8: =E8*F8 -> 0 | H8: 210 | J8: =H8*I8 -> 0 | K8: 210 | M8: =K8*L8 -> 0 | N8: 210 | P8: =N8*O8 -> 0 | Q8: 210 | S8: =Q8*R8 -> 0 | T8: 210 | V8: =T8*U8 -> 0 | W8: 210 | Y8: =W8*X8 -> 0 | Z8: 210 | AB8: =Z8*AA8 -> 0 | AC8: 210 | AE8: =AC8*AD8 -> 0
D9: 110 - 150 | E9: 105 | G9: =E9*F9 -> 0 | H9: 105 | J9: =H9*I9 -> 0 | K9: 105 | M9: =K9*L9 -> 0 | N9: 105 | P9: =N9*O9 -> 0 | Q9: 105 | S9: =Q9*R9 -> 0 | T9: 105 | V9: =T9*U9 -> 0 | W9: 105 | Y9: =W9*X9 -> 0 | Z9: 105 | AB9: =Z9*AA9 -> 0 | AC9: 105 | AE9: =AC9*AD9 -> 0
D10: 35 | E10: 75 | G10: =E10*F10 -> 0 | H10: 75 | J10: =H10*I10 -> 0 | K10: 75 | M10: =K10*L10 -> 0 | N10: 75 | P10: =N10*O10 -> 0 | Q10: 75 | S10: =Q10*R10 -> 0 | T10: 75 | V10: =T10*U10 -> 0 | W10: 75 | Y10: =W10*X10 -> 0 | Z10: 75 | AB10: =Z10*AA10 -> 0 | AC10: 75 | AE10: =AC10*AD10 -> 0
A11: 2 | B11: Силовой трансформатор или реактор (одно- или трехфазный), или вольтодобавочный трансформатор | C11: Единица оборудования | D11: 220 | E11: 14 | G11: =E11*F11 -> 0 | H11: 14 | J11: =H11*I11 -> 0 | K11: 14 | M11: =K11*L11 -> 0 | N11: 14 | P11: =N11*O11 -> 0 | Q11: 14 | S11: =Q11*R11 -> 0 | T11: 14 | V11: =T11*U11 -> 0 | W11: 14 | Y11: =W11*X11 -> 0 | Z11: 14 | AB11: =Z11*AA11 -> 0 | AC11: 14 | AE11: =AC11*AD11 -> 0
D12: 110 - 150 | E12: 7.8 | G12: =E12*F12 -> 0 | H12: 7.8 | J12: =H12*I12 -> 0 | K12: 7.8 | M12: =K12*L12 -> 0 | N12: 7.8 | P12: =N12*O12 -> 0 | Q12: 7.8 | S12: =Q12*R12 -> 0 | T12: 7.8 | V12: =T12*U12 -> 0 | W12: 7.8 | Y12: =W12*X12 -> 0 | Z12: 7.8 | AB12: =Z12*AA12 -> 0 | AC12: 7.8 | AE12: =AC12*AD12 -> 0
D13: 35 | E13: 2.1 | G13: =E13*F13 -> 0 | H13: 2.1 | J13: =H13*I13 -> 0 | K13: 2.1 | M13: =K13*L13 -> 0 | N13: 2.1 | P13: =N13*O13 -> 0 | Q13: 2.1 | S13: =Q13*R13 -> 0 | T13: 2.1 | V13: =T13*U13 -> 0 | W13: 2.1 | Y13: =W13*X13 -> 0 | Z13: 2.1 | AB13: =Z13*AA13 -> 0 | AC13: 2.1 | AE13: =AC13*AD13 -> 0
D14: 1 - 20 | E14: 1 | G14: =E14*F14 -> 0 | H14: 1 | J14: =H14*I14 -> 0 | K14: 1 | M14: =K14*L14 -> 0 | N14: 1 | P14: =N14*O14 -> 0 | Q14: 1 | S14: =Q14*R14 -> 0 | T14: 1 | V14: =T14*U14 -> 0 | W14: 1 | Y14: =W14*X14 -> 0 | Z14: 1 | AB14: =Z14*AA14 -> 0 | AC14: 1 | AE14: =AC14*AD14 -> 0
A15: 3 | B15: Воздушный выключатель | C15: 3 фазы | D15: 220 | E15: 43 | G15: =E15*F15 -> 0 | H15: 43 | J15: =H15*I15 -> 0 | K15: 43 | M15: =K15*L15 -> 0 | N15: 43 | P15: =N15*O15 -> 0 | Q15: 43 | S15: =Q15*R15 -> 0 | T15: 43 | V15: =T15*U15 -> 0 | W15: 43 | Y15: =W15*X15 -> 0 | Z15: 43 | AB15: =Z15*AA15 -> 0 | AC15: 43 | AE15: =AC15*AD15 -> 0
D16: 110 - 150 | E16: 26 | G16: =E16*F16 -> 0 | H16: 26 | J16: =H16*I16 -> 0 | K16: 26 | M16: =K16*L16 -> 0 | N16: 26 | P16: =N16*O16 -> 0 | Q16: 26 | S16: =Q16*R16 -> 0 | T16: 26 | V16: =T16*U16 -> 0 | W16: 26 | Y16: =W16*X16 -> 0 | Z16: 26 | AB16: =Z16*AA16 -> 0 | AC16: 26 | AE16: =AC16*AD16 -> 0
D17: 35 | E17: 11 | G17: =E17*F17 -> 0 | H17: 11 | J17: =H17*I17 -> 0 | K17: 11 | M17: =K17*L17 -> 0 | N17: 11 | P17: =N17*O17 -> 0 | Q17: 11 | S17: =Q17*R17 -> 0 | T17: 11 | V17: =T17*U17 -> 0 | W17: 11 | Y17: =W17*X17 -> 0 | Z17: 11 | AB17: =Z17*AA17 -> 0 | AC17: 11 | AE17: =AC17*AD17 -> 0
D18: 1 - 20 | E18: 5.5 | G18: =E18*F18 -> 0 | H18: 5.5 | J18: =H18*I18 -> 0 | K18: 5.5 | M18: =K18*L18 -> 0 | N18: 5.5 | P18: =N18*O18 -> 0 | Q18: 5.5 | S18: =Q18*R18 -> 0 | T18: 5.5 | V18: =T18*U18 -> 0 | W18: 5.5 | Y18: =W18*X18 -> 0 | Z18: 5.5 | AB18: =Z18*AA18 -> 0 | AC18: 5.5 | AE18: =AC18*AD18 -> 0
A19: 4 | B19: Масляный выключатель | C19: - " - | D19: 220 | E19: 23 | G19: =E19*F19 -> 0 | H19: 23 | J19: =H19*I19 -> 0 | K19: 23 | M19: =K19*L19 -> 0 | N19: 23 | P19: =N19*O19 -> 0 | Q19: 23 | S19: =Q19*R19 -> 0 | T19: 23 | V19: =T19*U19 -> 0 | W19: 23 | Y19: =W19*X19 -> 0 | Z19: 23 | AB19: =Z19*AA19 -> 0 | AC19: 23 | AE19: =AC19*AD19 -> 0
D20: 110 - 150 | E20: 14 | G20: =E20*F20 -> 0 | H20: 14 | J20: =H20*I20 -> 0 | K20: 14 | M20: =K20*L20 -> 0 | N20: 14 | P20: =N20*O20 -> 0 | Q20: 14 | S20: =Q20*R20 -> 0 | T20: 14 | V20: =T20*U20 -> 0 | W20: 14 | Y20: =W20*X20 -> 0 | Z20: 14 | AB20: =Z20*AA20 -> 0 | AC20: 14 | AE20: =AC20*AD20 -> 0
D21: 35 | E21: 6.4 | G21: =E21*F21 -> 0 | H21: 6.4 | J21: =H21*I21 -> 0 | K21: 6.4 | M21: =K21*L21 -> 0 | N21: 6.4 | P21: =N21*O21 -> 0 | Q21: 6.4 | S21: =Q21*R21 -> 0 | T21: 6.4 | V21: =T21*U21 -> 0 | W21: 6.4 | Y21: =W21*X21 -> 0 | Z21: 6.4 | AB21: =Z21*AA21 -> 0 | AC21: 6.4 | AE21: =AC21*AD21 -> 0
D22: 1 - 20 | E22: 3.1 | F22: 32 | G22: =E22*F22 -> 99.2 | H22: 3.1 | I22: 27 | J22: =H22*I22 -> 83.7 | K22: 3.1 | L22: 30 | M22: =K22*L22 -> 93 | N22: 3.1 | O22: 30 | P22: =N22*O22 -> 93 | Q22: 3.1 | R22: 32 | S22: =Q22*R22 -> 99.2 | T22: 3.1 | U22: =R22 -> 32 | V22: =T22*U22 -> 99.2 | W22: 3.1 | X22: =U22 -> 32 | Y22: =W22*X22 -> 99.2 | Z22: 3.1 | AA22: =X22 -> 32 | AB22: =Z22*AA22 -> 99.2 | AC22: 3.1 | AD22: =AA22 -> 32 | AE22: =AC22*AD22 -> 99.2
A23: 5 | B23: Отделитель с короткозамыкателем | C23: Единица оборудования | D23: 220 | E23: 19 | G23: =E23*F23 -> 0 | H23: 19 | J23: =H23*I23 -> 0 | K23: 19 | M23: =K23*L23 -> 0 | N23: 19 | P23: =N23*O23 -> 0 | Q23: 19 | S23: =Q23*R23 -> 0 | T23: 19 | V23: =T23*U23 -> 0 | W23: 19 | Y23: =W23*X23 -> 0 | Z23: 19 | AB23: =Z23*AA23 -> 0 | AC23: 19 | AE23: =AC23*AD23 -> 0
D24: 110 - 150 | E24: 9.5 | G24: =E24*F24 -> 0 | H24: 9.5 | J24: =H24*I24 -> 0 | K24: 9.5 | M24: =K24*L24 -> 0 | N24: 9.5 | P24: =N24*O24 -> 0 | Q24: 9.5 | S24: =Q24*R24 -> 0 | T24: 9.5 | V24: =T24*U24 -> 0 | W24: 9.5 | Y24: =W24*X24 -> 0 | Z24: 9.5 | AB24: =Z24*AA24 -> 0 | AC24: 9.5 | AE24: =AC24*AD24 -> 0
D25: 35 | E25: 4.7 | G25: =E25*F25 -> 0 | H25: 4.7 | J25: =H25*I25 -> 0 | K25: 4.7 | M25: =K25*L25 -> 0 | N25: 4.7 | P25: =N25*O25 -> 0 | Q25: 4.7 | S25: =Q25*R25 -> 0 | T25: 4.7 | V25: =T25*U25 -> 0 | W25: 4.7 | Y25: =W25*X25 -> 0 | Z25: 4.7 | AB25: =Z25*AA25 -> 0 | AC25: 4.7 | AE25: =AC25*AD25 -> 0
A26: 6 | B26: Выключатель нагрузки | C26: - " - | D26: 1 - 20 | E26: 2.3 | F26: 106 | G26: =E26*F26 -> 243.8 | H26: 2.3 | I26: 41 | J26: =H26*I26 -> 94.3 | K26: 2.3 | L26: 106 | M26: =K26*L26 -> 243.8 | N26: 2.3 | O26: 138 | P26: =N26*O26 -> 317.4 | Q26: 2.3 | R26: 106 | S26: =Q26*R26 -> 243.8 | T26: 2.3 | U26: =R26 -> 106 | V26: =T26*U26 -> 243.8 | W26: 2.3 | X26: =U26 -> 106 | Y26: =W26*X26 -> 243.8 | Z26: 2.3 | AA26: =X26 -> 106 | AB26: =Z26*AA26 -> 243.8 | AC26: 2.3 | AD26: =AA26 -> 106 | AE26: =AC26*AD26 -> 243.8
A27: 7 | B27: Синхронный компенсатор мощн. 50 Мвар | C27: - " - | D27: 1 - 20 | E27: 26 | G27: =E27*F27 -> 0 | H27: 26 | J27: =H27*I27 -> 0 | K27: 26 | M27: =K27*L27 -> 0 | N27: 26 | P27: =N27*O27 -> 0 | Q27: 26 | S27: =Q27*R27 -> 0 | T27: 26 | V27: =T27*U27 -> 0 | W27: 26 | Y27: =W27*X27 -> 0 | Z27: 26 | AB27: =Z27*AA27 -> 0 | AC27: 26 | AE27: =AC27*AD27 -> 0
A28: 8 | B28: То же, 50 Мвар и более | C28: - " - | D28: 1 - 20 | E28: 48 | G28: =E28*F28 -> 0 | H28: 48 | J28: =H28*I28 -> 0 | K28: 48 | M28: =K28*L28 -> 0 | N28: 48 | P28: =N28*O28 -> 0 | Q28: 48 | S28: =Q28*R28 -> 0 | T28: 48 | V28: =T28*U28 -> 0 | W28: 48 | Y28: =W28*X28 -> 0 | Z28: 48 | AB28: =Z28*AA28 -> 0 | AC28: 48 | AE28: =AC28*AD28 -> 0
A29: 9 | B29: Статические конденсаторы | C29: 100 конд. | D29: 35 | E29: 2.4 | G29: =E29*F29 -> 0 | H29: 2.4 | J29: =H29*I29 -> 0 | K29: 2.4 | M29: =K29*L29 -> 0 | N29: 2.4 | P29: =N29*O29 -> 0 | Q29: 2.4 | S29: =Q29*R29 -> 0 | T29: 2.4 | V29: =T29*U29 -> 0 | W29: 2.4 | Y29: =W29*X29 -> 0 | Z29: 2.4 | AB29: =Z29*AA29 -> 0 | AC29: 2.4 | AE29: =AC29*AD29 -> 0
D30: 1 - 20 | E30: 2.4 | G30: =E30*F30 -> 0 | H30: 2.4 | J30: =H30*I30 -> 0 | K30: 2.4 | M30: =K30*L30 -> 0 | N30: 2.4 | P30: =N30*O30 -> 0 | Q30: 2.4 | S30: =Q30*R30 -> 0 | T30: 2.4 | V30: =T30*U30 -> 0 | W30: 2.4 | Y30: =W30*X30 -> 0 | Z30: 2.4 | AB30: =Z30*AA30 -> 0 | AC30: 2.4 | AE30: =AC30*AD30 -> 0
A31: 10 | B31: Мачтовая (столбовая) ТП | C31: ТП | D31: 1 - 20 | E31: 2.5 | F31: 23 | G31: =E31*F31 -> 57.5 | H31: 2.5 | I31: 25 | J31: =H31*I31 -> 62.5 | K31: 2.5 | L31: 24 | M31: =K31*L31 -> 60 | N31: 2.5 | O31: 24 | P31: =N31*O31 -> 60 | Q31: 2.5 | R31: 24 | S31: =Q31*R31 -> 60 | T31: 2.5 | U31: =R31 -> 24 | V31: =T31*U31 -> 60 | W31: 2.5 | X31: =U31 -> 24 | Y31: =W31*X31 -> 60 | Z31: 2.5 | AA31: 25 | AB31: =Z31*AA31 -> 62.5 | AC31: 2.5 | AD31: 25 | AE31: =AC31*AD31 -> 62.5
A32: 11 | B32: Однотрансфор-маторная ТП, КТП | C32: ТП, КТП | D32: 1 - 20 | E32: 2.3 | F32: 45 | G32: =E32*F32 -> 103.5 | H32: 2.3 | I32: 42 | J32: =H32*I32 -> 96.6 | K32: 2.3 | L32: 45 | M32: =K32*L32 -> 103.5 | N32: 2.3 | O32: 45 | P32: =N32*O32 -> 103.5 | Q32: 2.3 | R32: 45 | S32: =Q32*R32 -> 103.5 | T32: 2.3 | U32: =R32 -> 45 | V32: =T32*U32 -> 103.5 | W32: 2.3 | X32: =U32 -> 45 | Y32: =W32*X32 -> 103.5 | Z32: 2.3 | AA32: =X32 -> 45 | AB32: =Z32*AA32 -> 103.5 | AC32: 2.3 | AD32: =AA32 -> 45 | AE32: =AC32*AD32 -> 103.5
A33: 12 | B33: Двухтрансформаторная ТП, КТП | C33: ТП, КТП | D33: 1 - 20 | E33: 3 | F33: 11 | G33: =E33*F33 -> 33 | H33: 3 | I33: 12 | J33: =H33*I33 -> 36 | K33: 3 | L33: 11 | M33: =K33*L33 -> 33 | N33: 3 | O33: 11 | P33: =N33*O33 -> 33 | Q33: 3 | R33: 11 | S33: =Q33*R33 -> 33 | T33: 3 | U33: =R33 -> 11 | V33: =T33*U33 -> 33 | W33: 3 | X33: =U33 -> 11 | Y33: =W33*X33 -> 33 | Z33: 3 | AA33: =X33 -> 11 | AB33: =Z33*AA33 -> 33 | AC33: 3 | AD33: =AA33 -> 11 | AE33: =AC33*AD33 -> 33
A34: 13 | B34: Однотрансфор-маторная подстанция 34/0,4 кВ | C34: п/ст | D34: 35 | E34: 3.5 | G34: =E34*F34 -> 0 | H34: 3.5 | J34: =H34*I34 -> 0 | K34: 3.5 | M34: =K34*L34 -> 0 | N34: 3.5 | P34: =N34*O34 -> 0 | Q34: 3.5 | S34: =Q34*R34 -> 0 | T34: 3.5 | V34: =T34*U34 -> 0 | W34: 3.5 | Y34: =W34*X34 -> 0 | Z34: 3.5 | AB34: =Z34*AA34 -> 0 | AC34: 3.5 | AE34: =AC34*AD34 -> 0
A35: 14. | B35: Итого | D35: ВН | E35: - | F35: - | G35: =G8+G11+G15+G19+G23+G9+G12+G16+G20+G24 -> 0 | H35: - | I35: - | J35: =J8+J11+J15+J19+J23+J9+J12+J16+J20+J24 -> 0 | K35: - | L35: - | M35: =M8+M11+M15+M19+M23+M9+M12+M16+M20+M24 -> 0 | N35: - | O35: - | P35: =P8+P11+P15+P19+P23+P9+P12+P16+P20+P24 -> 0 | Q35: - | R35: - | S35: =S8+S11+S15+S19+S23+S9+S12+S16+S20+S24 -> 0 | T35: - | U35: - | V35: =V8+V11+V15+V19+V23+V9+V12+V16+V20+V24 -> 0 | W35: - | X35: - | Y35: =Y8+Y11+Y15+Y19+Y23+Y9+Y12+Y16+Y20+Y24 -> 0 | Z35: - | AA35: - | AB35: =AB8+AB11+AB15+AB19+AB23+AB9+AB12+AB16+AB20+AB24 -> 0 | AC35: - | AD35: - | AE35: =AE8+AE11+AE15+AE19+AE23+AE9+AE12+AE16+AE20+AE24 -> 0
D36: СН1 | E36: - | F36: - | G36: =G10+G13+G17+G21+G25+G29+G34 -> 0 | H36: - | I36: - | J36: =J10+J13+J17+J21+J25+J29+J34 -> 0 | K36: - | L36: - | M36: =M10+M13+M17+M21+M25+M29+M34 -> 0 | N36: - | O36: - | P36: =P10+P13+P17+P21+P25+P29+P34 -> 0 | Q36: - | R36: - | S36: =S10+S13+S17+S21+S25+S29+S34 -> 0 | T36: - | U36: - | V36: =V10+V13+V17+V21+V25+V29+V34 -> 0 | W36: - | X36: - | Y36: =Y10+Y13+Y17+Y21+Y25+Y29+Y34 -> 0 | Z36: - | AA36: - | AB36: =AB10+AB13+AB17+AB21+AB25+AB29+AB34 -> 0 | AC36: - | AD36: - | AE36: =AE10+AE13+AE17+AE21+AE25+AE29+AE34 -> 0
D37: СН2 | E37: - | F37: - | G37: =SUM(G8:G34)-G35-G36 -> 537 | H37: - | I37: - | J37: =SUM(J8:J34)-J35-J36 -> 373.1 | K37: - | L37: - | M37: =SUM(M8:M34)-M35-M36 -> 533.3 | N37: - | O37: - | P37: =SUM(P8:P34)-P35-P36 -> 606.9 | Q37: - | R37: - | S37: =SUM(S8:S34)-S35-S36 -> 539.5 | T37: - | U37: - | V37: =SUM(V8:V34)-V35-V36 -> 539.5 | W37: - | X37: - | Y37: =SUM(Y8:Y34)-Y35-Y36 -> 539.5 | Z37: - | AA37: - | AB37: =SUM(AB8:AB34)-AB35-AB36 -> 542 | AC37: - | AD37: - | AE37: =SUM(AE8:AE34)-AE35-AE36 -> 542
A38: Примечания: | F38: =F31+F32+F33 -> 79 | L38: =L31+L32+L33 -> 80 | O38: =O31+O32+O33 -> 80 | R38: =R31+R32+R33 -> 80 | AE38: 4
A39: Условные единицы электрооборудования понизительных подстанций относятся на уровень высшего (первичного) напряжения подстанций
A40: Условные единицы по п 2 "Силовые трансформаторы 1-20 кВ" определяются только для трансформаторов, используемых для собственных нужд подстанций 35-1150 кВ. | I40: =I31+I32+I33 -> 79 | K40: =K31+K32+K33 -> 7.8 | M40: ='2.1'!J49+M37 -> 1007.2585 | O40: =O31+O32+O33 -> 80 | S40: =S37+'2.1'!P49 -> 1013.6582
A41: Значение условных единиц пп.4 и 6 "Масляные выключатели 1-20 кВ" и "Выключатели нагрузки 1-20 кВ" относятся к коммутационным аппаратам, установленным в распределительных устройствах 1-20 кВ подстанций 35-1150 кВ , ТП, КТП и РП 1-20 кВ , а так же к секционирующим коммутационным аппаратам на линиях 1-20 кВ
A42: Объем РП 1-20 кВ в условных единицах определяется по количеству установленных масляных выключателей (п.4) и выключателей нагрузки (п.6). При установке в РП трансформаторов 1-20/0,4 кВ дополнительные объемы обслуживания определяются по п.11 или 12.

Sheet 1.4
M1: 23688 | N1: 29.128
L2: =P17+Q17+P21+Q21-M13 -> 0 | N2: 6.474 | O2: 8454 | P2: 14200
B3: Баланс электрической энергии по сетям ВН, СН1, СН2 и НН | N3: 22.654 | Q3: Таблица № 1.4.
C4: =IF(C12+C13-C17-C19=0,"","Не сходится поступление и отпуск") | H4: =IF(H12+H13-H17-H19=0,"","Не сходится поступление и отпуск") | M4: =IF(M12+M13-M17-M19=0,"","Не сходится поступление и отпуск") | Q4: тыс.кВтч. | R4: =IF(ROUND(R12+R13-R17-R19,2)=0,"","Не сходится поступление и отпуск") | W4: =IF(ROUND(W12+W13-W17-W19,2)=0,"","Не сходится поступление и отпуск") | AB4: =IF(ROUND(AB12+AB13-AB17-AB19,2)=0,"","Не сходится поступление и отпуск")
A5: п.п. | B5: Показатели | C5: 2018 факт | H5: 2019 план | M5: 2019 факт | R5: 2020 план | W5: 2021план | AB5: 2022план
C6: Всего | D6: ВН | E6: СН1 | F6: СН2 | G6: НН | H6: Всего | I6: ВН | J6: СН1 | K6: СН2 | L6: НН | M6: Всего | N6: ВН | O6: СН1 | P6: СН2 | Q6: НН | R6: Всего | S6: ВН | T6: СН1 | U6: СН2 | V6: НН | W6: Всего | X6: ВН | Y6: СН1 | Z6: СН2 | AA6: НН | AB6: Всего | AC6: ВН | AD6: СН1 | AE6: СН2 | AF6: НН
A7: 1. | B7: Поступление эл.энергии в сеть , ВСЕГО | D7: =D19+D17+E9+F9+G9 -> 0 | E7: =E19+E17+F10+G10 -> 0 | F7: =F19+F17+G11 -> 28701 | G7: =G19+G17 -> 17803.029 | I7: =I19+I17+J9+K9+L9 -> 0 | J7: =J19+J17+K10+L10 -> 0 | K7: =K19+K17+L11 -> 27162 | L7: =L19+L17 -> 17718.318 | N7: =N19+N17+O9+P9+Q9 -> 0 | O7: =O19+O17+P10+Q10 -> 0 | P7: =P19+P17+Q11 -> 29128 | Q7: =Q19+Q17 -> 18195.911 | S7: =S19+S17+T9+U9+V9 -> 0.003563981 | T7: =T19+T17+U10+V10 -> 0.003563981 | U7: =U19+U17+V11 -> 28707.004 | V7: =V19+V17 -> 17809.477 | X7: =X19+X17+Y9+Z9+AA9 -> 0 | Y7: =Y19+Y17+Z10+AA10 -> 0 | Z7: =Z19+Z17+AA11 -> 29166 | AA7: =AA19+AA17 -> 18268.731 | AC7: =AC19+AC17+AD9+AE9+AF9 -> 0 | AD7: =AD19+AD17+AE10+AF10 -> 0 | AE7: =AE19+AE17+AF11 -> 28992 | AF7: =AF19+AF17 -> 18745.012
A8: 1.1. | B8: из собственной смежной сети, всего, в т.ч. из сети | D8: х | E8: =E7-E12-E13 -> 0 | F8: =F7-F12-F13 -> 0 | G8: =G7-G12-G13 -> 17803.029 | I8: х | J8: =J7-J12-J13 -> 0 | K8: =K7-K12-K13 -> 0 | L8: =L7-L12-L13 -> 17718.318 | N8: х | O8: =O7-O12-O13 -> 0 | P8: =P7-P12-P13 -> 0 | Q8: =Q7-Q12-Q13 -> 18195.911 | S8: х | T8: =T7-T12-T13 -> 0.003563981 | U8: =U7-U12-U13 -> 0.003563981 | V8: =V7-V12-V13 -> 17809.477 | X8: х | Y8: =Y7-Y12-Y13 -> 0 | Z8: =Z7-Z12-Z13 -> 0 | AA8: =AA7-AA12-AA13 -> 18268.731 | AC8: х | AD8: =AD7-AD12-AD13 -> 0 | AE8: =AE7-AE12-AE13 -> 0 | AF8: =AF7-AF12-AF13 -> 18745.012
B9: ВН | D9: х | E9: =E8 -> 0 | I9: х | J9: =J8 -> 0 | N9: х | O9: =O8 -> 0 | S9: х | T9: =T8 -> 0.003563981 | X9: х | Y9: =Y8 -> 0 | AC9: х | AD9: =AD8 -> 0
B10: СН1 | D10: х | E10: х | F10: =F8-F9 -> 0 | I10: х | J10: х | K10: =K8-K9 -> 0 | N10: х | O10: х | P10: =P8-P9 -> 0 | S10: х | T10: х | U10: =U8-U9 -> 0.003563981 | X10: х | Y10: х | Z10: =Z8-Z9 -> 0 | AC10: х | AD10: х | AE10: =AE8-AE9 -> 0
B11: СН2 | D11: х | E11: х | F11: х | G11: =G8-G9-G10 -> 17803.029 | I11: х | J11: х | K11: х | L11: =L8-L9-L10 -> 17718.318 | N11: х | O11: х | P11: х | Q11: =Q8-Q9-Q10 -> 18195.911 | S11: х | T11: х | U11: х | V11: =V8-V9-V10 -> 17809.477 | X11: х | Y11: х | Z11: х | AA11: =AA8-AA9-AA10 -> 18268.731 | AC11: х | AD11: х | AE11: х | AF11: =AF8-AF9-AF10 -> 18745.012
A12: 1.2. | B12: от электростанций | C12: =D12+E12+F12+G12 -> 0 | H12: =I12+J12+K12+L12 -> 0 | M12: =N12+O12+P12+Q12 -> 0 | R12: =S12+T12+U12+V12 -> 0 | W12: =X12+Y12+Z12+AA12 -> 0 | AB12: =AC12+AD12+AE12+AF12 -> 0
A13: 1.3. | B13: от сетевых организаций (указать): | C13: =D13+E13+F13+G13 -> 28701 | D13: =D14+D15+D16 -> 0 | E13: =E14+E15+E16 -> 0 | F13: =F14+F15+F16 -> 28701 | G13: =G14+G15+G16 -> 0 | H13: =I13+J13+K13+L13 -> 27162 | I13: =I14+I15+I16 -> 0 | J13: =J14+J15+J16 -> 0 | K13: =K14+K15+K16 -> 27162 | L13: =L14+L15+L16 -> 0 | M13: =N13+O13+P13+Q13 -> 29128 | N13: =N14+N15+N16 -> 0 | O13: =O14+O15+O16 -> 0 | P13: =P14+P15+P16 -> 29128 | Q13: =Q14+Q15+Q16 -> 0 | R13: =S13+T13+U13+V13 -> 28707 | S13: =S14+S15+S16 -> 0 | T13: =T14+T15+T16 -> 0 | U13: =U14+U15+U16 -> 28707 | V13: =V14+V15+V16 -> 0 | W13: =X13+Y13+Z13+AA13 -> 29166 | X13: =X14+X15+X16 -> 0 | Y13: =Y14+Y15+Y16 -> 0 | Z13: =Z14+Z15+Z16 -> 29166 | AA13: =AA14+AA15+AA16 -> 0 | AB13: =AC13+AD13+AE13+AF13 -> 28992 | AC13: =AC14+AC15+AC16 -> 0 | AD13: =AD14+AD15+AD16 -> 0 | AE13: =AE14+AE15+AE16 -> 28992 | AF13: =AF14+AF15+AF16 -> 0 | AM13: 8.442243 | AN13: 16.378525
A14: 1.3.1. | B14: ОАО "ФСК ЕЭС" | C14: =D14+E14+F14+G14 -> 0 | H14: =I14+J14+K14+L14 -> 0 | M14: =N14+O14+P14+Q14 -> 0 | R14: =S14+T14+U14+V14 -> 0 | W14: =X14+Y14+Z14+AA14 -> 0 | AB14: =AC14+AD14+AE14+AF14 -> 0
A15: 1.3.2. | B15: от филиала "Рязаньэнерго" ОАО "МРСК Центра и Приволжья" | C15: =D15+E15+F15+G15 -> 22928 | F15: 22928 | H15: =I15+J15+K15+L15 -> 22548 | K15: 22548 | M15: =N15+O15+P15+Q15 -> 23688 | P15: 23688 | R15: =S15+T15+U15+V15 -> 22933 | U15: =22.933*1000 -> 22933 | W15: =X15+Y15+Z15+AA15 -> 23721 | Z15: 23721 | AB15: =AC15+AD15+AE15+AF15 -> 23912.7 | AE15: ='Информация о согл. объемах'!E31*1000 -> 23912.7
A16: 1.3.3. | B16: от других сетевых организаций | C16: =D16+E16+F16+G16 -> 5773 | F16: 5773 | H16: =I16+J16+K16+L16 -> 4614 | K16: 4614 | M16: =N16+O16+P16+Q16 -> 5440 | P16: 5440 | R16: =S16+T16+U16+V16 -> 5774 | U16: 5774 | W16: =X16+Y16+Z16+AA16 -> 5445 | Z16: 5445 | AB16: =AC16+AD16+AE16+AF16 -> 5079.3 | AE16: =('Информация о согл. объемах'!G31++++++++++'Информация о согл. объемах'!I31+'Информация о согл. объемах'!K31+'Информация о согл. объемах'!M31)*1000 -> 5079.3 | AN16: ='Информация о согл. объемах'!E11*1000 -> 5696.8
A17: 2. | B17: Потери электроэнергии в сети | C17: =D17+E17+F17+G17 -> 6330.004 | F17: 2422.9705 | G17: 3907.0335 | H17: =I17+J17+K17+L17 -> 4555 | K17: 1583.682 | L17: 2971.318 | M17: =N17+O17+P17+Q17 -> 6474 | P17: 2478.0886 | Q17: 3995.9114 | R17: =S17+T17+U17+V17 -> 5640.0036 | U17: 2158.8552 | V17: 3481.1483 | W17: =X17+Y17+Z17+AA17 -> 5731 | Z17: 2141.2689 | AA17: 3589.7311 | AB17: =AC17+AD17+AE17+AF17 -> 5696.8 | AE17: =AM17*AN19 -> 2013.4879 | AF17: =AN17*AN19 -> 3683.3121 | AM17: 0.35344191 | AN17: 0.64655809
B18: то же в % (п.2/п.1) | C18: =IF(C7=0,"",C17/C7) | D18: =IF(D7=0,0,D17/D7) -> 0 | E18: =IF(E7=0,0,E17/E7) -> 0 | F18: =IF(F7=0,0,F17/F7) -> 0.084421118 | G18: =IF(G7=0,0,G17/G7) -> 0.21945891 | H18: =IF(H7=0,"",H17/H7) | I18: =IF(I7=0,0,I17/I7) -> 0 | J18: =IF(J7=0,0,J17/J7) -> 0 | K18: =IF(K7=0,0,K17/K7) -> 0.05830506 | L18: =IF(L7=0,0,L17/L7) -> 0.16769752 | M18: =IF(M7=0,"",M17/M7) | N18: =IF(N7=0,0,N17/N7) -> 0 | O18: =IF(O7=0,0,O17/O7) -> 0 | P18: =IF(P7=0,0,P17/P7) -> 0.085075825 | Q18: =IF(Q7=0,0,Q17/Q7) -> 0.2196049 | R18: =IF(R7=0,"",R17/R7) | S18: =IF(S7=0,0,S17/S7) -> 0 | T18: =IF(T7=0,0,T17/T7) -> 0 | U18: =IF(U7=0,0,U17/U7) -> 0.075203085 | V18: =IF(V7=0,0,V17/V7) -> 0.19546607 | W18: =IF(W7=0,"",W17/W7) | X18: =IF(X7=0,0,X17/X7) -> 0 | Y18: =IF(Y7=0,0,Y17/Y7) -> 0 | Z18: =IF(Z7=0,0,Z17/Z7) -> 0.073416611 | AA18: =IF(AA7=0,0,AA17/AA7) -> 0.19649592 | AB18: =IF(AB7=0,"",AB17/AB7) | AC18: =IF(AC7=0,0,AC17/AC7) -> 0 | AD18: =IF(AD7=0,0,AD17/AD7) -> 0 | AE18: =IF(AE7=0,0,AE17/AE7) -> 0.069449775 | AF18: =IF(AF7=0,0,AF17/AF7) -> 0.19649558
A19: 3. | B19: Полезный отпуск из сети | C19: =D19+E19+F19+G19 -> 22370.996 | D19: =D20+D24+D28+D29 -> 0 | E19: =E20+E24+E28+E29 -> 0 | F19: =F20+F24+F28+F29 -> 8475 | G19: =G20+G24+G28+G29 -> 13895.996 | H19: =I19+J19+K19+L19 -> 22607 | I19: =I20+I24+I28+I29 -> 0 | J19: =J20+J24+J28+J29 -> 0 | K19: =K20+K24+K28+K29 -> 7860 | L19: =L20+L24+L28+L29 -> 14747 | M19: =N19+O19+P19+Q19 -> 22654 | N19: =N20+N24+N28+N29 -> 0 | O19: =O20+O24+O28+O29 -> 0 | P19: =P20+P24+P28+P29 -> 8454 | Q19: =Q20+Q24+Q28+Q29 -> 14200 | R19: =S19+T19+U19+V19 -> 23067 | S19: =S20+S24+S28+S29 -> 0 | T19: =T20+T24+T28+T29 -> 0 | U19: =U20+U24+U28+U29 -> 8738.6717 | V19: =V20+V24+V28+V29 -> 14328.328 | W19: =X19+Y19+Z19+AA19 -> 23435 | X19: =X20+X24+X28+X29 -> 0 | Y19: =Y20+Y24+Y28+Y29 -> 0 | Z19: =Z20+Z24+Z28+Z29 -> 8756 | AA19: =AA20+AA24+AA28+AA29 -> 14679 | AB19: =AC19+AD19+AE19+AF19 -> 23295.2 | AC19: =AC20+AC24+AC28+AC29 -> 0 | AD19: =AD20+AD24+AD28+AD29 -> 0 | AE19: =AE20+AE24+AE28+AE29 -> 8233.5 | AF19: =AF20+AF24+AF28+AF29 -> 15061.7 | AN19: ='Информация о согл. объемах'!E11*1000 -> 5696.8
A20: 3.1. | B20: в т.ч. потребителям сбытовых компаний розничного рынка (указать по сбытовым компаниям): | C20: =D20+E20+F20+G20 -> 22370.996 | D20: =D21+D22+D23 -> 0 | E20: =E21+E22+E23 -> 0 | F20: =F21+F22+F23 -> 8475 | G20: =G21+G22+G23 -> 13895.996 | H20: =I20+J20+K20+L20 -> 22607 | I20: =I21+I22+I23 -> 0 | J20: =J21+J22+J23 -> 0 | K20: =K21+K22+K23 -> 7860 | L20: =L21+L22+L23 -> 14747 | M20: =N20+O20+P20+Q20 -> 22654 | N20: =N21+N22+N23 -> 0 | O20: =O21+O22+O23 -> 0 | P20: =P21+P22+P23 -> 8454 | Q20: =Q21+Q22+Q23 -> 14200 | R20: =S20+T20+U20+V20 -> 23067 | S20: =S21+S22+S23 -> 0 | T20: =T21+T22+T23 -> 0 | U20: =U21+U22+U23 -> 8738.6717 | V20: =V21+V22+V23 -> 14328.328 | W20: =X20+Y20+Z20+AA20 -> 23435 | X20: =X21+X22+X23 -> 0 | Y20: =Y21+Y22+Y23 -> 0 | Z20: =Z21+Z22+Z23 -> 8756 | AA20: =AA21+AA22+AA23 -> 14679 | AB20: =AC20+AD20+AE20+AF20 -> 23295.2 | AC20: =AC21+AC22+AC23 -> 0 | AD20: =AD21+AD22+AD23 -> 0 | AE20: =AE21+AE22+AE23 -> 8233.5 | AF20: =AF21+AF22+AF23 -> 15061.7 | AM20: =AE21/AB21 -> 0.35344191 | AN20: =AF21/AB21 -> 0.64655809 | AO20: =AM20+AN20 -> 1
A21: 3.1.1. | B21: ОАО "РЭСК" | C21: =D21+E21+F21+G21 -> 22370.996 | F21: 8475 | G21: 13895.996 | H21: =I21+J21+K21+L21 -> 22607 | K21: 7860 | L21: 14747 | M21: =N21+O21+P21+Q21 -> 22654 | P21: 8454 | Q21: 14200 | R21: =S21+T21+U21+V21 -> 23067 | U21: 8738.6717 | V21: 14328.328 | W21: =X21+Y21+Z21+AA21 -> 23435 | Z21: 8756 | AA21: 14679 | AB21: =AC21+AD21+AE21+AF21 -> 23295.2 | AE21: ='Информация о согл. объемах'!E73*1000 -> 8233.5 | AF21: ='Информация о согл. объемах'!E76*1000 -> 15061.7 | AK21: =AA21+Z21+Z17+AA17 -> 29166 | AL21: =Z21+AA21 -> 23435
A22: 3.1.2. | B22: ООО РГМЭК | C22: =D22+E22+F22+G22 -> 0 | H22: =I22+J22+K22+L22 -> 0 | M22: =N22+O22+P22+Q22 -> 0 | R22: =S22+T22+U22+V22 -> 0 | W22: =X22+Y22+Z22+AA22 -> 0 | AB22: =AC22+AD22+AE22+AF22 -> 0
A23: 3.1.3. | B23: ОАО "Оборонэнергосбыт" | C23: =D23+E23+F23+G23 -> 0 | H23: =I23+J23+K23+L23 -> 0 | M23: =N23+O23+P23+Q23 -> 0 | R23: =S23+T23+U23+V23 -> 0 | W23: =X23+Y23+Z23+AA23 -> 0 | AB23: =AC23+AD23+AE23+AF23 -> 0
A24: 3.2. | B24: потребителям оптового рынка (указать): | C24: =D24+E24+F24+G24 -> 0 | D24: =D25+D26+D27 -> 0 | E24: =E25+E26+E27 -> 0 | F24: =F25+F26+F27 -> 0 | G24: =G25+G26+G27 -> 0 | H24: =I24+J24+K24+L24 -> 0 | I24: =I25+I26+I27 -> 0 | J24: =J25+J26+J27 -> 0 | K24: =K25+K26+K27 -> 0 | L24: =L25+L26+L27 -> 0 | M24: =N24+O24+P24+Q24 -> 0 | N24: =N25+N26+N27 -> 0 | O24: =O25+O26+O27 -> 0 | P24: =P25+P26+P27 -> 0 | Q24: =Q25+Q26+Q27 -> 0 | R24: =S24+T24+U24+V24 -> 0 | S24: =S25+S26+S27 -> 0 | T24: =T25+T26+T27 -> 0 | U24: =U25+U26+U27 -> 0 | V24: =V25+V26+V27 -> 0 | W24: =X24+Y24+Z24+AA24 -> 0 | X24: =X25+X26+X27 -> 0 | Y24: =Y25+Y26+Y27 -> 0 | Z24: =Z25+Z26+Z27 -> 0 | AA24: =AA25+AA26+AA27 -> 0 | AB24: =AC24+AD24+AE24+AF24 -> 0 | AC24: =AC25+AC26+AC27 -> 0 | AD24: =AD25+AD26+AD27 -> 0 | AE24: =AE25+AE26+AE27 -> 0 | AF24: =AF25+AF26+AF27 -> 0
A25: 3.2.1. | C25: =D25+E25+F25+G25 -> 0 | H25: =I25+J25+K25+L25 -> 0 | M25: =N25+O25+P25+Q25 -> 0 | R25: =S25+T25+U25+V25 -> 0 | W25: =X25+Y25+Z25+AA25 -> 0 | AB25: =AC25+AD25+AE25+AF25 -> 0
A26: 3.2.2. | C26: =D26+E26+F26+G26 -> 0 | H26: =I26+J26+K26+L26 -> 0 | M26: =N26+O26+P26+Q26 -> 0 | R26: =S26+T26+U26+V26 -> 0 | W26: =X26+Y26+Z26+AA26 -> 0 | AB26: =AC26+AD26+AE26+AF26 -> 0
A27: 3.2.3. | C27: =D27+E27+F27+G27 -> 0 | H27: =I27+J27+K27+L27 -> 0 | M27: =N27+O27+P27+Q27 -> 0 | R27: =S27+T27+U27+V27 -> 0 | W27: =X27+Y27+Z27+AA27 -> 0 | AB27: =AC27+AD27+AE27+AF27 -> 0
A28: 3.3. | B28: расход электроэнергии на собственные производственные и хозяйственные нужды | C28: =D28+E28+F28+G28 -> 0 | H28: =I28+J28+K28+L28 -> 0 | M28: =N28+O28+P28+Q28 -> 0 | R28: =S28+T28+U28+V28 -> 0 | U28: 0 | W28: =X28+Y28+Z28+AA28 -> 0 | Z28: 0 | AB28: =AC28+AD28+AE28+AF28 -> 0 | AE28: 0
A29: 3.4. | B29: сальдо переток в другие сетевые организации (транзит, указать организации): | C29: =D29+E29+F29+G29 -> 0 | D29: =D30+D31+D32 -> 0 | E29: =E30+E31+E32 -> 0 | F29: =F30+F31+F32 -> 0 | G29: =G30+G31+G32 -> 0 | H29: =I29+J29+K29+L29 -> 0 | I29: =I30+I31+I32 -> 0 | J29: =J30+J31+J32 -> 0 | K29: =K30+K31+K32 -> 0 | L29: =L30+L31+L32 -> 0 | M29: =N29+O29+P29+Q29 -> 0 | N29: =N30+N31+N32 -> 0 | O29: =O30+O31+O32 -> 0 | P29: =P30+P31+P32 -> 0 | Q29: =Q30+Q31+Q32 -> 0 | R29: =S29+T29+U29+V29 -> 0 | S29: =S30+S31+S32 -> 0 | T29: =T30+T31+T32 -> 0 | U29: =U30+U31+U32 -> 0 | V29: =V30+V31+V32 -> 0 | W29: =X29+Y29+Z29+AA29 -> 0 | X29: =X30+X31+X32 -> 0 | Y29: =Y30+Y31+Y32 -> 0 | Z29: =Z30+Z31+Z32 -> 0 | AA29: =AA30+AA31+AA32 -> 0 | AB29: =AC29+AD29+AE29+AF29 -> 0 | AC29: =AC30+AC31+AC32 -> 0 | AD29: =AD30+AD31+AD32 -> 0 | AE29: =AE30+AE31+AE32 -> 0 | AF29: =AF30+AF31+AF32 -> 0
A30: 3.4.1. | C30: =D30+E30+F30+G30 -> 0 | H30: =I30+J30+K30+L30 -> 0 | M30: =N30+O30+P30+Q30 -> 0 | R30: =S30+T30+U30+V30 -> 0 | W30: =X30+Y30+Z30+AA30 -> 0 | AB30: =AC30+AD30+AE30+AF30 -> 0
A31: 3.4.2. | C31: =D31+E31+F31+G31 -> 0 | H31: =I31+J31+K31+L31 -> 0 | M31: =N31+O31+P31+Q31 -> 0 | R31: =S31+T31+U31+V31 -> 0 | W31: =X31+Y31+Z31+AA31 -> 0 | AB31: =AC31+AD31+AE31+AF31 -> 0
A32: 3.4.3. | C32: =D32+E32+F32+G32 -> 0 | H32: =I32+J32+K32+L32 -> 0 | M32: =N32+O32+P32+Q32 -> 0 | R32: =S32+T32+U32+V32 -> 0 | W32: =X32+Y32+Z32+AA32 -> 0 | AB32: =AC32+AD32+AE32+AF32 -> 0
A34: 4.1. | B34: Расчетное поступление в сеть для сторонних потребителей | C34: =SUM(D34:G34) -> 27059.468 | D34: =D35+D36 -> 0 | E34: =E35+E36 -> 0 | F34: =F35+F36 -> 9256.4389 | G34: =G35+G36 -> 17803.029 | H34: =SUM(I34:L34) -> 26064.97 | I34: =I35+I36 -> 0 | J34: =J35+J36 -> 0 | K34: =K35+K36 -> 8346.6521 | L34: =L35+L36 -> 17718.318 | M34: =SUM(N34:Q34) -> 27436.021 | N34: =N35+N36 -> 0 | O34: =O35+O36 -> 0 | P34: =P35+P36 -> 9240.11 | Q34: =Q35+Q36 -> 18195.911 | R34: =SUM(S34:V34) -> 27258.764 | S34: =S35+S36 -> 0 | T34: =T35+T36 -> 0 | U34: =U35+U36 -> 9449.2873 | V34: =V35+V36 -> 17809.477 | W34: =SUM(X34:AA34) -> 27718.501 | X34: =X35+X36 -> 0 | Y34: =Y35+Y36 -> 0 | Z34: =Z35+Z36 -> 9449.7701 | AA34: =AA35+AA36 -> 18268.731 | AB34: =SUM(AC34:AF34) -> 27593.003 | AC34: =AC35+AC36 -> 0 | AD34: =AD35+AD36 -> 0 | AE34: =AE35+AE36 -> 8847.991 | AF34: =AF35+AF36 -> 18745.012
A35: 4.2. | B35: Потери, отнесенные на сторонних потребителей | C35: =SUM(D35:G35) -> 4688.4724 | D35: =IF((D7-D17)=0,0,D17/(D7-D17)*D36) -> 0 | E35: =IF((E7-E17)=0,0,E17/(E7-E17)*E36) -> 0 | F35: =IF((F7-F17)=0,0,F17/(F7-F17)*F36) -> 781.43892 | G35: =IF((G7-G17)=0,0,G17/(G7-G17)*G36) -> 3907.0335 | H35: =SUM(I35:L35) -> 3457.97 | I35: =IF((I7-I17)=0,0,I17/(I7-I17)*I36) -> 0 | J35: =IF((J7-J17)=0,0,J17/(J7-J17)*J36) -> 0 | K35: =IF((K7-K17)=0,0,K17/(K7-K17)*K36) -> 486.65205 | L35: =IF((L7-L17)=0,0,L17/(L7-L17)*L36) -> 2971.318 | M35: =SUM(N35:Q35) -> 4782.0213 | N35: =IF((N7-N17)=0,0,N17/(N7-N17)*N36) -> 0 | O35: =IF((O7-O17)=0,0,O17/(O7-O17)*O36) -> 0 | P35: =IF((P7-P17)=0,0,P17/(P7-P17)*P36) -> 786.10998 | Q35: =IF((Q7-Q17)=0,0,Q17/(Q7-Q17)*Q36) -> 3995.9114 | R35: =SUM(S35:V35) -> 4191.7639 | S35: =IF((S7-S17)=0,0,S17/(S7-S17)*S36) -> 0 | T35: =IF((T7-T17)=0,0,T17/(T7-T17)*T36) -> 0 | U35: =IF((U7-U17)=0,0,U17/(U7-U17)*U36) -> 710.61555 | V35: =IF((V7-V17)=0,0,V17/(V7-V17)*V36) -> 3481.1483 | W35: =SUM(X35:AA35) -> 4283.5012 | X35: =IF((X7-X17)=0,0,X17/(X7-X17)*X36) -> 0 | Y35: =IF((Y7-Y17)=0,0,Y17/(Y7-Y17)*Y36) -> 0 | Z35: =IF((Z7-Z17)=0,0,Z17/(Z7-Z17)*Z36) -> 693.77009 | AA35: =IF((AA7-AA17)=0,0,AA17/(AA7-AA17)*AA36) -> 3589.7311 | AB35: =SUM(AC35:AF35) -> 4297.8031 | AC35: =IF((AC7-AC17)=0,0,AC17/(AC7-AC17)*AC36) -> 0 | AD35: =IF((AD7-AD17)=0,0,AD17/(AD7-AD17)*AD36) -> 0 | AE35: =IF((AE7-AE17)=0,0,AE17/(AE7-AE17)*AE36) -> 614.49098 | AF35: =IF((AF7-AF17)=0,0,AF17/(AF7-AF17)*AF36) -> 3683.3121
A36: 4.3. | B36: Суммарный полезный отпуск на сторону | C36: =SUM(D36:G36) -> 22370.996 | D36: =D29+D24+D20 -> 0 | E36: =E29+E24+E20 -> 0 | F36: =F29+F24+F20 -> 8475 | G36: =G29+G24+G20 -> 13895.996 | H36: =SUM(I36:L36) -> 22607 | I36: =I29+I24+I20 -> 0 | J36: =J29+J24+J20 -> 0 | K36: =K29+K24+K20 -> 7860 | L36: =L29+L24+L20 -> 14747 | M36: =SUM(N36:Q36) -> 22654 | N36: =N29+N24+N20 -> 0 | O36: =O29+O24+O20 -> 0 | P36: =P29+P24+P20 -> 8454 | Q36: =Q29+Q24+Q20 -> 14200 | R36: =SUM(S36:V36) -> 23067 | S36: =S29+S24+S20 -> 0 | T36: =T29+T24+T20 -> 0 | U36: =U29+U24+U20 -> 8738.6717 | V36: =V29+V24+V20 -> 14328.328 | W36: =SUM(X36:AA36) -> 23435 | X36: =X29+X24+X20 -> 0 | Y36: =Y29+Y24+Y20 -> 0 | Z36: =Z29+Z24+Z20 -> 8756 | AA36: =AA29+AA24+AA20 -> 14679 | AB36: =SUM(AC36:AF36) -> 23295.2 | AC36: =AC29+AC24+AC20 -> 0 | AD36: =AD29+AD24+AD20 -> 0 | AE36: =AE29+AE24+AE20 -> 8233.5 | AF36: =AF29+AF24+AF20 -> 15061.7
B39: Расшифровка п. 1.3.3.(Поступление от других сетевых организаций)
A40: № | B40: Наименование других сетевых организаций | C40: Всего | D40: ВН | E40: СН1 | F40: СН2 | G40: НН | H40: Всего | I40: ВН | J40: СН1 | K40: СН2 | L40: НН | M40: Всего | N40: ВН | O40: СН1 | P40: СН2 | Q40: НН | R40: Всего | S40: ВН | T40: СН1 | U40: СН2 | V40: НН | W40: Всего | X40: ВН | Y40: СН1 | Z40: СН2 | AA40: НН | AB40: Всего | AC40: ВН | AD40: СН1 | AE40: СН2 | AF40: НН
B41: Центральный филиал ООО "Газпром энерго" | C41: =SUM(D41:G41) -> 2122 | E41: 2122 | H41: =SUM(I41:L41) -> 2262 | J41: 2262 | M41: =SUM(N41:Q41) -> 2155.6 | O41: ='Информация о согл. объемах'!F31*1000 -> 2155.6 | R41: =SUM(S41:V41) -> 2123 | T41: 2123 | W41: =SUM(X41:AA41) -> 2157 | Y41: 2157 | AB41: =SUM(AC41:AF41) -> 2157.1 | AD41: ='Информация о согл. объемах'!G37*1000 -> 2157.1
B42: АО "РОЭК" Центральный исполнительный аппарат | C42: =SUM(D42:G42) -> 2637 | F42: 2637 | H42: =SUM(I42:L42) -> 1819 | K42: 1819 | M42: =SUM(N42:Q42) -> 2425.2 | P42: ='Информация о согл. объемах'!H36*1000 -> 2425.2 | R42: =SUM(S42:V42) -> 2637 | U42: 2637 | W42: =SUM(X42:AA42) -> 2834 | Z42: 2834 | AB42: =SUM(AC42:AF42) -> 2426.9 | AC42: ='Информация о согл. объемах'!I36*1000 -> 2426.9
B43: Московская дирек-ция по энергообес-печению Транс-энерго - филиал ОАО "РЖД" | H43: =SUM(I43:L43) -> 0 | M43: =SUM(N43:Q43) -> 208.9 | P43: ='Информация о согл. объемах'!J37*1000 -> 208.9 | R43: =SUM(S43:V43) -> 0 | W43: =SUM(X43:AA43) -> 198 | Z43: 198 | AB43: =SUM(AC43:AF43) -> 209 | AD43: ='Информация о согл. объемах'!K37*1000 -> 209
...

Sheet 1.5
B3: Баланс электрической мощности по ВН, СН1, СН2 и НН | AB3: Таблица № 1.5.
C4: =IF(ROUND(C12+C13-C17-C19,2)=0,"","Не сходится поступление и отпуск") | H4: =IF(H12+H13-H17-H19=0,"","Не сходится поступление и отпуск") | M4: =IF(M12+M13-M17-M19=0,"","Не сходится поступление и отпуск") | R4: =IF(ROUND(R12+R13-R17-R19,2)=0,"","Не сходится поступление и отпуск") | W4: =IF(ROUND(W12+W13-W17-W19,2)=0,"","Не сходится поступление и отпуск") | AB4: тыс.кВт
A5: п.п. | B5: Показатели | C5: 2018 факт | H5: 2019 план | M5: 2019 план | R5: 2020 план | W5: 2021 план | AB5: 2021 план
C6: Всего | D6: ВН | E6: СН1 | F6: СН2 | G6: НН | H6: Всего | I6: ВН | J6: СН1 | K6: СН2 | L6: НН | M6: Всего | N6: ВН | O6: СН1 | P6: СН2 | Q6: НН | R6: Всего | S6: ВН | T6: СН1 | U6: СН2 | V6: НН | W6: Всего | X6: ВН | Y6: СН1 | Z6: СН2 | AA6: НН | AB6: Всего | AC6: ВН | AD6: СН1 | AE6: СН2 | AF6: НН
