Workbook
Name ccc: #REF!
Name ccc: #REF!
Name ccc: #REF!
Name ccc: #REF!
Name ccc: #REF!
Name ccc: #REF!
Name ccc: #REF!
Name ccc: #REF!
Name ccc: #REF!
Name ccc: #REF!
Name ccc: #REF!
Name sub_1007: акт!$B$70
Name sub_1012: акт!$B$9
Name sub_1025: акт!$B$36
Name sub_11000_1: #N/A
Name sub_11011_1: #N/A
Name sub_12000_2: #REF!
Name sub_12000_2: #REF!
Name sub_12000_2: #REF!
Name sub_12000_2: #REF!
Name sub_12000_2: #REF!
Name sub_12000_2: #REF!
Name sub_12000_2: #REF!
Name sub_12000_2: #REF!
Name sub_12000_2: #REF!
Name sub_12000_2: #REF!
Name sub_12000_2: #REF!
Name sub_1518: акт!$B$68
Name sub_22301: орг_прич!$B$4
Name sub_22302: орг_прич!$B$5
Name sub_22303: орг_прич!$B$6
Name sub_22304: орг_прич!$B$7
Name sub_22305: орг_прич!$B$8
Name sub_22306: орг_прич!$B$9
Name sub_22307: орг_прич!$B$10
Name sub_22308: орг_прич!$B$15
Name sub_22309: орг_прич!$B$21
Name sub_22310: орг_прич!$B$25
Name sub_22311: орг_прич!$B$26
Name sub_22312: орг_прич!$B$27
Name sub_223122: орг_прич!$B$29
Name sub_223123: орг_прич!$B$30
Name sub_223124: орг_прич!$B$31
Name sub_223125: орг_прич!$B$32
Name sub_22313: орг_прич!$B$33
Name sub_223131: орг_прич!$B$34
Name sub_223132: орг_прич!$B$35
Name sub_223133: орг_прич!$B$36
Name sub_223134: орг_прич!$B$37
Name sub_22314: орг_прич!$B$38
Name sub_22371: орг_прич!$B$11
Name sub_22372: орг_прич!$B$12
Name sub_22373: орг_прич!$B$13
Name sub_22374: орг_прич!$B$14
Name sub_22381: орг_прич!$B$16
Name sub_22382: орг_прич!$B$17
Name sub_22383: орг_прич!$B$18
Name sub_22384: орг_прич!$B$19
Name sub_22385: орг_прич!$B$20
Name sub_22391: орг_прич!$B$22

Sheet орг_прич
B2: N | C2: Организационные причины аварии | D2: Код организационных причин
B3: п/п
B4: 1. | C4: Ошибочные или неправильные действия оперативного и (или) диспетчерского персонала | D4: 3.4.1
B5: 2. | C5: Ошибочные или неправильные действия (или бездействие) персонала служб (подразделений) организации | D5: 3.4.2
B6: 3. | C6: Ошибочные или неправильные действия привлеченного персонала, выполняющего работу по договору | D6: 3.4.3
B7: 4. | C7: Ошибочные или неправильные действия собственного ремонтного или наладочного персонала организации | D7: 3.4.4
B8: 5. | C8: Ошибочные или неправильные действия (или бездействие) руководящего персонала | D8: 3.4.5
B9: 6. | C9: Неудовлетворительное качество производственных или должностных инструкций, других локальных актов документов организации | D9: 3.4.6
B10: 7. | C10: Несоблюдение сроков, невыполнение в требуемых объемах технического обслуживания или ремонта оборудования и устройств | D10: 3.4.7
B11: 43107 | C11: Несоблюдение сроков ТО и ремонта оборудования, устройств. | D11: 3.4.7.1
B12: 43138 | C12: Несоблюдение объемов ТО и ремонта оборудования, устройств | D12: 3.4.7.2
B13: 43166 | C13: Несвоевременное выявление и устранение дефектов | D13: 3.4.7.3
B14: 43197 | C14: Прочие нарушения | D14: 3.4.7.4
B15: 8. | C15: Воздействие посторонних лиц и организаций, не участвующих в технологическом процессе | D15: 3.4.8
B16: 43108 | C16: Производство несанкционированных строительных и погрузочно-разгрузочных работ в охранных зонах объектов электросетевого хозяйства | D16: 3.4.8.1
B17: 43139 | C17: Проезд крупногабаритной техники | D17: 3.4.8.2
B18: 43167 | C18: Несанкционированная рубка лесных насаждений | D18: 3.4.8.3
B19: 43198 | C19: Наброс посторонних предметов на ВЛ | D19: 3.4.8.4
B20: 43228 | C20: Прочие воздействия | D20: 3.4.8.5
B21: 9. | C21: Воздействие организаций, участвующих в технологическом процессе | D21: 3.4.9
B22: 43109 | C22: Отключение (повреждение) оборудования в смежной электрической сети | D22: 3.4.9.1
B23: 43140 | C23: Отключение (повреждение) оборудования на объекте генерации | D23: 3.4.9.2
B24: 43168 | C24: Отключение (повреждение) оборудования потребителей электрической энергии | D24: 3.4.9.3
B25: 10. | C25: Воздействие животных и птиц | D25: 3.4.10
B26: 11. | C26: Превышение параметров воздействия стихийных явлений относительно условий проекта | D26: 3.4.11
B27: 12. | C27: Воздействие повторяющихся стихийных явлений | D27: 3.4.12
B28: 43112 | C28: Гололедно-изморозевые отложения | D28: 3.4.12.1
B29: 43143 | C29: Ветровые нагрузки | D29: 3.4.12.2
B30: 43171 | C30: Атмосферные перенапряжения (гроза) | D30: 3.4.12.3
B31: 43202 | C31: Природные пожары | D31: 3.4.12.4
B32: 43232 | C32: Прочие воздействия неблагоприятных природных явлений | D32: 3.4.12.5
B33: 13. | C33: Дефекты (недостатки) проекта, конструкции, изготовления, монтажа | D33: 3.4.13
B34: 43113 | C34: Недостатки проекта | D34: 3.4.13.1
B35: 43144 | C35: Недостатки конструкции | D35: 3.4.13.2
B36: 43172 | C36: Дефекты изготовления | D36: 3.4.13.3
B37: 43203 | C37: Дефекты монтажа | D37: 3.4.13.4
B38: 14. | C38: Невыявленные причины | D38: 3.4.14

Sheet тех_прич
B2: Таблица 4. Классификационные признаки технических причин повреждений оборудования
B4: N | C4: Технические причины повреждений оборудования | D4: Код технических причин
B5: 1. | C5: Нарушение структуры материала | D5: 4.1
B6: 2. | C6: Механический износ, неудовлетворительная смазка | D6: 4.2
B7: 3. | C7: Нарушение механического соединения | D7: 4.3
B8: 4. | C8: Внешнее механическое воздействие | D8: 4.4
B9: 5. | C9: Золовой износ | D9: 4.5
B10: 6. | C10: Коррозионный, эрозионный износ | D10: 4.6
B11: 7. | C11: Нарушение герметичности | D11: 4.7
B12: 8. | C12: Нарушение нормального вибросостояния | D12: 4.8 | L12: ВЛ- 0,4кВ
B13: 9. | C13: Взрыв, загорание, пожар | D13: 4.9
B14: 10. | C14: Термическое повреждение, перегрев, пережог | D14: 4.10
B15: 11. | C15: Электродуговое повреждение | D15: 4.11
B16: 12. | C16: Нарушение электрической изоляции | D16: 4.12
B17: 13. | C17: Нарушение электрического контакта, размыкание, обрыв цепи | D17: п/с Лашма 35/10кВ ф.5
B18: 14. | C18: Механическое разрушение (повреждение), деформация, перекос | D18: 4.14
B19: 15. | C19: Разрушение фундамента, строительных конструкций, ослабление крепления оборудования к фундаменту | D19: 4.15
B20: 16. | C20: Исчерпание ресурса | D20: 4.16
B21: 17. | C21: Загрязнение, попадание инородных предметов | D21: 4.17
B22: 18. | C22: Дефект сварного соединения (шва) | D22: 4.18
B23: 19. | C23: Повышение давления, гидравлический удар | D23: 4.19
B24: 20. | C24: Сбой/дефект программного обеспечения | D24: 4.20
B25: 21. | C25: Невыявленные причины | D25: 4.21

Sheet январь
B1: Участок | D1: Диспетчерское наименование объекта электросетевого хозяйства сетевой организации, в результате отключения которой произошло прекращение передачи электроэнергии потребителям услуг | E1: Высший класс напряжения отключенного оборудования сетевой организации, кВ | F1: Время и дата начала прекращения передачи электрической энергии (часы, минуты, ГГГГ.ММ.ДД) | G1: Время и дата восстановления режима потребления электрической энергии потребителей услуг (часы, минуты, ГГГГ.ММ.ДД) | H1: Вид прекращения передачи электроэнергии (П-плановое, А-аварийное , В-внерегламентное (Аварийное)) | I1: Продолжительность прекращения передачи электрической энергии, час | J1: Перечень объектов электросетевого хозяйства, отключение которых привело к прекращению передачи электрической энергии потребителям услуг (ПС, ТП, РП, ВЛ, КЛ) | K1: Количество точек поставки потребителей услуг сетевой организации, в отношении которых произошел перерыв электроснабжения, шт.
M3: 0.041666667
B4: 2 | C4: 3 | D4: 4 | E4: 5 | F4: 6 | G4: 7 | H4: 8 | I4: 9 | J4: 10
B5: Участок №1 | C5: ВЛ | D5: ПС Лашма ф3, КТП 3 | F5: 44207.982 | G5: 44208.008 | H5: В | I5: =(G5-F5)/$M$3 -> 0.63333333 | J5: КТП3
B6: Участок №2 | C6: ВЛ | D6: ТП-2497,ТП-2494 ВЛ-10кВ Маяк | E6: 10 | F6: 44214.389 | G6: 44214.431 | H6: П | I6: =(G6-F6)/$M$3 -> 1 | J6: ВЛ-10кВ | L6: Повреждение в смежной сетевой организации
B7: Участок №1 | C7: ТП | D7: ф14 10кВ КТП2 | F7: 44220.243 | G7: 44220.493 | H7: П | I7: =(G7-F7)/$M$3 -> 6 | J7: КТП 2 | L7: Смена Проходных излляторов
B8: Участок №2 | C8: ВЛ | D8: ЦРП-10кВ Елатьма, ф.3 | E8: 10 | F8: 44220.951 | G8: 44220.99 | H8: В | I8: =(G8-F8)/$M$3 -> 0.91666667 | J8: ВЛ-10кВ | L8: Повреждение ВЛ-10кВ
B9: Участок №2 | C9: ВЛ | D9: ТП-2 ВЛ-10кВ Елатьма | E9: 10 | F9: 44220.951 | G9: 44220.983 | H9: В | I9: =(G9-F9)/$M$3 -> 0.75 | J9: ВЛ-10кВ | L9: Повреждение ВЛ-10кВ
B10: Участок №2 | C10: ВЛ | D10: ЦРП-10кВ Елатьма, ф.3 | E10: 10 | F10: 44223.431 | G10: 44223.446 | H10: В | I10: =(G10-F10)/$M$3 -> 0.35 | J10: ВЛ-10кВ | L10: Неисправность неопределена(мокрый снег)
B11: Участок №2 | C11: ВЛ | D11: ТП-2,6-14 ВЛ-10кВ Елатьма | E11: 10 | F11: 44225.417 | G11: 44225.5 | H11: П | I11: =(G11-F11)/$M$3 -> 2 | J11: ВЛ-10кВ | L11: Опиловка ВЛ-10кВ

Sheet февраль
B1: Участок | D1: Диспетчерское наименование объекта электросетевого хозяйства сетевой организации, в результате отключения которой произошло прекращение передачи электроэнергии потребителям услуг | E1: Высший класс напряжения отключенного оборудования сетевой организации, кВ | F1: Время и дата начала прекращения передачи электрической энергии (часы, минуты, ГГГГ.ММ.ДД) | G1: Время и дата восстановления режима потребления электрической энергии потребителей услуг (часы, минуты, ГГГГ.ММ.ДД) | H1: Вид прекращения передачи электроэнергии (П-плановое, А-аварийное , В-внерегламентное (Аварийное)) | I1: Продолжительность прекращения передачи электрической энергии, час | J1: Перечень объектов электросетевого хозяйства, отключение которых привело к прекращению передачи электрической энергии потребителям услуг (ПС, ТП, РП, ВЛ, КЛ) | K1: Количество точек поставки потребителей услуг сетевой организации, в отношении которых произошел перерыв электроснабжения, шт.
M3: 0.041666667
B4: 2 | C4: 3 | D4: 4 | E4: 5 | F4: 6 | G4: 7 | H4: 8 | I4: 9 | J4: 10
B5: Участок №2 | D5: ТП-8,9,10,11,12,13,14 ВЛ-10кВ | E5: 10 (10.5) | F5: 44229.417 | G5: 44229.5 | H5: П | I5: =(G5-F5)/$M$3 -> 2 | J5: ВЛ-10кВ | L5: Опиловка ВЛ-10кВ
B6: Участок №2 | D6: ЦРП-10кВ Елатьма ф.3 | E6: 10 (10.5) | F6: 44232.151 | G6: 44232.17 | H6: А | I6: =(G6-F6)/$M$3 -> 0.46666667 | J6: ВЛ-10кВ | L6: Повреждение ВЛ-10кВ
B7: Участок №2 | D7: ТП-8,9,10,11,12,13,14 ВЛ-10кВ | E7: 10 (10.5) | F7: 44232.417 | G7: 44232.5 | H7: П | I7: =(G7-F7)/$M$3 -> 2 | J7: ВЛ-10кВ | L7: Опиловка ВЛ-10кВ
B8: Участок №2 | D8: ВЛ №7 п/с Сабурово | E8: 10 (10.5) | F8: 44250.194 | G8: 44250.21 | H8: А | I8: =(G8-F8)/$M$3 -> 0.36666667 | J8: ВЛ-10кВ | L8: Обрыв провода ВЛ-10кВ на опоре №149
B9: Участок №2 | D9: ЦРП-10кВ Елатьма ВЛ№3 | E9: 10 (10.5) | F9: 44253.392 | G9: 44253.403 | H9: П | I9: =(G9-F9)/$M$3 -> 0.25 | J9: ВЛ-10кВ | L9: Замена вставки на ЗТП-2
B10: Участок №2 | D10: ЦРП-10кВ Елатьма ВЛ№3 | E10: 10 (10.5) | F10: 44253.648 | G10: 44253.663 | H10: П | I10: =(G10-F10)/$M$3 -> 0.36666667 | J10: ВЛ-10кВ
B11: Участок №2 | D11: ЦРП-10кВ Елатьма ВЛ№3 | E11: 10 (10.5) | F11: 44253.389 | G11: 44253.531 | H11: П | I11: =(G11-F11)/$M$3 -> 3.4166667 | J11: ВЛ-10кВ

Sheet март
A7: №пп | B7: Участок | C7: Участок | D7: Диспетчерское наименование объекта электросетевого хозяйства сетевой организации, в результате отключения которой произошло прекращение передачи электроэнергии потребителям услуг | E7: Высший класс напряжения отключенного оборудования сетевой организации, кВ | F7: Время и дата начала прекращения передачи электрической энергии (часы, минуты, ГГГГ.ММ.ДД) | G7: Время и дата восстановления режима потребления электрической энергии потребителей услуг (часы, минуты, ГГГГ.ММ.ДД) | H7: Вид прекращения передачи электроэнергии (П-плановое, А-аварийное , В-внерегламентное (Аварийное)) | I7: Продолжительность прекращения передачи электрической энергии, час | J7: Перечень объектов электросетевого хозяйства, отключение которых привело к прекращению передачи электрической энергии потребителям услуг (ПС, ТП, РП, ВЛ, КЛ) | K7: Количество точек поставки потребителей услуг сетевой организации, в отношении которых произошел перерыв электроснабжения, шт.
AD9: 0.041666667
A10: 1 | B10: 2 | C10: 3 | D10: 4 | E10: 5 | F10: 6 | G10: 7 | H10: 8 | I10: 9 | J10: 10 | K10: 11
B11: Участок №2 | D11: п/с Кольдюки 10кВ ф.4 | E11: 10 (10.5) | F11: 44258.524 | G11: 44258.549 | H11: В | I11: =(G11-F11)/$AD$9 -> 0.58333333 | J11: ВЛ-10кВ | AA11: 3.4.9.1 | AB11: 4.21 | AC11: 0 | AE11: Неисправность в смежной сет.организации
B12: Участок №1 | D12: п/с Телебукино ЗТП-2396 ф.12 | E12: 0.38 | F12: 44262.75 | G12: 44262.792 | H12: В | I12: =(G12-F12)/$AD$9 -> 1 | J12: ВЛ- 0,4кВ | AA12: 3.4.9.3 | AB12: 4.13 | AC12: 0 | AE12: Обрыв ввода п.Крутоярский д.59 кв.2
B13: Участок №1 | D13: п/с Лашма ТП-1 ф1 ВЛ 0,4№1 | E13: 0.38 | F13: 44264.583 | G13: 44264.667 | H13: В | I13: =(G13-F13)/$AD$9 -> 2 | J13: ВЛ 0,4кВ | AA13: 3.4.7.3 | AB13: 4.13 | AC13: 1 | AE13: Окисление контакта на опоре ВЛ-0,4кВ
B14: Участок №2 | D14: п/с Кольдюки 10кВ ф.4 ВЛ10кВ№4 | E14: 10 | F14: 44265.583 | G14: 44265.667 | H14: В | I14: =(G14-F14)/$AD$9 -> 2 | J14: ВЛ-10кВ | AA14: 3.4.9.1 | AB14: 4.21 | AC14: 0 | AE14: Неисправность в смежной сет.организации
B15: Участок №2 | D15: п/с Кольдюки 10кВ ф.4 ВЛ10кВ№4 | E15: 10 | F15: 44267.5 | G15: 44267.583 | H15: В | I15: =(G15-F15)/$AD$9 -> 2 | J15: ВЛ-10кВ | AA15: 3.4.9.1 | AB15: 4.21 | AC15: 0 | AE15: Неисправность в смежной сет.организации
B16: Участок №2 | D16: ТП-4,ф.3 ВЛ-0,4кВ Елатьма | E16: 0.38 | F16: 44270.417 | G16: 44270.476 | H16: П | I16: =(G16-F16)/$AD$9 -> 1.4166667 | J16: ВЛ 0,4кВ | AC16: 1 | AE16: Ремонт рубильника
B17: Участок №1 | D17: п/с Лашма 35/10кВ ф.5 | E17: 10 (10.5) | F17: 44270.396 | G17: 44270.542 | H17: П | I17: =(G17-F17)/$AD$9 -> 3.5 | J17: ВЛ-10кВ | AC17: 0 | AE17: Работа персонала РЭС
B18: Участок №1 | D18: п/с Затон 35/10 кВ ф2 | E18: 10(10.5) | F18: 44271.208 | G18: 44271.25 | H18: П | I18: =(G18-F18)/$AD$9 -> 1 | J18: ВЛ-10кВ | AC18: 0 | AE18: Работа персонала РЭС
B19: Участок №2 | D19: ТП-1,ф.4 ВЛ-0,4кВ Елатьма | E19: 0.38 | F19: 44271.396 | G19: 44271.472 | H19: П | I19: =(G19-F19)/$AD$9 -> 1.8333333 | J19: ВЛ 0,4кВ | AC19: 1 | AE19: Ремонт ВЛ-0,4кВ
B20: Участок №2 | D20: ТП-2179 ВЛ-10кВ Любовниково | E20: 10 | F20: 44272.458 | G20: 44272.625 | H20: П | I20: =(G20-F20)/$AD$9 -> 4 | J20: ВЛ-10кВ | AA20: 3.4.9.1 | AB20: 4.21 | AC20: 0 | AE20: Неисправность в смежной сет.организации
B21: Участок №2 | D21: ТП-8,9,10,11,12,13,14 ВЛ-10кВ | E21: 10 | F21: 44273.542 | G21: 44273.625 | H21: П | I21: =(G21-F21)/$AD$9 -> 2 | J21: ВЛ-10кВ | AC21: 1 | AE21: Опиловка ВЛ-10кВ
B22: Участок №1 | D22: п/с Лашма 35/10кВ ф.3 | E22: 10(10.5) | F22: 44273.417 | G22: 44273.542 | H22: П | I22: =(G22-F22)/$AD$9 -> 3 | J22: ВЛ-10кВ | AC22: 0 | AE22: Работа персонала РЭС
B23: Участок №1 | D23: п/с Касимов ТП-2588 ф3 | E23: 0.38 | F23: 44274.375 | G23: 44274.458 | H23: В | I23: =(G23-F23)/$AD$9 -> 2 | J23: ВЛ-0,4кВ | AA23: 3.4.9.3 | AB23: 4.13 | AC23: 0 | AE23: Обрыв ввода ул.Залесное д.11 Исаков А.Ф.
B24: Участок №1 | D24: п/с Зеленино 35/10кВ ф4, ф3 | E24: 10(10.5) | F24: 44277.417 | G24: 44277.5 | H24: П | I24: =(G24-F24)/$AD$9 -> 2 | J24: ВЛ-10кВ | AC24: 0 | AE24: Работа персонала РЭС
B25: Участок №1 | D25: п/с Лашма ТП-6 ф1, ТП-3 ф2 | E25: 0.38 | F25: 44281.417 | G25: 44281.542 | H25: П | I25: =(G25-F25)/$AD$9 -> 3 | J25: ВЛ-0,4кВ | AC25: 1 | AE25: Работа персонала МУ МПЖКХ (установка натяж-
AE26: ного устройства от оп.19 до оп.36)

Sheet апрель
A7: №пп | B7: Участок | C7: Участок | D7: Диспетчерское наименование объекта электросетевого хозяйства сетевой организации, в результате отключения которой произошло прекращение передачи электроэнергии потребителям услуг | E7: Высший класс напряжения отключенного оборудования сетевой организации, кВ | F7: Время и дата начала прекращения передачи электрической энергии (часы, минуты, ГГГГ.ММ.ДД) | G7: Время и дата восстановления режима потребления электрической энергии потребителей услуг (часы, минуты, ГГГГ.ММ.ДД) | H7: Вид прекращения передачи электроэнергии (П-плановое, А-аварийное , В-внерегламентное (Аварийное)) | I7: Продолжительность прекращения передачи электрической энергии, час | J7: Перечень объектов электросетевого хозяйства, отключение которых привело к прекращению передачи электрической энергии потребителям услуг (ПС, ТП, РП, ВЛ, КЛ) | K7: Количество точек поставки потребителей услуг сетевой организации, в отношении которых произошел перерыв электроснабжения, шт.
AD9: 0.041666667
A10: 1 | B10: 2 | C10: 3 | D10: 4 | E10: 5 | F10: 6 | G10: 7 | H10: 8 | I10: 9 | J10: 10 | K10: 11
B12: Участок №1 | D12: ВЛ-0,4кВ №4 КТП-14, ф.4 ЦРП 10кВ Елатьма | E12: 10 (10.5) | F12: 18,20 2021.04.02 | G12: 19,25 2021.04.02 | H12: В | I12: =(G12-F12)/$AD$9 -> #VALUE! | J12: ВЛ- 10кВ | AE12: Сгорели 3 выс.вставки,работа РЭС
B13: Участок №2 | D13: ЦРП-10кВ ф.3 Елатьма | E13: 10 (10.5) | F13: 21,45 2021.04.07 | G13: 22,03 2021.04.07 | H13: В | I13: =(G13-F13)/$AD$9 -> #VALUE! | J13: ВЛ 0,4кВ | AC13: 1 | AE13: Ремонт ВЛ-0,4кВ
B14: Участок №2 | D14: ВЛ №1 ТП-2445 ф.1.ПС110/35/10кВ ф.2 Шостье | E14: 10 (10.5) | F14: 01,00 2021.04.08 | G14: 14,00 2021.04.08 | H14: В | I14: =(G14-F14)/$AD$9 -> #VALUE! | J14: ВЛ-10кВ | AC14: 0 | AE14: Пробой опорного изолятора на вышке Мегафон
B15: Участок №2 | D15: ВЛ №1 ТП-2445 ф.1.ПС110/35/10кВ ф.2 Шостье | E15: 10 (10.5) | F15: 02,00 2021.04.21 | G15: 15,00 2021.04.21 | H15: В | I15: =(G15-F15)/$AD$9 -> #VALUE! | J15: ВЛ 0,4кВ | AC15: 1 | AE15: Ремонт ВЛ-0,4кВ
B16: Участок №1 | D16: п/с Сабурово 110/10 кВ ф.7 | E16: 10 (10.5) | F16: 15,19 2021.04.24 | G16: 20,08 2021.04.24 | H16: В | I16: =(G16-F16)/$AD$9 -> #VALUE! | J16: ВЛ 10кВ | AE16: Сгорели 2 выс.вставки,работа РЭС
B17: Участок №2 | D17: КТП-1а КЛ-10кВ | E17: 0.38 | F17: 21,45 2021.04.24 | G17: 22,10 2021.04.24 | H17: В | I17: =(G17-F17)/$AD$9 -> #VALUE! | J17: ВЛ 0,4кВ | AC17: 1 | AE17: Ремонт рубильника
B18: Участок №2 | D18: ВЛ-10кВ №2 п/с Затон 35/10 кВ ф2 | E18: 10 (10.5) | F18: 12,00 2021.04.25 | G18: 21,30 2021.04.25 | H18: В | I18: =(G18-F18)/$AD$9 -> #VALUE! | J18: ВЛ-10кВ | AC18: 1 | AE18: Пробой изолятора на оп.1 от ЗТП-1 ВЛ-10кВ
B19: Участок №2 | D19: ВЛ №2 ЗТП-8 ф.2. ПС35/10кВ ф.5 Лашма | E19: 10 (10.5) | F19: 15,30 2021.04.30 | G19: 19,00 2021.04.30 | H19: В | I19: =(G19-F19)/$AD$9 -> #VALUE! | J19: ВЛ-10кВ | AC19: 1 | AE19: Замена вставки 10 кВ
B20: Участок №1 | D20: п/с Затон 35/10 кВ ф2 | E20: 10 (10.5) | F20: 44311.5 | G20: 44311.896 | H20: в | I20: =(G20-F20)/$AD$9 -> 9.5 | J20: ВЛ-10кВ | AE20: Обрыв линейного провода,работа РЭС
B21: Участок №1 | D21: п/с Лашма 35/10 кВ ф5 | E21: 10 (10.5) | F21: 44315.417 | G21: 44315.542 | H21: П | I21: =(G21-F21)/$AD$9 -> 3 | J21: ВЛ-10кВ | AE21: Работа персонала РЭС
D27: Участок №2
D28: Участок №2
D29: Участок №2
D30: Участок №2
D31: Участок №2
D32: Участок №2

Sheet май
A7: №пп | B7: Участок | C7: Участок | D7: Диспетчерское наименование объекта электросетевого хозяйства сетевой организации, в результате отключения которой произошло прекращение передачи электроэнергии потребителям услуг | E7: Высший класс напряжения отключенного оборудования сетевой организации, кВ | F7: Время и дата начала прекращения передачи электрической энергии (часы, минуты, ГГГГ.ММ.ДД) | G7: Время и дата восстановления режима потребления электрической энергии потребителей услуг (часы, минуты, ГГГГ.ММ.ДД) | H7: Вид прекращения передачи электроэнергии (П-плановое, А-аварийное , В-внерегламентное (Аварийное)) | I7: Продолжительность прекращения передачи электрической энергии, час | J7: Перечень объектов электросетевого хозяйства, отключение которых привело к прекращению передачи электрической энергии потребителям услуг (ПС, ТП, РП, ВЛ, КЛ) | K7: Количество точек поставки потребителей услуг сетевой организации, в отношении которых произошел перерыв электроснабжения, шт.
AD9: 0.041666667
A10: 1 | B10: 2 | C10: 3 | D10: 4 | E10: 5 | F10: 6 | G10: 7 | H10: 8 | I10: 9 | J10: 10 | K10: 11
D12: КТП-11, ф.4 ВЛ-0,4кВ Елатьма | E12: 0.38 | F12: 44323.365 | G12: 44323.385 | H12: П | I12: =(G12-F12)/$AD$9 -> 0.5 | J12: ВЛ 0,4кВ | AE12: Сгорели 3 выс.вставки,работа РЭС
D13: ЦРП-10кВ ф.3 Елатьма | E13: 10 | F13: 44331.611 | G13: 44331.655 | H13: П | I13: =(G13-F13)/$AD$9 -> 1.05 | J13: ВЛ-10кВ | AC13: 1 | AE13: Ремонт ВЛ-0,4кВ
D14: КТП-6,8-14 ВЛ-10кВ Елатьма | E14: 10 | F14: 44331.611 | G14: 44331.775 | H14: П | I14: =(G14-F14)/$AD$9 -> 3.9333333 | J14: ВЛ-10кВ | AC14: 0 | AE14: Пробой опорного изолятора на вышке Мегафон
D15: ЗТП-10, ф.1 ВЛ-0,4кВ Елатьма | E15: 0.38 | F15: 44334.403 | G15: 44334.438 | H15: П | I15: =(G15-F15)/$AD$9 -> 0.83333333 | J15: ВЛ 0,4кВ | AC15: 1 | AE15: Ремонт ВЛ-0,4кВ
D16: ЦРП-10кВ ф.3 Елатьма | E16: 10 | F16: 44334.556 | G16: 44334.587 | H16: А | I16: =(G16-F16)/$AD$9 -> 0.75 | J16: ВЛ-10кВ | AE16: Сгорели 2 выс.вставки,работа РЭС
D17: ЗТП-3,ф.3 ВЛ-0,4кВ | E17: 0.38 | F17: 44334.615 | G17: 44334.733 | H17: П | I17: =(G17-F17)/$AD$9 -> 2.85 | J17: ВЛ 0,4кВ | AC17: 1 | AE17: Ремонт рубильника
D18: п/с Сабурово 110/10 кВ ф.7 | E18: 10 | F18: 44335.944 | G18: 44336.122 | H18: А | I18: =(G18-F18)/$AD$9 -> 4.25 | J18: ВЛ-10кВ | AC18: 1 | AE18: Пробой изолятора на оп.1 от ЗТП-1 ВЛ-10кВ
D27: Участок №2
D28: Участок №2
D29: Участок №2
D30: Участок №2
D31: Участок №2
D32: Участок №2

Sheet план январь
A1: Информация о вводе в ремонт и выводе из ремонта электросетевых объектов
A2: за январь 2020 года
A4: Наименование объекта | B4: Дата ввода в ремонт | D4: Дата вывода из ремонта | F4: Примеча-ния
B5: План | C5: Факт | D5: План | E5: Факт
A6: =январь!D6 -> ТП-2497,ТП-2494 ВЛ-10кВ Маяк | B6: =IF(январь!H6="П",январь!F6,0) -> 44214.389 | C6: =IF(январь!H6="П",январь!G6,0) -> 44214.431 | D6: =B6 -> 44214.389 | E6: =C6 -> 44214.431 | G6: =январь!H6 -> П
A7: =январь!D7 -> ф14 10кВ КТП2 | B7: =IF(январь!H7="П",январь!F7,0) -> 44220.243 | C7: =IF(январь!H7="П",январь!G7,0) -> 44220.493 | D7: =B7 -> 44220.243 | E7: =C7 -> 44220.493 | G7: =январь!H7 -> П
A8: =январь!D11 -> ТП-2,6-14 ВЛ-10кВ Елатьма | B8: =IF(январь!H11="П",январь!F11,0) -> 44225.417 | C8: =IF(январь!H11="П",январь!G11,0) -> 44225.5 | D8: =B8 -> 44225.417 | E8: =C8 -> 44225.5 | G8: =январь!H11 -> П

Sheet план февраль
A1: Информация о вводе в ремонт и выводе из ремонта электросетевых объектов
A2: за январь 2020 года
A4: Наименование объекта | B4: Дата ввода в ремонт | D4: Дата вывода из ремонта | F4: Примеча-ния
B5: План | C5: Факт | D5: План | E5: Факт
A6: =январь!D6 -> ТП-2497,ТП-2494 ВЛ-10кВ Маяк | B6: =IF(январь!H6="П",январь!F6,0) -> 44214.389 | C6: =IF(январь!H6="П",январь!G6,0) -> 44214.431 | D6: =B6 -> 44214.389 | E6: =C6 -> 44214.431 | G6: =январь!H6 -> П
A7: =январь!D7 -> ф14 10кВ КТП2 | B7: =IF(январь!H7="П",январь!F7,0) -> 44220.243 | C7: =IF(январь!H7="П",январь!G7,0) -> 44220.493 | D7: =B7 -> 44220.243 | E7: =C7 -> 44220.493 | G7: =январь!H7 -> П
A8: =январь!D11 -> ТП-2,6-14 ВЛ-10кВ Елатьма | B8: =IF(январь!H11="П",январь!F11,0) -> 44225.417 | C8: =IF(январь!H11="П",январь!G11,0) -> 44225.5 | D8: =B8 -> 44225.417 | E8: =C8 -> 44225.5 | G8: =январь!H11 -> П

Sheet план март
A1: Информация о вводе в ремонт и выводе из ремонта электросетевых объектов
A2: за | B2: =B11 -> 44270.417 | C2: года
A4: Наименование объекта | B4: Дата ввода в ремонт | D4: Дата вывода из ремонта | F4: Примеча-ния
B5: План | C5: Факт | D5: План | E5: Факт
H6: =март!H11 -> В
H7: =март!H12 -> В
H8: =март!H13 -> В
H9: =март!H14 -> В
H10: =март!H15 -> В
A11: =март!D16 -> ТП-4,ф.3 ВЛ-0,4кВ Елатьма | B11: =IF(март!H16="П",март!F16,0) -> 44270.417 | C11: =IF(март!H16="П",март!G16,0) -> 44270.476 | D11: =B11 -> 44270.417 | E11: =C11 -> 44270.476 | H11: =март!H16 -> П
A12: =март!D17 -> п/с Лашма 35/10кВ ф.5 | B12: =IF(март!H17="П",март!F17,0) -> 44270.396 | C12: =IF(март!H17="П",март!G17,0) -> 44270.542 | D12: =B12 -> 44270.396 | E12: =C12 -> 44270.542 | H12: =март!H17 -> П
A13: =март!D18 -> п/с Затон 35/10 кВ ф2 | B13: =IF(март!H18="П",март!F18,0) -> 44271.208 | C13: =IF(март!H18="П",март!G18,0) -> 44271.25 | D13: =B13 -> 44271.208 | E13: =C13 -> 44271.25 | H13: =март!H18 -> П
A14: =март!D19 -> ТП-1,ф.4 ВЛ-0,4кВ Елатьма | B14: =IF(март!H19="П",март!F19,0) -> 44271.396 | C14: =IF(март!H19="П",март!G19,0) -> 44271.472 | D14: =B14 -> 44271.396 | E14: =C14 -> 44271.472 | H14: =март!H19 -> П
A15: =март!D20 -> ТП-2179 ВЛ-10кВ Любовниково | B15: =IF(март!H20="П",март!F20,0) -> 44272.458 | C15: =IF(март!H20="П",март!G20,0) -> 44272.625 | D15: =B15 -> 44272.458 | E15: =C15 -> 44272.625 | H15: =март!H20 -> П
A16: =март!D21 -> ТП-8,9,10,11,12,13,14 ВЛ-10кВ | B16: =IF(март!H21="П",март!F21,0) -> 44273.542 | C16: =IF(март!H21="П",март!G21,0) -> 44273.625 | D16: =B16 -> 44273.542 | E16: =C16 -> 44273.625 | H16: =март!H21 -> П
A17: =март!D22 -> п/с Лашма 35/10кВ ф.3 | B17: =IF(март!H22="П",март!F22,0) -> 44273.417 | C17: =IF(март!H22="П",март!G22,0) -> 44273.542 | D17: =B17 -> 44273.417 | E17: =C17 -> 44273.542 | H17: =март!H22 -> П
H18: =март!H23 -> В
A19: =март!D24 -> п/с Зеленино 35/10кВ ф4, ф3 | B19: =IF(март!H24="П",март!F24,0) -> 44277.417 | C19: =IF(март!H24="П",март!G24,0) -> 44277.5 | D19: =B19 -> 44277.417 | E19: =C19 -> 44277.5 | H19: =март!H24 -> П
A20: =март!D25 -> п/с Лашма ТП-6 ф1, ТП-3 ф2 | B20: =IF(март!H25="П",март!F25,0) -> 44281.417 | C20: =IF(март!H25="П",март!G25,0) -> 44281.542 | D20: =B20 -> 44281.417 | E20: =C20 -> 44281.542 | H20: =март!H25 -> П

Sheet план апре
A1: Информация о вводе в ремонт и выводе из ремонта электросетевых объектов
A2: за | B2: апрель | C2: 2021 года
A4: Наименование объекта | B4: Дата ввода в ремонт | D4: Дата вывода из ремонта | F4: Примеча-ния
B5: План | C5: Факт | D5: План | E5: Факт
A6: =апрель!D21 -> п/с Лашма 35/10 кВ ф5 | B6: =IF(апрель!H21="П",апрель!F21,0) -> 44315.417 | C6: =IF(апрель!H21="П",апрель!G21,0) -> 44315.542 | D6: =B6 -> 44315.417 | E6: =C6 -> 44315.542

Sheet план май
A1: Информация о вводе в ремонт и выводе из ремонта электросетевых объектов
A2: за | B2: =#REF! -> #REF! | C2: года
A4: Наименование объекта | B4: Дата ввода в ремонт | D4: Дата вывода из ремонта | F4: Примеча-ния
B5: План | C5: Факт | D5: План | E5: Факт
A6: =май!D12 -> КТП-11, ф.4 ВЛ-0,4кВ Елатьма | B6: =IF(май!H12="П",май!F12,0) -> 44323.365 | C6: =IF(май!H12="П",май!G12,0) -> 44323.385 | D6: =B6 -> 44323.365 | E6: =C6 -> 44323.385 | H6: =май!H12 -> П
A7: =май!D13 -> ЦРП-10кВ ф.3 Елатьма | B7: =IF(май!H13="П",май!F13,0) -> 44331.611 | C7: =IF(май!H13="П",май!G13,0) -> 44331.655 | D7: =B7 -> 44331.611 | E7: =C7 -> 44331.655 | H7: =май!H13 -> П
A8: =май!D14 -> КТП-6,8-14 ВЛ-10кВ Елатьма | B8: =IF(май!H14="П",май!F14,0) -> 44331.611 | C8: =IF(май!H14="П",май!G14,0) -> 44331.775 | D8: =B8 -> 44331.611 | E8: =C8 -> 44331.775 | H8: =май!H14 -> П
A9: =май!D15 -> ЗТП-10, ф.1 ВЛ-0,4кВ Елатьма | B9: =IF(май!H15="П",май!F15,0) -> 44334.403 | C9: =IF(май!H15="П",май!G15,0) -> 44334.438 | D9: =B9 -> 44334.403 | E9: =C9 -> 44334.438 | H9: =май!H15 -> П
A10: =май!D17 -> ЗТП-3,ф.3 ВЛ-0,4кВ | B10: =IF(май!H17="П",май!F17,0) -> 44334.615 | C10: =IF(май!H17="П",май!G17,0) -> 44334.733 | D10: =B10 -> 44334.615 | E10: =C10 -> 44334.733 | H10: =май!H17 -> П

Sheet акт
C1: Акт № | D1: 1
B2: Аварийного отключения | C2: произошедшего | D2: 43863 | E2: года
A4: 1 | B4: Общие сведения
A5: 1.1. | B5: Организация (филиал, обособленное структурное подразделение)
B6: МУ МПЖКХ Гусь-Железный, участок №2 | E6: Рязанская область
C7: Наименование организации | E7: Субъект
A9: 1.2. | B9: Дата и время возникновения аварии: | D9: 01ч 00м 2020.02.02
B10: Дата и время устраненияения аварии: | D10: 01ч 30м 2020.02.02
A11: 1.3. | B11: Учётные признаки аварии
A13: Код | C13: Содержание учетного признака
A15: 1.4. | B15: Классификация видов оборудования и устройств | E15: Организация
C17: Наименование вида оборудования (устройств)
A18: 1.5. | B18: Классификационные признаки причин аварии | E18: Организация
C19: =орг_прич!C29 -> Ветровые нагрузки
C20: Наименование организационной причины аварии
C21: =тех_прич!C15 -> Электродуговое повреждение
C22: Наименование технической причины повреждений оборудования
A23: 1.6. | B23: Дата и время ликвидации аварийного режима
D24: 01ч 30м 2020.02.02
A25: 2 | B25: Описательный блок
A26: 2.1. | B26: . Описание состояния и режима работы объектов электроэнергетики и (или) энергопринимающих установок до возникновения аварии
B27: Снегопад, Сильный порывистый ветер
A28: 2.2. | B28: Описание состояния и режима работы объектов электроэнергетики и (или) энергопринимающих установок во время аварии:
A30: 2.3. | B30: Описание выявленных в ходе расследования нарушений требований нормативных правовых актов в области электроэнергетики, в том числе установленных норм и правил эксплуатации объектов элек-троэнергетики и энергопринимающих установок, а также технических регламентов:
B31: не установлено
B32: Описание нарушения | C32: наименование НТД | D32: пункт НТД | E32: организация
A33: 2.4. | B33: Причины возникновения аварии и ее развития:
B34: Снегопад, Сильный порывистый ветер | E34: 3.4.12.2
B35: Описание организационных причин | E35: код
A36: 2.5. | B36: Перечень и описание повреждения оборудования (устройств) объектов электроэнергетики и (или) энергопринимающих установок:
B37: попадание оторванного сучка дерева на провода
A38: 2.6. | B38: Описание выявленных в ходе расследования недостатков эксплуатации, проекта, конструкции, изготовления, строительства, монтажа оборудования (устройств), явившихся предпосылками аварии или затруднивших её ликвидацию:
B39: Не установлено
A40: 3. | B40: Противоаварийные мероприятия
A41: 3.1. | B41: Технические мероприятия:
B42: Произведён верховой осмотр ВЛ 10кВ | D42: 43863 | E42: Участок №2
B43: Содержание мероприятия | D43: Дата выполнения | E43: Организация
A44: 3.2. | B44: Организационные мероприятия:
B45: Провести внеплановый осмотр ВЛ №3, расстояние от сучьев деревьев | D45: 43864 | E45: Участок №2
B46: Содержание мероприятия | D46: Дата выполнения | E46: Организация
...
