Workbook

Sheet Лист1
A1: Информация о вводе в ремонт и выводе из ремонта электросетевых объектов
A2: за | B2: =B7 -> 44392.417 | C2: года
A4: Наименование объекта | B4: Дата ввода в ремонт | D4: Дата вывода из ремонта | F4: Примеча-ния
B5: План | C5: Факт | D5: План | E5: Факт
A6: =[1]июнь!D11 -> п. Лашма ТП-6 ВЛ-0,4 кВ ф2 | B6: =IF([1]июль!H11="П",[1]июль!F11,0) -> 44390.417 | C6: =IF([1]июль!H11="П",[1]июль!G11,0) -> 44390.625 | D6: =B6 -> 44390.417 | E6: =C6 -> 44390.625
A7: =[1]июнь!D12 -> ТП-2394,ф. 3,ВЛ-0,4кВ Подлипки | B7: =IF([1]июль!H12="П",[1]июль!F12,0) -> 44392.417 | C7: =IF([1]июль!H12="П",[1]июль!G12,0) -> 44392.583 | D7: =B7 -> 44392.417 | E7: =C7 -> 44392.583
A8: =[1]июнь!D16 -> ТП-6,11,12,13,14 ВЛ-10кВ | B8: =IF([1]июль!H16="П",[1]июль!F16,0) -> 44403.417 | C8: =IF([1]июль!H16="П",[1]июль!G16,0) -> 44403.708 | D8: =B8 -> 44403.417 | E8: =C8 -> 44403.708
A9: =[1]июнь!D21 -> п/с Сабурово 110/10 кВ ф.7 | B9: =IF([1]июль!H21="П",[1]июль!F21,0) -> 44399.451 | C9: =IF([1]июль!H21="П",[1]июль!G21,0) -> 44399.576 | D9: =B9 -> 44399.451 | E9: =C9 -> 44399.576
A10: =[1]июнь!D22 -> ЦРП-10кВ ф.3 Елатьма | B10: =IF([1]июль!H22="П",[1]июль!F22,0) -> 44404.625 | C10: =IF([1]июль!H22="П",[1]июль!G22,0) -> 44404.688 | D10: =B10 -> 44404.625 | E10: =C10 -> 44404.688

Sheet Лист2

Sheet Лист3
