Workbook
Name sub_11000_1: #N/A
Name sub_11011_1: #N/A
Name sub_12000_2: #REF!
Name Кв: #REF!
Name Кв: #REF!
Name Кв: #REF!
Name Кн: #REF!
Name Кн: #REF!
Name Кн: #REF!
Name Рсрi: #REF!
Name Рсрi: #REF!
Name Рсрi: #REF!

Sheet Пункт 4.1Г-Ж
Q1: (п.4.1.)
H2: Журнал, обращений, заявок
A3: Количество обращений, поступивших в сетевую организацию (всего), обращений, содержащих жалобу и (или) обращений, содержащих заявку на оказание услуг, поступивших в сетевую организацию, а также количество обращений, по которым были заключены договоры об осуществлении технологического присоединения и (или) договоры об оказании услуг по передаче электрической энергии, а также по которым были урегулированы жалобы в отчетном периоде, а также динамика по отношению к году, предшествующему отчетному
A7: N | B7: Категории обращений потребителей | C7: Формы обслуживания
C8: Очная форма | F8: Заочная форма с использованием телефонной связи | I8: Электронная форма с использованием сети Интернет | L8: Письменная форма с использованием почтовой связи | O8: Прочее
C9: 2019 год | D9: 2020 год | E9: Динамика изменения показателя, % | F9: 2019 год | G9: 2020 год | H9: Динамика изменения показателя, % | I9: 2019 год | J9: 2020 год | K9: Динамика изменения показателя, % | L9: 2019 год | M9: 2020 год | N9: Динамика изменения показателя, % | O9: 2019 год | P9: 2020 год | Q9: Динамика изменения показателя, %
A10: 1 | B10: 2 | C10: 3 | D10: 4 | E10: 5 | F10: 6 | G10: 7 | H10: 8 | I10: 9 | J10: 10 | K10: 11 | L10: 12 | M10: 13 | N10: 14 | O10: 15 | P10: 16 | Q10: 17
A11: 1 | B11: Всего обращений потребителей, в том числе: | C11: =SUM(C12:C17) -> 255 | D11: =SUM(D12:D17) -> 312 | E11: =(D11-C11)/C11 -> 0.22352941 | F11: =SUM(F12:F17) -> 0 | G11: =SUM(G12:G17) -> 0 | H11: 0 | I11: =SUM(I12:I17) -> 0 | J11: =SUM(J12:J17) -> 0 | K11: 0 | L11: =SUM(L12:L17) -> 0 | M11: =SUM(M12:M17) -> 0 | N11: 0 | O11: =SUM(O12:O17) -> 0 | P11: =SUM(P12:P17) -> 0 | Q11: 0
A12: 1.1. | B12: оказание услуг по передаче электрической энергии | C12: 0 | D12: 0 | E12: 0 | F12: 0 | G12: 0 | H12: 0 | I12: 0 | J12: 0 | K12: 0 | L12: 0 | M12: 0 | N12: 0 | O12: 0 | P12: 0 | Q12: 0
A13: 1.2. | B13: осуществление технологического присоединения | C13: 10 | D13: 26 | E13: =(D13-C13)/C13 -> 1.6 | F13: 0 | G13: 0 | H13: 0 | I13: 0 | J13: 0 | K13: 0 | L13: 0 | M13: 0 | N13: 0 | O13: 0 | P13: 0 | Q13: 0
A14: 1.3. | B14: коммерческий учет электрической энергии | C14: 245 | D14: 286 | E14: =(D14-C14)/C14 -> 0.16734694 | F14: 0 | G14: 0 | H14: 0 | I14: 0 | J14: 0 | K14: 0 | L14: 0 | M14: 0 | N14: 0 | O14: 0 | P14: 0 | Q14: 0
A15: 1.4. | B15: качество обслуживания | C15: 0 | D15: 0 | E15: 0 | F15: 0 | G15: 0 | H15: 0 | I15: 0 | J15: 0 | K15: 0 | L15: 0 | M15: 0 | N15: 0 | O15: 0 | P15: 0 | Q15: 0
A16: 1.5. | B16: техническое обслуживание электросетевых объектов | C16: 0 | D16: 0 | E16: 0 | F16: 0 | G16: 0 | H16: 0 | I16: 0 | J16: 0 | K16: 1 | L16: 0 | M16: 0 | N16: 0 | O16: 0 | P16: 0 | Q16: 0
A17: 1.6. | B17: прочее (указать) | C17: 0 | D17: 0 | E17: 0 | F17: 0 | G17: 0 | H17: 0 | I17: 0 | J17: 0 | K17: 1 | L17: 0 | M17: 0 | N17: 0 | O17: 0 | P17: 0 | Q17: 0
A18: 2 | B18: Жалобы | C18: =C19+C22+C23+C24+C25+C26 -> 0 | D18: =D19+D22+D23+D24+D25+D26 -> 49 | E18: 100 | F18: =F19+F22+F23+F24+F25+F26 -> 0 | G18: =G19+G22+G23+G24+G25+G26 -> 0 | H18: 0 | I18: 8 | J18: 16 | K18: 1 | L18: =L19+L22+L23+L24+L25+L26 -> 30 | M18: =M19+M22+M23+M24+M25+M26 -> 189 | N18: =(M18-L18/L18)/100 -> 1.88 | O18: =SUM(O19:O26) -> 0 | P18: 0 | Q18: 0
A19: 2.1. | B19: оказание услуг по передаче электрической энергии, в том числе: | C19: =C20+C21 -> 0 | D19: =D20+D21 -> 0 | E19: 0 | F19: =F20+F21 -> 0 | G19: =G20+G21 -> 0 | H19: 0 | I19: 0 | J19: 0 | K19: 0 | L19: =L20+L21 -> 1 | M19: =M20+M21 -> 0 | N19: 0 | O19: 0 | P19: =P20+P21 -> 0 | Q19: 0
A20: 2.1.1. | B20: качество услуг по передаче электрической энергии | C20: 0 | D20: 0 | E20: 0 | F20: =F21+F22 -> 0 | G20: =G21+G22 -> 0 | H20: 0 | I20: 0 | J20: 0 | K20: 0 | L20: 1 | M20: 0 | N20: 0 | O20: 0 | P20: 0 | Q20: 0
A21: 2.1.2. | B21: качество электрической энергии | C21: 0 | D21: 0 | E21: 0 | F21: =F22+F23 -> 0 | G21: =G22+G23 -> 0 | H21: 0 | I21: 0 | J21: 0 | K21: 1 | L21: 0 | M21: 0 | N21: 0 | O21: 0 | P21: 0 | Q21: 0
A22: 2.2. | B22: осуществление технологического присоединения | C22: 0 | D22: 0 | E22: 0 | F22: =F23+F24 -> 0 | G22: =G23+G24 -> 0 | H22: 0 | I22: 0 | J22: 0 | K22: 0 | L22: 29 | M22: 189 | N22: =(M22-L22/L22)/100 -> 1.88 | O22: 0 | P22: 0 | Q22: 0
A23: 2.3. | B23: коммерческий учет электрической энергии | C23: 0 | D23: 0 | E23: 0 | F23: =F24+F25 -> 0 | G23: =G24+G25 -> 0 | H23: 0 | I23: 0 | J23: 0 | K23: 0 | L23: 0 | M23: 0 | N23: 0 | O23: 0 | P23: 0 | Q23: 0
A24: 2.4. | B24: качество обслуживания | C24: 0 | D24: 0 | E24: 0 | F24: =F25+F26 -> 0 | G24: =G25+G26 -> 0 | H24: 0 | I24: 0 | J24: 0 | K24: 0 | L24: 0 | M24: 0 | N24: 0 | O24: 0 | P24: 0 | Q24: 0
A25: 2.5. | B25: техническое обслуживание объектов электросетевого хозяйства | C25: 0 | D25: 0 | E25: 0 | F25: =F26+F27 -> 0 | G25: =G26+G27 -> 0 | H25: 0 | I25: 0 | J25: 0 | K25: 0 | L25: 0 | M25: 0 | N25: 0 | O25: 0 | P25: 0 | Q25: 0
A26: 2.6. | B26: прочее (указать) | C26: 0 | D26: 49 | E26: 1 | F26: =F27+F28 -> 0 | G26: =G27+G28 -> 0 | H26: 0 | I26: 0 | J26: 0 | K26: 0 | L26: 0 | M26: 0 | N26: 0 | O26: 0 | P26: 0 | Q26: 0
A27: 3 | B27: Заявка на оказание услуг | C27: =SUM(C28:C33) -> 255 | D27: =SUM(D28:D33) -> 312 | E27: =(D27-C27)/C27 -> 0.22352941 | F27: =SUM(F28:F33) -> 0 | G27: =SUM(G28:G33) -> 0 | H27: 0 | I27: =SUM(I28:I33) -> 0 | J27: =SUM(J28:J33) -> 0 | K27: 0 | L27: =SUM(L28:L33) -> 0 | M27: =SUM(M28:M33) -> 0 | N27: 0 | O27: =SUM(O28:O29) -> 0 | P27: =SUM(P28:P33) -> 0 | Q27: 0
A28: 3.1. | B28: по технологическому присоединению | C28: 10 | D28: 26 | E28: =(D28-C28)/C28 -> 1.6 | F28: 0 | G28: 0 | H28: 0 | I28: 0 | J28: 0 | K28: 0 | L28: 0 | M28: 0 | N28: 0 | O28: 0 | P28: 0 | Q28: 0
A29: 3.2. | B29: организация коммерческого учета электрической энергии | C29: 245 | D29: 286 | E29: =(D29-C29)/C29 -> 0.16734694 | F29: 0 | G29: 0 | H29: 0 | I29: 0 | J29: 0 | K29: 0 | L29: 0 | M29: 0 | N29: 0 | O29: 0 | P29: 0 | Q29: 0
A30: 3.3. | B30: прочее (указать)
E33: Главный инженер | I33: Г.М. Евстифеев

Sheet Пункт 4.2Г_Ж
A3: Информация о деятельности офисов обслуживания потребителей.
A5: N | B5: Офис обслуживания потребителей | C5: Тип офиса | D5: Адрес местонахождения | E5: Номер телефона, адрес электронной почты | F5: Режим работы | G5: Предоставляемые услуги | H5: Количество потребителей, обратившихся очно в отчетном периоде | I5: Среднее время на обслуживание потребителя, мин. | J5: Среднее время ожидания потребителя в очереди, мин.
A6: 1 | B6: 2 | C6: 3 | D6: 4 | E6: 5 | F6: 6 | G6: 7 | H6: 8 | I6: 9 | J6: 10
A7: 1 | B7: Участок 1 | C7: Здание участка | D7: 391334. Рязанская область, Касимовский район, р.п. Лашма | E7: 84913197617, 89209525013, 89051873988 | F7: пн. - пят. 08:00-17:00,перерыв 12:00-13:00, выходной - суббота, вокресенье | G7: Предоставление консультации по вопросам оказания услуг. | H7: 25 | I7: 5-15 мин | J7: 5-15 мин
A8: 2 | B8: Участок 2 | C8: Здание участка | D8: 391334. Рязанская область, Касимовский район, р.п. Елатьма,, пл Грибкова | E8: 89105603036 | F8: пн. - пят. 08:00-17:00,перерыв 12:00-13:00, выходной - суббота, вокресенье | G8: Предоставление консультации по вопросам оказания услуг. | H8: 31 | I8: 5-15 мин | J8: 5-15 мин
A9: 3 | B9: МУ МПЖКХ Гусь-Железный | C9: Центральный офис | D9: 391334. Рязанская область, Касимовский район, р.п.Гусь- Железный, ул. Дачная, д.9 | E9: 84913146131 | F9: пн. - пят. 08:00-17:00,перерыв 12:00-13:00 | G9: Прием заявок на технологическое присоединение, выдача потребителям истребуемых документов, предоставление консультации по вопросам оказания услуг, предоставление информации о результатах рассмотрения обращений | H9: 36 | I9: 5-60мин | J9: 5-60мин
A10: 4 | B10: МУ МПЖКХ Гусь-Железный | C10: Офис главного инженера | D10: 391334. Рязанская область, Касимовский район, д. Лощинино, ул. Школьная, дом 3 | E10: 84913146131, 84913126005, 89065483235 | F10: 08:00-17:00 без выходных | G10: Прием заявок на технологическое присоединение, выдача потребителям истребуемых документов, предоставление консультации по вопросам оказания услуг, предоставление информации о результатах рассмотрения обращений | H10: 24 | I10: 5-60мин | J10: 5-60мин
C11: О
C18: Главный инженер | F18: Г.М. Евстифеев

Sheet Пункт 4.3
D1: (п.4.3.)
A3: Информация о заочном обслуживании потребителей посредством телефонной связи
A5: N | B5: Наименование | C5: Единица измерения
A6: 1 | B6: Перечень номеров телефонов, выделенных для обслуживания потребителей: | C6: номер телефона | D6: ='Пункт 4.2Г_Ж'!E10 -> 84913146131, 84913126005, 89065483235
D7: ='Пункт 4.2Г_Ж'!E8 -> 89105603036
D8: ='Пункт 4.2Г_Ж'!E9 -> 84913146131
A9: 2 | B9: Общее число телефонных вызовов от потребителей по выделенным номерам телефонов | C9: единицы | D9: =D10 -> 116
A10: 2.1. | B10: Общее число телефонных вызовов от потребителей, на которые ответил оператор сетевой организации | C10: единицы | D10: =D11+D12+D13 -> 116
A11: 2.1.1. | B11: Общее число телефонных вызовов от потребителей, на которые ответил оператор МУ МПЖКХ Гусь-Железный | C11: единицы | D11: ='Пункт 4.2Г_Ж'!H9+'Пункт 4.2Г_Ж'!H10 -> 60
A12: 2.1.2. | B12: Общее число телефонных вызовов от потребителей, на которые ответил Представитель Участка №1 | C12: единицы | D12: ='Пункт 4.2Г_Ж'!H7 -> 25
A13: 2.1.3. | B13: Общее число телефонных вызовов от потребителей, на которые ответил Представитель Участка №2 | C13: единицы | D13: ='Пункт 4.2Г_Ж'!H8 -> 31
A14: 3 | B14: Среднее время ожидания ответа потребителем при телефонном вызове на выделенные номера телефонов за текущий период | C14: мин. | D14: 0.1
A15: 4 | B15: Среднее время обработки телефонного вызова от потребителя на выделенные номера телефонов за текущий период | C15: мин. | D15: 5-7
B19: Главный инженер | D19: Г.М. Евстифеев

Sheet Пункт 4.4
U1: (п.4.4)
A2: Категория обращений, в которой зарегистрировано наибольшее число обращений всего, обращений, содержащих жалобу, обращений, содержащих заявку на оказание услуг, поступивших в отчетном периоде, в соответствии с пунктом 4.1 Информации о качестве обслуживания потребителей услуг МУ МПЖКХ Гусь-Железный
A3: Год | B3: Консультации по осуществлению технологического присоединения | C3: Заявки на оказание услуг по технологическому присоединению | D3: жалобы на качество услуг по передаче электрической энергии
A4: 2019 | B4: =C4*2.9 -> 29 | C4: 10 | D4: 0
A5: 2020 | B5: 76 | C5: 26 | D5: 0
B10: Главный инженер | D10: Г.М. Евстифеев

Sheet Пункт 4.5
Q1: (п.4.5.)
A2: Описание дополнительных услуг, оказываемых потребителю в МУ МПЖКХ Гусь-Железный, помимо услуг, указанных в Единых стандартах качества обслуживания сетевыми организациями потребителей сетевых организаций.
F4: Дополнительные услуги отсутствуют.
C7: Главный инженер | I7: Г.М. Евстифеев

Sheet Пункт 4.6
Q1: (п. 4.6.)
A2: Мероприятия, направленные на работу с социально уязвимыми группами населения (пенсионеры, инвалиды, многодетные семьи, участники ВОВ и боевых действий на территориях других государств в соответствии с Федеральным законом от 12 января 1995 г. N 5-ФЗ "О ветеранах" (Собрание законодательства Российской Федерации, 2000, N 2, ст. 161; N 19, ст. 2023; 2001, N 1, ст. 2; N 33, ст. 3427; N 53, ст. 5030; 2002, N 30, ст. 3033; N 48, ст. 4743; N 52, ст. 5132; 2003, N 19, ст. 1750; 2004, N 19, ст. 1837; N 25, ст. 2480; N 27, ст. 2711; N 35, ст. 3607; N 52, ст. 5038; 2005, N 1, ст. 25; N 19, ст. 1748; N 52, ст. 5576; 2007, N 43, ст. 5084; 2008, N 9, ст. 817; N 29, ст. 3410; N 30, ст. 3609; N 40, ст. 4501; N 52, ст. 6224; 2009, N 18, ст. 2152; N 26, ст. 3133; N 29, ст. 3623; N 30, ст. 3739; N 51, ст. 6148; N 52, ст. 6403; 2010, N 19, ст. 2287; N 27, ст. 3433; N 30, ст. 3991; N 31, ст. 4206; N 50, ст. 6609; 2011, N 45, ст. 6337; N 47, ст. 6608; 2012, N 43, ст. 5782; 2013, N 14, ст. 1654; N 19, ст. 2331; N 27, ст. 3477; N 48, ст. 6165; 2014, N 23, ст. 2930; N 26, ст. 3406; N 52, ст. 7537; 2015, N 14, ст. 2008), матери-одиночки, участники ликвидации аварии на Чернобыльской АЭС и приравненные к ним категории граждан в соответствии с Законом Российской Федерации от 15.05.1991 N 1244-1 "О социальной защите граждан, подвергшихся воздействию радиации вследствие катастрофы на Чернобыльской АЭС" (Ведомости Съезда народных депутатов РСФСР и Верховного Совета РСФСР, 1991, N 21, ст. 699; Ведомости Съезда народных депутатов Российской Федерации и Верховного Совета Российской Федерации, 1992, N 32, ст. 1861; Собрание законодательства Российской Федерации, 1995, N 48, ст. 4561; 1996, N 51, ст. 5680; 1997, N 47, ст. 5341; 1998, N 48, ст. 5850; 1999, N 16, ст. 1937; N 28, ст. 3460; 2000, N 33, ст. 3348; 2001, N 1, ст. 2; N 7, ст. 610; N 33, ст. 3413; 2002, N 30, ст. 3033; N 50, ст. 4929; N 53, ст. 5030; 2002, N 52, ст. 5132; 2003, N 43, ст. 4108; N 52, ст. 5038; 2004, N 18, ст. 1689; N 35, ст. 3607; 2006, N 6, ст. 637; N 30, ст. 3288; N 50, ст. 5285; 2007, N 46, ст. 5554; 2008, N 9, ст. 817; N 29, ст. 3410; N 30, ст. 3616; N 52, ст. 6224; N 52, ст. 6236; 2009, N 18, ст. 2152; N 30, ст. 3739; 2011, N 23, ст. 3270; N 29, ст. 4297; N 47, ст. 6608; N 49, ст. 7024; 2012, N 26, ст. 3446; N 53, ст. 7654; 2013, N 19, ст. 2331; N 27, ст. 3443; N 27, ст. 3446; N 27, ст. 3477; N 51, ст. 6693; 2014, N 26, ст. 3406; N 30, ст. 4217; N 40, ст. 5322; N 52, ст. 7539; 2015, N 14, ст. 2008).
A3: Согласно действующему законодательству РФ.
B7: Главный инженер | H7: Г.М. Евстифеев

Sheet Пункт 4.7
P1: (п.4.7)
B2: Темы и результаты опросов потребителей, проводимых сетевой организацией для выявления мнения потребителей о качестве обслуживания, в рамках исполнения Единых стандартов качества обслуживания сетевыми организациями потребителей услуг сетевых организаций.
A4: 1 | B4: Опросы потребителей для выявления мнения о качестве обслуживания проводились централизованно, посредством телефонной связи.
A5: 2 | B5: Информация по темам и результатам опросов потребителей раскрыта в соответствии с п. 10 "Единых стандартов качества обслуживания сетевыми организациями потребителей услуг сетевых организаций" на официальном сайте МУ МПЖКХ Гусь-Железный в сети интернет в разделе "Раскрытие информаци".
A6: 3 | B6: Основные темы опроса потребителей, согласно анкете следующие:
A7: 4 | B7: Качество предоставленных консультаций (достоверность, полнота сведений, аргументированность (наличие ссылок на нормы права)
A8: 5 | B8: Доброжелательность персонала
A9: 6 | B9: Доступность решения возникшего вопроса по телефону
A10: 7 | B10: Работа личного кабинета на сайте МУ МПЖКХ Гусь-Железный (оперативность получения необходимых сведений)
A11: 8 | B11: Информативность сайта МУ МПЖКХ Гусь-Железный (возможность найти необходимую информацию самостоятельно)
A12: 9 | B12: Возможность организации встречи с руководством структурных подразделений филиала для решения возникших вопросов
A13: 10 | B13: Реакция МУ МПЖКХ Гусь-Железный на жалобы (степень удовлетворенности ответами)
A14: 11 | B14: Качество предоставляемых услуг (соблюдение сроков исполнения обязательств при оказании услуги по технологическому присоединению)
A15: 12 | B15: Степень удовлетворенности деятельностью сотрудников МУ МПЖКХ Гусь-Железный при осуществлении процедуры технологического присоединения
... A21: 18 | B21: Оперативность оказания МУ МПЖКХ Гусь-Железный дополнительных услуг
C25: Главный инженер | I25: Г.М. Евстифеев

Sheet Пункт 4.8
P1: (п.4.8)
A2: Мероприятия, выполняемые МУ МПЖКХ Гусь-Железный в целях повышения качества обслуживания потребителей.
A3: 1. Увеличилось количество организационно-распорядительных документов по вопросам работы с заявителями и потребителями услуг
A4: 2. Разрабатывается "Личный кабинет"
A5: 3. Оптимизация процедур и сокращение сроков рассмотрения заявок на технологическое присоединение к электрическим сетям.
A6: 4. Организован опрос потребителей для выявления мнения о качестве обслуживания.
C10: Главный инженер | I10: Г.М. Евстифеев

Sheet Пункт 4.9
AD1: (п. 4.9.)
F2: Информация по обращениям потребителей за 2020 год
A4: № | B4: Идентификационный номер обращения | C4: Дата обращения | D4: Время обращения | E4: Форма обращения¹ | J4: Обращения | P4: Обращения потребителей, содержащие жалобу² | W4: Обращения потребителей, содержащие заявку на оказание услуг | AA4: Факт получения потребителем ответа | AD4: мероприятия по результатам обращения³
E5: Очное обращение | F5: Заочное обращение посредством телефонной связи | G5: Заочное обращение посредством сети Интернет | H5: Письменное обращение посредством почтовой связи | I5: Прочее | J5: Оказание услуг по передаче электрической энергии | K5: Осуществление технологического присоединения | L5: Коммерческий учет электрической энергии | M5: Качество обслуживания потребителей | N5: Техническое обслуживание электросетевых объектов | O5: Прочее | P5: Качество услуг по передаче электрической энергии | Q5: Качество электрической энергии | R5: Осуществление технологического присоединения | S5: Коммерческий учет электрической энергии | T5: Качество обслуживания потребителей | U5: Техническое обслуживание электросетевых объектов | V5: Прочее | W5: По технологическому присоединению | X5: Организация коммерческого учета электроэнергии | Y5: Прочее | Z5: Заявителем был получен исчерпывающий ответ в установленные сроки | AA5: Заявителем был получен исчерпывающий ответ с нарушением сроков | AB5: Обращение оставлено без ответа | AC5: Выполненные мероприятия по результатам обращения | AD5: Планируемые мероприятия по результатам обращения
A6: 1 | B6: 2 | C6: 3 | D6: 4 | E6: 5 | F6: 6 | G6: 7 | H6: 8 | I6: 9 | J6: 10 | K6: 11 | L6: 12 | M6: 13 | N6: 14 | O6: 15 | P6: 16 | Q6: 17 | R6: 18 | S6: 19 | T6: 20 | U6: 21 | V6: 22 | W6: 23 | X6: 25 | Y6: 26 | Z6: 27 | AA6: 28 | AB6: 29 | AC6: 30 | AD6: 31
A8: 1 | B8: 1 | C8: 43840 | D8: 0.47569444 | F8: + | K8: + | S8: + | W8: + | Z8: + | AC8: Выданы: Заявка Договор, ТУ, акт ТП | AD8: дальнейшие мероприятия не требуются
A9: 2 | B9: 2 | C9: 14.01202 | D9: 0.51388889 | F9: + | K9: + | S9: + | W9: + | Z9: + | AC9: Выданы: Заявка Договор, ТУ, акт ТП | AD9: дальнейшие мероприятия не требуются
A10: 3 | B10: 3 | C10: 43857 | D10: 0.58333333 | F10: + | K10: + | S10: + | W10: + | Z10: + | AC10: Выданы: Заявка Договор, ТУ, акт ТП | AD10: дальнейшие мероприятия не требуются
A11: 4 | B11: 4 | C11: 43861 | D11: 0.61458333 | F11: + | K11: + | S11: + | W11: + | Z11: + | AC11: Выданы: Заявка Договор, ТУ, акт ТП | AD11: дальнейшие мероприятия не требуются
A12: 5 | B12: 5 | C12: 43907 | D12: 0.69444444 | F12: + | K12: + | S12: + | W12: + | Z12: + | AC12: Выданы: Заявка Договор, ТУ, акт ТП | AD12: дальнейшие мероприятия не требуются
A13: 6 | B13: 6 | C13: 43909 | D13: 0.71527778 | F13: + | K13: + | S13: + | W13: + | Z13: + | AC13: Выданы: Заявка Договор, ТУ, акт ТП | AD13: дальнейшие мероприятия не требуются
A14: 7 | B14: 7 | C14: 07.04.2020. | D14: 0.38888889 | F14: + | K14: + | S14: + | W14: + | Z14: + | AC14: Выданы: Заявка Договор, ТУ, акт ТП | AD14: дальнейшие мероприятия не требуются
A15: 8 | B15: 8 | C15: 43964 | D15: 0.41666667 | F15: + | K15: + | S15: + | W15: + | Z15: + | AC15: Выданы: Заявка Договор, ТУ, акт ТП | AD15: дальнейшие мероприятия не требуются
A16: 9 | B16: 9 | C16: 43970 | D16: 0.46180556 | E16: + | K16: + | S16: + | W16: + | Z16: + | AC16: Выданы: Заявка Договор, ТУ, акт ТП | AD16: дальнейшие мероприятия не требуются
A17: 10 | B17: 10 | C17: 43976 | D17: 0.52777778 | E17: + | K17: + | S17: + | W17: + | Z17: + | AC17: Выданы: Заявка Договор, ТУ, акт ТП | AD17: дальнейшие мероприятия не требуются
A18: 11 | B18: 11 | C18: 43983 | D18: 0.58680556 | E18: + | K18: + | S18: + | W18: + | Z18: + | AC18: Выданы: Заявка Договор, ТУ, акт ТП | AD18: дальнейшие мероприятия не требуются
A19: 12 | B19: 12 | C19: 43985 | D19: 0.38958333 | E19: + | K19: + | S19: + | W19: + | Z19: + | AC19: Выданы: Заявка Договор, ТУ, акт ТП | AD19: дальнейшие мероприятия не требуются
A20: 13 | B20: 13 | C20: 43990 | D20: 0.40277778 | E20: + | K20: + | S20: + | W20: + | Z20: + | AC20: Выданы: Заявка Договор, ТУ, акт ТП | AD20: дальнейшие мероприятия не требуются
A21: 14 | B21: 14 | C21: 11.0862020 | D21: 0.44097222 | E21: + | K21: + | S21: + | W21: + | Z21: + | AC21: Выданы: Заявка Договор, ТУ, акт ТП | AD21: дальнейшие мероприятия не требуются
A22: 15 | B22: 15 | C22: 43998 | D22: 0.47013889 | E22: + | K22: + | S22: + | W22: + | Z22: + | AC22: Выданы: Заявка Договор, ТУ, акт ТП | AD22: дальнейшие мероприятия не требуются
A23: 16 | B23: 16 | C23: 44007 | D23: 0.52083333 | F23: + | K23: + | S23: + | W23: + | Z23: + | AC23: Выданы: Заявка Договор, ТУ, акт ТП | AD23: дальнейшие мероприятия не требуются
A24: 17 | B24: 17 | C24: 44014 | D24: 0.59027778 | E24: + | K24: + | S24: + | W24: + | Z24: + | AC24: Выданы: Заявка Договор, ТУ, акт ТП | AD24: дальнейшие мероприятия не требуются
A25: 18 | B25: 18 | C25: 44019 | D25: 0.63888889 | F25: + | K25: + | S25: + | W25: + | Z25: + | AC25: Выданы: Заявка Договор, ТУ, акт ТП | AD25: дальнейшие мероприятия не требуются
A26: 19 | B26: 19 | C26: 44061 | D26: 0.66666667 | F26: + | K26: + | S26: + | W26: + | Z26: + | AC26: Выданы: Заявка Договор, ТУ, акт ТП | AD26: дальнейшие мероприятия не требуются
A27: 20 | B27: 20 | C27: 44063 | D27: 0.68541667 | E27: + | K27: + | S27: + | W27: + | Z27: + | AC27: Выданы: Заявка Договор, ТУ, акт ТП | AD27: дальнейшие мероприятия не требуются
A28: 21 | B28: 21 | C28: 44068 | D28: 0.69791667 | E28: + | K28: + | S28: + | W28: + | Z28: + | AC28: Выданы: Заявка Договор, ТУ, акт ТП | AD28: дальнейшие мероприятия не требуются
A29: 22 | B29: 22 | C29: 44069 | D29: 0.73541667 | G29: + | K29: + | S29: + | W29: + | Z29: + | AC29: Выданы: Заявка Договор, ТУ, акт ТП | AD29: дальнейшие мероприятия не требуются
A30: 23 | B30: 23 | C30: 44086 | D30: 0.40625 | F30: + | K30: + | S30: + | W30: + | Z30: + | AC30: Выданы: Заявка Договор, ТУ, акт ТП | AD30: дальнейшие мероприятия не требуются
A31: 24 | B31: 24 | C31: 44140 | D31: 0.43402778 | F31: + | K31: + | S31: + | W31: + | Z31: + | AC31: Выданы: Заявка Договор, ТУ, акт ТП | AD31: дальнейшие мероприятия не требуются
A32: 25 | B32: 25 | C32: 44150 | D32: 0.46875 | F32: + | K32: + | S32: + | W32: + | Z32: + | AC32: Выданы: Заявка Договор, ТУ, акт ТП | AD32: дальнейшие мероприятия не требуются
A33: 26 | B33: 26 | C33: 44180 | D33: 0.52083333 | F33: + | K33: + | S33: + | W33: + | Z33: + | AC33: Выданы: Заявка Договор, ТУ, акт ТП | AD33: дальнейшие мероприятия не требуются

Sheet Форма 2.1 2019
A2: Форма 2.1 - Расчет значения индикатора информативности за 2019год
K3: МУ МПЖКХ Гусь-Железный
K4: (наименование территориальной сетевой организации)
A6: Наименование параметра (критерия), характеризующего индикатор | AT6: Значение | BR6: Ф / П * 100, % | CE6: Зависи-мость | CR6: Оценочный балл
AT7: факти-ческое (Ф) | BF7: плановое (П)
A8: 1 | AT8: 2 | BF8: 3 | BR8: 4 | CE8: 5 | CR8: 6
B9: 1. Возможность личного приема заявителей и потребителей услуг уполномоченными должностными лицами территориальной сетевой организации - всего, | AT9: - | BF9: - | BR9: - | CE9: - | CR9: =(CR11+CR13)/2 -> 2
B10: в том числе, по критериям:
B11: 1.1. Количество структурных | AT11: 5 | BF11: 5 | BR11: =AT11/BF11 -> 1 | CE11: прямая | CR11: 2
B12: подразделений по работе с заявителями и потребителями услуг в процентном отношении к общему количеству структурных подразделений
B13: 1.2. Количество утвержденных | AT13: =SUM(AT15:BE18) -> 11 | BF13: =SUM(BF15:BQ18) -> 11 | BR13: 1 | CE13: прямая | CR13: 2
B14: территориальной сетевой организацией в установленном порядке организационно-распорядительных документов по вопросам работы с заявителями и потребителями услуг - всего, шт., в том числе:
B15: а) регламенты оказания услуг и рассмотрения обращений заявителей и потребителей услуг, шт. | AT15: 4 | BF15: 4 | BR15: 1 | CE15: - | CR15: -
B16: б) наличие положения о деятельности структурного подразделения по работе с заявителями и потребителями услуг (наличие - 1, отсутствие - 0), шт. | AT16: 1 | BF16: 1 | BR16: 1 | CE16: - | CR16: -
B17: в) должностные инструкции сотрудников, обслуживающих заявителей и потребителей услуг, шт. | AT17: 4 | BF17: 4 | BR17: 1 | CE17: - | CR17: -
B18: г) утвержденные территориальной сетевой организацией в установленном порядке формы отчетности о работе с заявителями и потребителями услуг, шт. | AT18: 2 | BF18: 2 | BR18: 1 | CE18: - | CR18: -
B19: 2. Наличие телефонной связи для обращений потребителей услуг к уполномоченным должностным лицам территориальной сетевой организации, в том числе по критериям: | AT19: - | BF19: - | BR19: - | CE19: - | CR19: =(CR20+CR22+CR24)/3 -> 2
B20: 2.1. Наличие единого телефонного | AT20: 1 | BF20: 1 | BR20: =AT20/BF20 -> 1 | CE20: прямая | CR20: 2
B21: номера для приема обращений потребителей услуг (наличие - 1, отсутствие - 0)
B22: 2.2. Наличие информационно- | AT22: 0 | BF22: 0 | BR22: =IF(BF22=0,100%,AT22/BF22) -> 1 | CE22: прямая | CR22: 2
B23: справочной системы для автоматизации обработки обращений потребителей услуг, поступивших по телефону (наличие - 1, отсутствие - 0)
B24: 2.3. Наличие системы | AT24: 0 | BF24: 0 | BR24: =IF(BF24=0,100%,AT24/BF24) -> 1 | CE24: прямая | CR24: 2
B25: автоинформирования потребителей услуг по телефону, предназначенной для доведения до них типовой информации (наличие - 1, отсутствие - 0)
B26: 3. Наличие в сети Интернет сайта территориальной сетевой организации с возможностью обмена информацией с потребителями услуг посредством электронной почты (наличие - 1, отсутствие - 0) | AT26: 1 | BF26: 1 | BR26: 1 | CE26: прямая | CR26: 2
B27: 4. Проведение мероприятий по доведению до сведения потребителей услуг необходимой информации, в том числе путем ее размещения в сети Интернет, на бумажных носителях или иными доступными способами (проведение - 1, отсутствие - 0) | AT27: 1 | BF27: 1 | BR27: 1 | CE27: прямая | CR27: 2
B28: 5. Простота и доступность схемы обжалования потребителями услуг действий должностных лиц территориальной сетевой организации, по критерию | CE28: обратная | CR28: =CR29/1 -> 1
B29: 5.1. Общее количество обращений потребителей услуг о проведении консультаций по порядку обжалования действий (бездействия) территориальной сетевой организации в ходе исполнения своих функций в процентах от общего количества поступивших обращений | AT29: 0 | BF29: 0.08 | BR29: =AT29/BF29 -> 0 | CR29: 1
B30: 6. Степень полноты, актуальности и достоверности предоставляемой потребителям услуг информации о деятельности территориальной сетевой организации - всего, в том числе по критериям: | AT30: - | BF30: - | BR30: - | CE30: - | CR30: =(CR31+CR33)/2 -> 1
B31: 6.1. Общее количество обращений | AT31: 0 | BF31: 0.12 | BR31: =AT31/BF31 -> 0 | CE31: обратная | CR31: 1
B32: потребителей услуг о проведении консультаций по вопросам деятельности территориальной сетевой организации в процентах от общего количества поступивших обращений
B33: 6.2. Количество обращений | AT33: 0 | BF33: 0.12 | BR33: =AT33/BF33 -> 0 | CE33: обратная | CR33: 1
B34: потребителей услуг с указанием на отсутствие необходимой информации, которая должна быть раскрыта территориальной сетевой организацией в соответствии с нормативными правовыми актами, в процентах от общего количества поступивших обращений
B35: 7. Итого по индикатору информативности | AT35: - | BF35: - | BR35: - | CE35: - | CR35: =(CR9+CR19+CR26+CR27+CR28+CR30)/6 -> 1.6666667
F37: Начальник | AU37: А.А. Куликов
F38: (должность) | AU38: (Ф.И.О.) | CE38: (подпись)

Sheet Форма 2.2 2019
A2: Форма 2.2 - Расчет значения индикатора исполнительности за 2019год
K3: МУ МПЖКХ Гусь-Железный
K4: (наименование территориальной сетевой организации)
A6: Наименование параметра (показателя), характеризующего индикатор | AT6: Значение | BR6: Ф / П * 100, % | CE6: Зависи-мость | CR6: Оценочный балл
AT7: факти-ческое (Ф) | BF7: плановое (П)
A8: 1 | AT8: 2 | BF8: 3 | BR8: 4 | CE8: 5 | CR8: 6
B9: 1. Соблюдение сроков по процедурам взаимодействия с потребителями услуг (заявителями) - всего | AT9: - | BF9: - | BR9: - | CE9: - | CR9: =AVERAGE(CR11:DD16) -> 0.41666667
B10: в том числе по критериям:
B11: 1.1. Среднее время, затраченное территориальной сетевой организацией на направление проекта договора оказания услуг по передаче электрической энергии потребителю услуг (заявителю), дней | AT11: 7 | BF11: 30 | BR11: =AT11/BF11 -> 0.23333333 | CE11: обратная | CR11: 0.25
B13: 1.2. Среднее время, необходимое для оборудования точки поставки приборами учета с момента подачи заявления потребителем услуг: | AT13: - | BF13: -
B14: а) для физических лиц, включая индивидуальных предпринимателей, и юридических лиц - субъектов малого и среднего предпринимательства, дней | AT14: 30 | BF14: 30 | BR14: =AT14/BF14 -> 1 | CE14: обратная | CR14: 0.5
B15: б) для остальных потребителей услуг, дней | AT15: 90 | BF15: 90 | BR15: 1 | CE15: обратная
B16: 1.3. Количество случаев отказа от заключения и случаев расторжения потребителем услуг договоров оказания услуг по передаче электрической энергии, процентов от общего количества заключенных территориальной сетевой организацией договоров с потребителями услуг (заявителями), кроме физических лиц | AT16: 0 | BF16: 0 | BR16: 1 | CE16: обратная | CR16: 0.5
B17: 2. Соблюдение требований нормативных правовых актов Российской Федерации по поддержанию качества электрической энергии, по критерию | CR17: =AVERAGE(CR18) -> 0.5
B18: 2.1. Количество обращений потребителей услуг с указанием на ненадлежащее качество электрической энергии, процентов от общего количества поступивших обращений | AT18: 0 | BF18: 0 | BR18: 1 | CE18: обратная | CR18: 0.5
B19: 3. Наличие взаимодействия с потребителями услуг при выводе оборудования в ремонт и (или) из эксплуатации | AT19: - | BF19: - | BR19: - | CE19: - | CR19: =AVERAGE(CR21:DD23) -> 0.5
B20: в том числе по критериям:
B21: 3.1. Наличие (отсутствие) установленной процедуры согласования с потребителями услуг графиков вывода электросетевого оборудования в ремонт и (или) из эксплуатации | AT21: 1 | BF21: 1 | BR21: 1 | CE21: прямая | CR21: 0.5
B22: (наличие - 1, отсутствие - 0)
B23: 3.2. Количество обращений потребителей услуг с указанием на несогласие введения предлагаемых территориальной сетевой организацией графиков вывода электросетевого оборудования в ремонт и (или) из эксплуатации, процентов от общего количества поступивших обращений, кроме физических лиц | AT23: 0 | BF23: 0 | BR23: 1 | CE23: обратная | CR23: 0.5
B24: 4. Соблюдение требований нормативных правовых актов по защите персональных данных потребителей услуг (заявителей), по критерию | CR24: =AVERAGE(CR25) -> 0
B25: 4.1. Количество обращений потребителей услуг (заявителей) с указанием на неправомерность использования персональных данных потребителей услуг (заявителей), процентов от общего количества поступивших обращений | AT25: 0 | BF25: 0 | BR25: 1 | CE25: обратная | CR25: 0
B26: 5. Итого по индикатору исполнительности | CR26: =AVERAGE(CR9,CR17,CR19,CR24) -> 0.35416667
F28: Начальник | AU28: А.А. Куликов
F29: (должность) | AU29: (Ф.И.О.) | CE29: (подпись)

Sheet Форма 2.1 2020
A2: Форма 2.1 - Расчет значения индикатора информативности за 2020год | DE2: 4
K3: МУ МПЖКХ Гусь-Железный
K4: (наименование территориальной сетевой организации)
A6: Наименование параметра (критерия), характеризующего индикатор | AT6: Значение | BR6: Ф / П * 100, % | CE6: Зависи-мость | CR6: Оценочный балл
AT7: факти-ческое (Ф) | BF7: плановое (П)
A8: 1 | AT8: 2 | BF8: 3 | BR8: 4 | CE8: 5 | CR8: 6
B9: 1. Возможность личного приема заявителей и потребителей услуг уполномоченными должностными лицами территориальной сетевой организации - всего, | AT9: - | BF9: - | BR9: - | CE9: - | CR9: =(CR11+CR13)/2 -> 2
B10: в том числе, по критериям:
B11: 1.1. Количество структурных | AT11: 5 | BF11: 5 | BR11: =AT11/BF11 -> 1 | CE11: прямая | CR11: 2
B12: подразделений по работе с заявителями и потребителями услуг в процентном отношении к общему количеству структурных подразделений
B13: 1.2. Количество утвержденных | AT13: =SUM(AT15:BE18) -> 12 | BF13: =SUM(BF15:BQ18) -> 12 | BR13: =AT13/BF13 -> 1 | CE13: прямая | CR13: 2
B14: территориальной сетевой организацией в установленном порядке организационно-распорядительных документов по вопросам работы с заявителями и потребителями услуг - всего, шт., в том числе:
B15: а) регламенты оказания услуг и рассмотрения обращений заявителей и потребителей услуг, шт. | AT15: 4 | BF15: 4 | BR15: =AT15/BF15 -> 1 | CE15: - | CR15: -
B16: б) наличие положения о деятельности структурного подразделения по работе с заявителями и потребителями услуг (наличие - 1, отсутствие - 0), шт. | AT16: 1 | BF16: 1 | BR16: =AT16/BF16 -> 1 | CE16: - | CR16: -
B17: в) должностные инструкции сотрудников, обслуживающих заявителей и потребителей услуг, шт. | AT17: 5 | BF17: 5 | BR17: =AT17/BF17 -> 1 | CE17: - | CR17: -
B18: г) утвержденные территориальной сетевой организацией в установленном порядке формы отчетности о работе с заявителями и потребителями услуг, шт. | AT18: 2 | BF18: 2 | BR18: =AT18/BF18 -> 1 | CE18: - | CR18: -
B19: 2. Наличие телефонной связи для обращений потребителей услуг к уполномоченным должностным лицам территориальной сетевой организации, в том числе по критериям: | AT19: - | BF19: - | BR19: - | CE19: - | CR19: =(CR20+CR22+CR24)/3 -> 2
B20: 2.1. Наличие единого телефонного | AT20: 1 | BF20: 1 | BR20: =AT20/BF20 -> 1 | CE20: прямая | CR20: 2
B21: номера для приема обращений потребителей услуг (наличие - 1, отсутствие - 0)
B22: 2.2. Наличие информационно- | AT22: 0 | BF22: 0 | BR22: =IF(BF22=0,100%,AT22/BF22) -> 1 | CE22: прямая | CR22: 2 | DE22: 5
B23: справочной системы для автоматизации обработки обращений потребителей услуг, поступивших по телефону (наличие - 1, отсутствие - 0)
B24: 2.3. Наличие системы | AT24: 0 | BF24: 0 | BR24: =IF(BF24=0,100%,AT24/BF24) -> 1 | CE24: прямая | CR24: 2
B25: автоинформирования потребителей услуг по телефону, предназначенной для доведения до них типовой информации (наличие - 1, отсутствие - 0)
B26: 3. Наличие в сети Интернет сайта территориальной сетевой организации с возможностью обмена информацией с потребителями услуг посредством электронной почты (наличие - 1, отсутствие - 0) | AT26: 1 | BF26: 1 | BR26: =AT26/BF26 -> 1 | CE26: прямая | CR26: 2
B27: 4. Проведение мероприятий по доведению до сведения потребителей услуг необходимой информации, в том числе путем ее размещения в сети Интернет, на бумажных носителях или иными доступными способами (проведение - 1, отсутствие - 0) | AT27: 1 | BF27: 1 | BR27: =AT27/BF27 -> 1 | CE27: прямая | CR27: 2
B28: 5. Простота и доступность схемы обжалования потребителями услуг действий должностных лиц территориальной сетевой организации, по критерию | CE28: обратная | CR28: =CR29/1 -> 1
B29: 5.1. Общее количество обращений потребителей услуг о проведении консультаций по порядку обжалования действий (бездействия) территориальной сетевой организации в ходе исполнения своих функций в процентах от общего количества поступивших обращений | AT29: 0 | BF29: 0.08 | BR29: =AT29/BF29 -> 0 | CR29: 1
B30: 6. Степень полноты, актуальности и достоверности предоставляемой потребителям услуг информации о деятельности территориальной сетевой организации - всего, в том числе по критериям: | AT30: - | BF30: - | BR30: - | CE30: - | CR30: =(CR31+CR33)/2 -> 1
B31: 6.1. Общее количество обращений | AT31: 0 | BF31: 0.12 | BR31: =AT31/BF31 -> 0 | CE31: обратная | CR31: 1
B32: потребителей услуг о проведении консультаций по вопросам деятельности территориальной сетевой организации в процентах от общего количества поступивших обращений
B33: 6.2. Количество обращений | AT33: 0 | BF33: 0.12 | BR33: =AT33/BF33 -> 0 | CE33: обратная | CR33: 1 | DE33: 6
B34: потребителей услуг с указанием на отсутствие необходимой информации, которая должна быть раскрыта территориальной сетевой организацией в соответствии с нормативными правовыми актами, в процентах от общего количества поступивших обращений
B35: 7. Итого по индикатору информативности | AT35: - | BF35: - | BR35: - | CE35: - | CR35: =(CR9+CR19+CR26+CR27+CR28+CR31)/6 -> 1.6666667
F37: Начальник | AU37: А.А. Куликов
F38: (должность) | AU38: (Ф.И.О.) | CE38: (подпись)

Sheet Форма 2.2 2020
A2: Форма 2.2 - Расчет значения индикатора исполнительности за 2020год
K3: МУ МПЖКХ Гусь-Железный
K4: (наименование территориальной сетевой организации)
A6: Наименование параметра (показателя), характеризующего индикатор | AT6: Значение | BR6: Ф / П * 100, % | CE6: Зависи-мость | CR6: Оценочный балл
AT7: факти-ческое (Ф) | BF7: плановое (П)
A8: 1 | AT8: 2 | BF8: 3 | BR8: 4 | CE8: 5 | CR8: 6
B9: 1. Соблюдение сроков по процедурам взаимодействия с потребителями услуг (заявителями) - всего | AT9: - | BF9: - | BR9: - | CE9: - | CR9: =(CR11+CR13+CR16)/3 -> 0.41666667
B10: в том числе по критериям:
B11: 1.1. Среднее время, затраченное территориальной сетевой организацией на направление проекта договора оказания услуг по передаче электрической энергии потребителю услуг (заявителю), дней | AT11: 7 | BF11: 30 | BR11: =AT11/BF11 -> 0.23333333 | CE11: обратная | CR11: 0.25
B13: 1.2. Среднее время, необходимое для оборудования точки поставки приборами учета с момента подачи заявления потребителем услуг: | AT13: - | BF13: - | BR13: =(BR14+BR15)/2 -> 1 | CE13: обратная | CR13: 0.5
B14: а) для физических лиц, включая индивидуальных предпринимателей, и юридических лиц - субъектов малого и среднего предпринимательства, дней | AT14: 30 | BF14: 30 | BR14: =AT14/BF14 -> 1 | CE14: - | CR14: -
B15: б) для остальных потребителей услуг, дней | AT15: 90 | BF15: 90 | BR15: =AT15/BF15 -> 1 | CE15: - | CR15: -
B16: 1.3. Количество случаев отказа от заключения и случаев расторжения потребителем услуг договоров оказания услуг по передаче электрической энергии, процентов от общего количества заключенных территориальной сетевой организацией договоров с потребителями услуг (заявителями), кроме физических лиц | AT16: 0 | BF16: 0 | BR16: 1 | CE16: обратная | CR16: 0.5
B17: 2. Соблюдение требований нормативных правовых актов Российской Федерации по поддержанию качества электрической энергии, по критерию | AT17: =AT18 -> 0 | BF17: =BF18 -> 0 | BR17: 1 | CR17: =CR18 -> 0.5
B18: 2.1. Количество обращений потребителей услуг с указанием на ненадлежащее качество электрической энергии, процентов от общего количества поступивших обращений | AT18: 0 | BF18: 0 | BR18: 1 | CE18: обратная | CR18: 0.5
B19: 3. Наличие взаимодействия с потребителями услуг при выводе оборудования в ремонт и (или) из эксплуатации | AT19: - | BF19: - | BR19: - | CE19: - | CR19: =(CR21+CR23)/2 -> 0.5
B20: в том числе по критериям:
B21: 3.1. Наличие (отсутствие) установленной процедуры согласования с потребителями услуг графиков вывода электросетевого оборудования в ремонт и (или) из эксплуатации | AT21: 1 | BF21: 1 | BR21: =AT21/BF21 -> 1 | CE21: прямая | CR21: 0.5
B22: (наличие - 1, отсутствие - 0)
B23: 3.2. Количество обращений потребителей услуг с указанием на несогласие введения предлагаемых территориальной сетевой организацией графиков вывода электросетевого оборудования в ремонт и (или) из эксплуатации, процентов от общего количества поступивших обращений, кроме физических лиц | AT23: 0 | BF23: 0 | BR23: 1 | CE23: обратная | CR23: 0.5
B24: 4. Соблюдение требований нормативных правовых актов по защите персональных данных потребителей услуг (заявителей), по критерию | CR24: =AVERAGE(CR25) -> 0.5
B25: 4.1. Количество обращений потребителей услуг (заявителей) с указанием на неправомерность использования персональных данных потребителей услуг (заявителей), процентов от общего количества поступивших обращений | AT25: 0 | BF25: 0 | BR25: 1 | CE25: обратная | CR25: 0.5
B26: 5. Итого по индикатору исполнительности | CR26: =(CR9+CR17+CR19+CR24)/4 -> 0.47916667
F28: Начальник | AU28: А.А. Куликов
F29: (должность) | AU29: (Ф.И.О.) | CE29: (подпись)

Sheet Форма 2.3 2020
A2: Форма 2.3 - Расчет значения индикатора результативности обратной связи за 2020год
K3: МУ МПЖКХ Гусь-Железный
K4: (наименование территориальной сетевой организации)
A6: Наименование параметра (показателя), характеризующего индикатор | AT6: Значение | BR6: Ф / П * 100, % | CE6: Зависи-мость | CR6: Оценочный балл
AT7: факти-ческое (Ф) | BF7: плановое (П)
A8: 1 | AT8: 2 | BF8: 3 | BR8: 4 | CE8: 5 | CR8: 6
B9: 1. Наличие структурного подразделения территориальной сетевой организации по рассмотрению, обработке и принятию мер по обращениям потребителей услуг (наличие - 1, отсутствие - 0) | AT9: 1 | BF9: 1 | BR9: =AT9/BF9 -> 1 | CE9: прямая | CR9: 2
B11: 2. Степень удовлетворения обращений потребителей услуг | AT11: - | BF11: - | BR11: - | CE11: - | CR11: =(CR13+CR15+CR17+CR19+CR21+CR23)/6 -> 1.8333333
B12: в том числе по критериям:
B13: 2.1. Общее количество обращений | AT13: 0 | BF13: 12 | BR13: =AT13/BF13 -> 0 | CE13: обратная | CR13: 1
B14: потребителей услуг с указанием на ненадлежащее качество услуг по передаче электрической энергии и обслуживание, в процентах от общего количества поступивших обращений
B15: 2.2. Количество принятых мер по | AT15: 0 | BF15: 1e-08 | BR15: =AT15/BF15+100% -> 1 | CE15: прямая | CR15: 2
B16: результатам рассмотрения обращений потребителей услуг с указанием на ненадлежащее качество услуг по передаче электрической энергии и обслуживание, в процентах от общего количества поступивших обращений
B17: 2.3. Количество обращений, | AT17: 0 | BF17: 0 | BR17: 1 | CE17: обратная | CR17: 2
B18: связанных с неудовлетворенностью принятыми мерами, указанными в п. 2.2 настоящей формы, поступивших от потребителей услуг в течение 30 рабочих дней после завершения мероприятий, указанных в п. 2.2 настоящей формы, в процентах от общего количества поступивших обращений
B19: 2.4. Количество обращений | AT19: 0 | BF19: 0 | BR19: 1 | CE19: обратная | CR19: 2
B20: потребителей услуг с указанием на ненадлежащее качество услуг, оказываемых территориальной сетевой организацией, поступивших в соответствующий контролирующий орган исполнительной власти, в процентах от общего количества поступивших обращений
B21: 2.5. Количество отзывов и | AT21: 0 | BF21: 1e-07 | BR21: 1 | CE21: прямая | CR21: 2
B22: предложений по вопросам деятельности территориальной сетевой организации, поступивших через обратную связь, в процентах от общего количества поступивших обращений
B23: 2.6. Количество реализованных | AT23: 0 | BF23: 0 | BR23: 1 | CE23: прямая | CR23: 2
B24: изменений в деятельности организации, направленных на повышение качества обслуживания потребителей услуг, шт.
B26: 3. Оперативность реагирования на обращения потребителей услуг - всего, | AT26: - | BF26: - | BR26: - | CE26: - | CR26: =(CR28+CR30)/2 -> 1.5
B27: в том числе по критериям:
B28: 3.1. Средняя продолжительность | AT28: 2 | BF28: 10 | BR28: =AT28/BF28 -> 0.2 | CE28: обратная | CR28: 1
B29: времени принятия мер по результатам обращения потребителя услуг, дней
B30: 3.2. Взаимодействие территориальной | AT30: - | BF30: - | BR30: =SUM(BR32+BR33+BR34)/3 -> 1.008 | CE30: прямая | CR30: 2
B31: сетевой организации с потребителями услуг с целью получения информации о качестве обслуживания, реализованное посредством:
B32: а) письменных опросов, шт. на 1000 потребителей услуг | AT32: 824 | BF32: 1000 | BR32: =AT32/BF32 -> 0.824 | CE32: - | CR32: -
B33: б) электронной связи через сеть Интернет, шт. на 1000 потребителей услуг | AT33: 5 | BF33: 0 | BR33: 1.2 | CE33: - | CR33: -
B34: в)* системы автоинформирования, шт. на 1000 потребителей услуг | AT34: 0 | BF34: 0 | BR34: 1 | CE34: - | CR34: -
B36: 4. Индивидуальность подхода к потребителям услуг льготных категорий, по критерию | AT36: =AT37 -> 0 | BF36: =BF37 -> 0 | BR36: =BR37 -> 1 | CE36: обратная | CR36: =CR37 -> 2
B37: 4.1. Количество обращений потребителей услуг льготных категорий с указанием на неудовлетворительность качества их обслуживания, шт. на 1000 потребителей услуг | AT37: 0 | BF37: 0 | BR37: 1 | CR37: 2
B39: 5. Оперативность возмещения убытков потребителям услуг при несоблюдении территориальной сетевой организацией обязательств, предусмотренных нормативными правовыми актами и договорами | AT39: - | BF39: - | BR39: - | CE39: - | CR39: =(CR41+CR43)/2 -> 1.5
B40: в том числе по критериям:
B41: 5.1. Средняя продолжительность | AT41: 0 | BF41: 1 | BR41: =AT41/BF41 -> 0 | CE41: обратная | CR41: 1
B42: времени на принятие территориальной сетевой организацией мер по возмещению потребителю услуг убытков, месяцев
B43: 5.2. Доля потребителей услуг, | AT43: 0 | BF43: 0 | BR43: 1 | CE43: прямая | CR43: 2
B44: получивших возмещение убытков, возникших в результате неисполнения (ненадлежащего исполнения) территориальной сетевой организацией своих обязательств, от числа потребителей, в пользу которых было вынесено судебное решение, или возмещение было произведено во внесудебном порядке, %
B46: 6. Итого по индикатору результативности обратной связи, Рс | AT46: - | BF46: - | BR46: - | CE46: - | CR46: =(CR9+CR11+CR26+CR36+CR39)/5 -> 1.7666667
F48: Начальник | AU48: А.А. Куликов
F49: (должность) | AU49: (Ф.И.О.) | CE49: (подпись)

Sheet Форма 2.3 2019
A2: Форма 2.3 - Расчет значения индикатора результативности обратной связи за 2019год
K3: МУ МПЖКХ Гусь-Железный
K4: (наименование территориальной сетевой организации)
A6: Наименование параметра (показателя), характеризующего индикатор | AT6: Значение | BR6: Ф / П * 100, % | CE6: Зависи-мость | CR6: Оценочный балл
AT7: факти-ческое (Ф) | BF7: плановое (П)
A8: 1 | AT8: 2 | BF8: 3 | BR8: 4 | CE8: 5 | CR8: 6
B9: 1. Наличие структурного подразделения территориальной сетевой организации по рассмотрению, обработке и принятию мер по обращениям потребителей услуг (наличие - 1, отсутствие - 0) | AT9: 1 | BF9: 1 | BR9: 100 | CE9: прямая | CR9: 2
B11: 2. Степень удовлетворения обращений потребителей услуг | AT11: - | BF11: - | BR11: - | CE11: - | CR11: =(CR13+CR15+CR17+CR19+CR21+CR23)/6 -> 1.5
B12: в том числе по критериям:
B13: 2.1. Общее количество обращений | AT13: 8 | BF13: 130 | BR13: =AT13/130 -> 0.061538462 | CE13: обратная | CR13: 1
B14: потребителей услуг с указанием на ненадлежащее качество услуг по передаче электрической энергии и обслуживание, в процентах от общего количества поступивших обращений
B15: 2.2. Количество принятых мер по | AT15: 0.08 | BF15: 0.09 | BR15: =AT15/BF15 -> 0.88888889 | CE15: прямая | CR15: 1
B16: результатам рассмотрения обращений потребителей услуг с указанием на ненадлежащее качество услуг по передаче электрической энергии и обслуживание, в процентах от общего количества поступивших обращений
B17: 2.3. Количество обращений, | AT17: 0 | BF17: 0 | BR17: 1 | CE17: обратная | CR17: 2
B18: связанных с неудовлетворенностью принятыми мерами, указанными в п. 2.2 настоящей формы, поступивших от потребителей услуг в течение 30 рабочих дней после завершения мероприятий, указанных в п. 2.2 настоящей формы, в процентах от общего количества поступивших обращений
B19: 2.4. Количество обращений | AT19: 0 | BF19: 0 | BR19: 1 | CE19: обратная | CR19: 2
B20: потребителей услуг с указанием на ненадлежащее качество услуг, оказываемых территориальной сетевой организацией, поступивших в соответствующий контролирующий орган исполнительной власти, в процентах от общего количества поступивших обращений
B21: 2.5. Количество отзывов и | AT21: 0.1628 | BF21: 0.0815 | BR21: =AT21/BF21 -> 1.997546 | CE21: прямая | CR21: 1
B22: предложений по вопросам деятельности территориальной сетевой организации, поступивших через обратную связь, в процентах от общего количества поступивших обращений
B23: 2.6. Количество реализованных | AT23: 0 | BF23: 0 | BR23: 1 | CE23: прямая | CR23: 2
B24: изменений в деятельности организации, направленных на повышение качества обслуживания потребителей услуг, шт.
B26: 3. Оперативность реагирования на обращения потребителей услуг - всего, | AT26: - | BF26: - | BR26: - | CE26: - | CR26: =(CR28+CR30)/2 -> 1.5
B27: в том числе по критериям:
B28: 3.1. Средняя продолжительность | AT28: 7 | BF28: 10 | BR28: =AT28/BF28 -> 0.7 | CE28: обратная | CR28: 1
B29: времени принятия мер по результатам обращения потребителя услуг, дней
B30: 3.2. Взаимодействие территориальной | AT30: - | BF30: - | CE30: прямая | CR30: 2
B31: сетевой организации с потребителями услуг с целью получения информации о качестве обслуживания, реализованное посредством:
B32: а) письменных опросов, шт. на 1000 потребителей услуг | AT32: 824 | BF32: 1000 | BR32: =AT32/BF32 -> 0.824 | CE32: - | CR32: -
B33: б) электронной связи через сеть Интернет, шт. на 1000 потребителей услуг | AT33: 3 | BF33: 0 | BR33: 1.2 | CE33: - | CR33: -
B34: в)* системы автоинформирования, шт. на 1000 потребителей услуг | AT34: 0 | BF34: 0 | BR34: 1 | CE34: - | CR34: -
B36: 4. Индивидуальность подхода к потребителям услуг льготных категорий, по критерию | CE36: обратная | CR36: =CR37/1 -> 2
B37: 4.1. Количество обращений потребителей услуг льготных категорий с указанием на неудовлетворительность качества их обслуживания, шт. на 1000 потребителей услуг | AT37: 0 | BF37: 0 | BR37: 1 | CR37: 2
B39: 5. Оперативность возмещения убытков потребителям услуг при несоблюдении территориальной сетевой организацией обязательств, предусмотренных нормативными правовыми актами и договорами | AT39: - | BF39: - | BR39: - | CE39: - | CR39: =(CR41+CR43)/2 -> 2
B40: в том числе по критериям:
B41: 5.1. Средняя продолжительность | AT41: 1 | BF41: 1 | BR41: 1 | CE41: обратная | CR41: 2
B42: времени на принятие территориальной сетевой организацией мер по возмещению потребителю услуг убытков, месяцев
B43: 5.2. Доля потребителей услуг, | AT43: 0 | BF43: 0 | BR43: 1 | CE43: прямая | CR43: 2
B44: получивших возмещение убытков, возникших в результате неисполнения (ненадлежащего исполнения) территориальной сетевой организацией своих обязательств, от числа потребителей, в пользу которых было вынесено судебное решение, или возмещение было произведено во внесудебном порядке, %
B46: 6. Итого по индикатору результативности обратной связи, Рс | AT46: - | BF46: - | BR46: - | CE46: - | CR46: =(CR9+CR11+CR26+CR36+CR39)/5 -> 1.8
F48: Начальник | AU48: А.А. Куликов
F49: (должность) | AU49: (Ф.И.О.) | CE49: (подпись)
A52: _____*_Расчет производится при наличии в территориальной сетевой организации Системы автоинформирования (голосовая, СМС и другим способом).

Sheet Форма 3.1 2019
B3: Форма 3.1 - Отчетные данные для расчета значения показателя качества рассмотрения заявок на технологическое присоединение к сети в период 2019 год
B5: МУ МПЖКХ Гусь-Железный
B6: Наименование электросетевой организации (подразделения/филиала)
B8: Показатель | C8: Число, шт.
B9: 1 | C9: 2
B10: Число заявок на технологическое присоединение к сети, поданных в соответствии с требованиями нормативных правовых актов, по которым сетевой организацией в соответствующий расчетный период направлен проект договора об осуществлении технологического присоединения заявителей к сети, шт. ( Nзаяв _тпр ) | C10: 10
B11: Число заявок на технологическое присоединение к сети, поданных в соответствии с требованиями нормативных правовых актов, по которым сетевой организацией в соответствующий расчетный период направлен проект договора об осуществлении технологического присоединения заявителей к сети с нарушением установленных сроков его направления, шт. ( Nзаяв нс _тпр) | C11: 0
B12: Показатель качества рассмотрения заявок на технологическое присоединение к сети ( ) | C12: =C10/(C10-C11) -> 1
B19: Начальник МУ МПЖКХ Гусь-Железный А.А. Куликов
B21: где: Nзаяв _тпр, число поданных в соответствии с требованиями нормативных правовых актов заявок на технологическое присоединение к сети, по которым сетевой организацией в соответствующий расчетный период направлен проект договора об осуществлении технологического присоединения заявителей к сети, шт.; Nзаяв. нс _тпр- число поданных в соответствии с требованиями нормативных правовых актов заявок на технологическое присоединение к сети, по которым сетевой организацией в соответствующий расчетный период направлен проект договора об осуществлении технологического присоединения заявителей к сети с нарушением установленных сроков его направления, шт
