Workbook

Sheet Лист1
A1: Информация о вводе в ремонт и выводе из ремонта электросетевых объектов
A2: за | B2: =B7 -> 44412.604 | C2: года
A4: Наименование объекта | B4: Дата ввода в ремонт | D4: Дата вывода из ремонта | F4: Примечания
B5: План | C5: Факт | D5: План | E5: Факт
A6: =[1]июнь!D11 -> п. Лашма ТП-6 ВЛ-0,4 кВ ф2 | B6: =IF([1]август!H11="П",[1]август!F11,0) -> 44412.542 | C6: =IF([1]август!H11="П",[1]август!G11,0) -> 44412.583 | D6: =B6 -> 44412.542 | E6: =C6 -> 44412.583
A7: =[1]август!D12 -> д.Лощинино ПС-Касимов ТП-2281 | B7: =IF([1]август!H12="П",[1]август!F12,0) -> 44412.604 | C7: =IF([1]август!H12="П",[1]август!G12,0) -> 44412.667 | D7: =B7 -> 44412.604 | E7: =C7 -> 44412.667
A8: =[1]август!D13 -> д.Лощинино ПС-Касимов ТП-2588 | B8: =IF([1]август!H13="П",[1]август!F13,0) -> 44412.688 | C8: =IF([1]август!H13="П",[1]август!G13,0) -> 44412.75 | D8: =B8 -> 44412.688 | E8: =C8 -> 44412.75
A9: =[1]август!D14 -> п.Малеевский карьер ПС-Телебукино КТП-2 | B9: =IF([1]август!H14="П",[1]август!F14,0) -> 44413.458 | C9: =IF([1]август!H14="П",[1]август!G14,0) -> 44413.5 | D9: =B9 -> 44413.458 | E9: =C9 -> 44413.5
A10: =[1]август!D15 -> п.Ташенка ПС-Зеленино ВЛ10кВ ф3 | B10: =IF([1]август!H15="П",[1]август!F15,0) -> 44418.375 | C10: =IF([1]август!H15="П",[1]август!G15,0) -> 44418.583 | D10: =B10 -> 44418.375 | E10: =C10 -> 44418.583
A11: =[1]август!D16 -> п.Лашма ТП-1 ВЛ 0,4кВ ВЛ-10кВ ф1 | B11: =IF([1]август!H16="П",[1]август!F16,0) -> 44419.417 | C11: =IF([1]август!H16="П",[1]август!G16,0) -> 44419.604 | D11: =B11 -> 44419.417 | E11: =C11 -> 44419.604
A12: =[1]август!D21 -> КТП-11,ф.3 ВЛ-0,4кВ Елатьма | B12: =IF([1]август!H21="П",[1]август!F21,0) -> 44410.375 | C12: =IF([1]август!H21="П",[1]август!G21,0) -> 44410.458 | D12: =B12 -> 44410.375 | E12: =C12 -> 44410.458
A13: =[1]август!D22 -> ЗТП-9, ф.1 ВЛ-0,4кВ Елатьма | B13: =IF([1]август!H22="П",[1]август!F22,0) -> 44411.375 | C13: =IF([1]август!H22="П",[1]август!G22,0) -> 44411.542 | D13: =B13 -> 44411.375 | E13: =C13 -> 44411.542
A14: =[1]август!D23 -> ЗТП-9, ф.1 ВЛ-0,4кВ Елатьма | B14: =IF([1]август!H23="П",[1]август!F23,0) -> 44413.375 | C14: =IF([1]август!H23="П",[1]август!G23,0) -> 44413.5 | D14: =B14 -> 44413.375 | E14: =C14 -> 44413.5
A15: =[1]август!D24 -> ТП-2165,ф.2 ВЛ-0,4кВ Сосновка | B15: =IF([1]август!H24="П",[1]август!F24,0) -> 44414.375 | C15: =IF([1]август!H24="П",[1]август!G24,0) -> 44414.5 | D15: =B15 -> 44414.375 | E15: =C15 -> 44414.5
A16: =[1]август!D25 -> ЗТП-9, ф.1 ВЛ-0,4кВ Елатьма | B16: =IF([1]август!H25="П",[1]август!F25,0) -> 44419.375 | C16: =IF([1]август!H25="П",[1]август!G25,0) -> 44419.5 | D16: =B16 -> 44419.375 | E16: =C16 -> 44419.5
A17: =[1]август!D26 -> ТП-2165,ф.2 ВЛ-0,4кВ Сосновка | B17: =IF([1]август!H26="П",[1]август!F26,0) -> 44425.375 | C17: =IF([1]август!H26="П",[1]август!G26,0) -> 44425.521 | D17: =B17 -> 44425.375 | E17: =C17 -> 44425.521
A18: =[1]август!D27 -> п/с Сабурово 110/10 кВ ф.7 | B18: =IF([1]август!H27="П",[1]август!F27,0) -> 0 | C18: =IF([1]август!H27="П",[1]август!G27,0) -> 0 | D18: =B18 -> 0 | E18: =C18 -> 0
A19: =[1]август!D28 -> ТП-4,ф.3 ВЛ-0,4кВ Елатьма | B19: =IF([1]август!H28="П",[1]август!F28,0) -> 44432.375 | C19: =IF([1]август!H28="П",[1]август!G28,0) -> 44432.479 | D19: =B19 -> 44432.375 | E19: =C19 -> 44432.479
A20: =[1]август!D29 -> ТП-2179 ВЛ-10кВ Любовниково | B20: =IF([1]август!H29="П",[1]август!F29,0) -> 44435.25 | C20: =IF([1]август!H29="П",[1]август!G29,0) -> 44435.292 | D20: =B20 -> 44435.25 | E20: =C20 -> 44435.292
A21: =[1]август!D30 -> ТП-2497,ТП-2494 ВЛ-10кВ Маяк | B21: =IF([1]август!H30="П",[1]август!F30,0) -> 44435.708 | C21: =IF([1]август!H30="П",[1]август!G30,0) -> 44435.833 | D21: =B21 -> 44435.708 | E21: =C21 -> 44435.833

Sheet Лист2

Sheet Лист3
