Workbook

Sheet Лист1
A1: Информация о вводе в ремонт и выводе из ремонта электросетевых объектов
A2: за | B2: сентябрь | C2: 2021 г.
A4: Наименование объекта | B4: Дата ввода в ремонт | D4: Дата вывода из ремонта | F4: Примечания
B5: План | C5: Факт | D5: План | E5: Факт
A6: =[1]сентябрь!D12 -> ПС-Лашма ф5 ВЛ-10кВ | B6: =IF([1]сентябрь!H12="П",[1]сентябрь!F12,0) -> 0 | C6: =IF([1]сентябрь!H12="П",[1]сентябрь!G12,0) -> 0 | D6: =B6 -> 0 | E6: =C6 -> 0
A7: =[1]сентябрь!D13 -> ПС-Касимов ф12 ВЛ-10кВ | B7: =IF([1]сентябрь!H13="П",[1]сентябрь!F13,0) -> 44441.396 | C7: =IF([1]сентябрь!H13="П",[1]сентябрь!G13,0) -> 44441.479 | D7: =B7 -> 44441.396 | E7: =C7 -> 44441.479
A8: =[1]сентябрь!D14 -> д.Лощинино ТП-2589 | B8: =IF([1]сентябрь!H14="П",[1]сентябрь!F14,0) -> 44442.417 | C8: =IF([1]сентябрь!H14="П",[1]сентябрь!G14,0) -> 44442.583 | D8: =B8 -> 44442.417 | E8: =C8 -> 44442.583
A9: =[1]сентябрь!D15 -> ПС-Телебукино ф11 ВЛ-10кВ | B9: =IF([1]сентябрь!H15="П",[1]сентябрь!F15,0) -> 0 | C9: =IF([1]сентябрь!H15="П",[1]сентябрь!G15,0) -> 0 | D9: =B9 -> 0 | E9: =C9 -> 0
A10: =[1]сентябрь!D16 -> ЦРП-10кВ ф.3 Елатьма | B10: =IF([1]сентябрь!H16="П",[1]сентябрь!F16,0) -> 44446.375 | C10: =IF([1]сентябрь!H16="П",[1]сентябрь!G16,0) -> 44446.392 | D10: =B10 -> 44446.375 | E10: =C10 -> 44446.392
A11: =[1]сентябрь!D17 -> п/с Кольдюки 10кВ ф.4 | B11: =IF([1]сентябрь!H17="П",[1]сентябрь!F17,0) -> 44448.396 | C11: =IF([1]сентябрь!H17="П",[1]сентябрь!G17,0) -> 44448.542 | D11: =B11 -> 44448.396 | E11: =C11 -> 44448.542
A12: =[1]сентябрь!D18 -> ТП-2494 ВЛ-0,4кВ Маяк | B12: =IF([1]сентябрь!H18="П",[1]сентябрь!F18,0) -> 44449.354 | C12: =IF([1]сентябрь!H18="П",[1]сентябрь!G18,0) -> 44449.479 | D12: =B12 -> 44449.354 | E12: =C12 -> 44449.479
A13: =[1]сентябрь!D19 -> ТП-2494 ВЛ-0,4кВ Маяк | B13: =IF([1]сентябрь!H19="П",[1]сентябрь!F19,0) -> 44454.354 | C13: =IF([1]сентябрь!H19="П",[1]сентябрь!G19,0) -> 44454.479 | D13: =B13 -> 44454.354 | E13: =C13 -> 44454.479
A14: =[1]сентябрь!D20 -> ЦРП-10кВ ф.3 Елатьма | B14: =IF([1]сентябрь!H20="П",[1]сентябрь!F20,0) -> 44455.396 | C14: =IF([1]сентябрь!H20="П",[1]сентябрь!G20,0) -> 44455.438 | D14: =B14 -> 44455.396 | E14: =C14 -> 44455.438
A15: =[1]сентябрь!D21 -> п.Ташенка ТП-5 РУ-0,4кВ ф4 | B15: =IF([1]сентябрь!H21="П",[1]сентябрь!F21,0) -> 0 | C15: =IF([1]сентябрь!H21="П",[1]сентябрь!G21,0) -> 0 | D15: =B15 -> 0 | E15: =C15 -> 0
A16: =[1]сентябрь!D22 -> д.Лощинино ТП-2589 | B16: =IF([1]сентябрь!H22="П",[1]сентябрь!F22,0) -> 44461.375 | C16: =IF([1]сентябрь!H22="П",[1]сентябрь!G22,0) -> 44461.417 | D16: =B16 -> 44461.375 | E16: =C16 -> 44461.417
A17: =[1]сентябрь!D23 -> п.Лашма ТП-1 | B17: =IF([1]сентябрь!H23="П",[1]сентябрь!F23,0) -> 44461.458 | C17: =IF([1]сентябрь!H23="П",[1]сентябрь!G23,0) -> 44461.5 | D17: =B17 -> 44461.458 | E17: =C17 -> 44461.5
... A21: =[1]сентябрь!D27 -> ТП-3,ф.1 ВЛ-0,4кВ Елатьма | B21: =IF([1]сентябрь!H27="П",[1]сентябрь!F27,0) -> 44467.438 | C21: =IF([1]сентябрь!H27="П",[1]сентябрь!G27,0) -> 44467.583 | D21: =B21 -> 44467.438 | E21: =C21 -> 44467.583

Sheet Лист2

Sheet Лист3
