Workbook
Name _ftn1: Кв4!#REF!
Name _ftn1: 'Отчет 04'!#REF!
Name _ftn1: 'Отчет 05'!#REF!
Name _ftn1: 'Отчет 06'!#REF!
Name _ftn1: 'Отчет 07'!#REF!
Name _ftn1: Отчет09!#REF!
Name _ftn1: Отчет10!#REF!
Name _ftn1: Отчет11!#REF!
Name _ftn1: Отчет12!#REF!
Name _ftnref1: Кв4!$A$2
Name _ftnref1: 'Отчет 04'!$A$2
Name _ftnref1: 'Отчет 05'!$A$2
Name _ftnref1: 'Отчет 06'!$A$2
Name _ftnref1: 'Отчет 07'!$A$2
Name _ftnref1: Отчет09!$A$2
Name _ftnref1: Отчет10!$A$2
Name _ftnref1: Отчет11!$A$2
Name _ftnref1: Отчет12!$A$2
Name _Toc472327096: Кв4!$A$2
Name _Toc472327096: 'Отчет 04'!$A$2
Name _Toc472327096: 'Отчет 05'!$A$2
Name _Toc472327096: 'Отчет 06'!$A$2
Name _Toc472327096: 'Отчет 07'!$A$2
Name _Toc472327096: Отчет09!$A$2
Name _Toc472327096: Отчет10!$A$2
Name _Toc472327096: Отчет11!$A$2
Name _Toc472327096: Отчет12!$A$2
Name ccc: #REF!
Name ccc: #REF!
Name ccc: #REF!
Name ccc: #REF!
Name ccc: #REF!
Name ccc: #REF!
Name sub_11000_1: #N/A
Name sub_11011_1: #N/A
Name sub_12000_2: #REF!
Name sub_12000_2: #REF!
Name sub_12000_2: #REF!
Name sub_12000_2: #REF!
Name sub_12000_2: #REF!
Name sub_12000_2: #REF!
Name авг: #REF!
Name авг: #REF!
Name авг: #REF!
Name авг: #REF!
Name авг: #REF!
Name авг: #REF!
Name Кв: #REF!
Name Кв: #REF!
Name Кв: #REF!
Name Кв: #REF!
Name Кв: #REF!
Name Кв: #REF!
Name Кн: #REF!
Name Кн: #REF!
Name Кн: #REF!
Name Кн: #REF!
Name Кн: #REF!
Name Кн: #REF!
Name ноя: #REF!

Sheet Отчёт ян
A2: Форма 8.1 - Журнал учёта данных первичной информации по всем прекращениям передачи электрической энергии, произошедших на объектах электросетевых организаций за | S2: январь | T2: месяц | U2: 2021 | V2: года
A3: МУ МПЖКХ Гусь-Железный
A4: наименование электросетевой организации
A6: Данные о факте прекращения передачи электрической энергии | J6: Признак АПВ (1 - Успешно/0 - Не успешно/2 - Отсутствует/3 - не работала (по принципу действия или выведена по режиму)) | K6: Признак АВР (1 - Успешно/0 - Не успешно/2 - Отсутствует/3 - не работала (по принципу действия или выведена по режиму)) | L6: Данные о масштабе прекращения передачи электрической энергии в сетевой организации | Y6: Перечень смежных сетевых организаций, затронутых прекращением передачи электрической энергии | Z6: Данные о причинах прекращения передачи электрической энергии и их расследовании | AC6: Учет в показателях надежности, в т.ч. индикативных показателях надежности (0 - нет, 1 - да)
A7: Номер прекращения передачи электрической энергии / Номер итоговой строки | B7: Наименование структурной единицы сетевой организации | C7: Вид объекта: КЛ, ВЛ, КВЛ, ПС, ТП, РП | D7: Диспетчерское наименование объекта электросетевого хозяйства сетевой организации, в результате отключения которой произошло прекращение передачи электроэнергии потребителям услуг | E7: Высший класс напряжения отключенного оборудования сетевой организации, кВ | F7: Время и дата начала прекращения передачи электрической энергии (часы, минуты, ГГГГ.ММ.ДД) | G7: Время и дата восстановления режима потребления электрической энергии потребителей услуг (часы, минуты, ГГГГ.ММ.ДД) | H7: Вид прекращения передачи электроэнергии (П, А, В) | I7: Продолжительность прекращения передачи электрической энергии, час | L7: Перечень объектов электросетевого хозяйства, отключение которых привело к прекращению передачи электрической энергии потребителям услуг (ПС, ТП, РП, ВЛ, КЛ) | M7: Перечень потребителей 1-й и 2-й категорий надежности, в отношении которых произошло полное ограничение режима потребления электрической энергии | N7: Перечень потребителей 1-й и 2-й категорий надежности, в отношении которых произошло частичное ограничение режима потребления электрической энергии | O7: Количество точек поставки потребителей услуг сетевой организации, в отношении которых произошел перерыв электроснабжения, шт., в том числе: | X7: Суммарный объем фактической нагрузки (мощности) на присоединениях потребителей услуг, по которым произошло прекращение передачи электрической энергии на момент возникновения такого события, кВт
O8: ВСЕГО | P8: в разделении категорий надежности потребителей электрической энергии | S8: в разделении уровней напряжения ЭПУ потребителя электрической энергии | W8: Смежные сетевые организации и производители электрической энергии | Z8: Номер и дата акта расследования технологического нарушения, записи в оперативном журнале | AA8: Код организационной причины аварии | AB8: Код технической причины повреждения оборудования
P9: 1-я категория надежности | Q9: 2-я категория надежности | R9: 3-я категория надежности | S9: ВН (110 кВ и выше) | T9: СН1 (35 кВ) | U9: СН2 (6-20 кВ) | V9: НН (0,22-1 кВ) | AD9: 0.041666667
A10: 1 | B10: 2 | C10: 3 | D10: 4 | E10: 5 | F10: 6 | G10: 7 | H10: 8 | I10: 9 | J10: 10 | K10: 11 | L10: 12 | M10: 13 | N10: 14 | O10: 15 | P10: 16 | Q10: 17 | R10: 18 | S10: 19 | T10: 20 | U10: 21 | V10: 22 | W10: 23 | X10: 24 | Y10: 25 | Z10: 26 | AA10: 27 | AB10: 28 | AC10: 29
A11: 1 | B11: Участок №1 | C11: ТП | D11: ПС Лашма ф3, КТП 3 | E11: 10 (10.5) | F11: 44207.982 | G11: 44208.008 | H11: В | I11: =(G11-F11)/$AD$9 -> 0.63333333 | J11: 2 | K11: 2 | L11: КТП3 | M11: 0 | N11: 0 | O11: =R11 -> 201 | P11: 0 | Q11: 0 | R11: 201 | S11: 0 | T11: 0 | U11: 0 | V11: =R11 -> 201 | W11: 0 | X11: =0.22*V11 -> 44.22 | Z11: =G11+1 -> 44209.008 | AA11: 3.4.12.1 | AB11: 4.12 | AC11: 1
A12: 2 | B12: Участок №2 | C12: ВЛ | D12: ЦРП-10кВ Елатьма, ф.3 | E12: 10 (10.5) | F12: 44220.951 | G12: 44220.99 | H12: В | I12: =(G12-F12)/$AD$9 -> 0.91666667 | J12: 2 | K12: 2 | L12: ВЛ-10кВ | M12: 0 | N12: 0 | O12: =R12 -> 601 | P12: 0 | Q12: 0 | R12: 601 | S12: 0 | T12: 0 | U12: 0 | V12: =R12 -> 601 | W12: 0 | X12: =0.22*V12 -> 132.22 | Z12: =G12+1 -> 44221.99 | AA12: 3.4.12.1 | AB12: 4.4 | AC12: 1
A13: 3 | B13: Участок №2 | C13: ВЛ | D13: ТП-2 ВЛ-10кВ Елатьма | E13: 10 (10.5) | F13: 44220.951 | G13: 44220.983 | H13: В | I13: =(G13-F13)/$AD$9 -> 0.75 | J13: 2 | K13: 2 | L13: ВЛ-10кВ | M13: 0 | N13: 0 | O13: =R13 -> 82 | P13: 0 | Q13: 0 | R13: 82 | S13: 0 | T13: 0 | U13: 0 | V13: =R13 -> 82 | W13: 0 | X13: =0.22*V13 -> 18.04 | Z13: =G13+1 -> 44221.983 | AA13: 3.4.12.1 | AB13: 4.4 | AC13: 1
A14: 4 | B14: Участок №2 | C14: ВЛ | D14: ЦРП-10кВ Елатьма, ф.3 | E14: 10 (10.5) | F14: 44223.431 | G14: 44223.446 | H14: В | I14: =(G14-F14)/$AD$9 -> 0.35 | J14: 2 | K14: 2 | L14: ВЛ-10кВ | M14: 0 | N14: 0 | O14: =R14 -> 601 | P14: 0 | Q14: 0 | R14: 601 | S14: 0 | T14: 0 | U14: 0 | V14: =R14 -> 601 | W14: 0 | X14: =0.22*V14 -> 132.22 | Z14: =G14+1 -> 44224.446 | AA14: 3.4.12.1 | AB14: 4.4 | AC14: 1

Sheet Отчёт 02
A2: Форма 8.1 - Журнал учёта данных первичной информации по всем прекращениям передачи электрической энергии, произошедших на объектах электросетевых организаций за | S2: январь | T2: месяц | U2: 2021 | V2: года
A3: МУ МПЖКХ Гусь-Железный
A4: наименование электросетевой организации
A6: Данные о факте прекращения передачи электрической энергии | J6: Признак АПВ (1 - Успешно/0 - Не успешно/2 - Отсутствует/3 - не работала (по принципу действия или выведена по режиму)) | K6: Признак АВР (1 - Успешно/0 - Не успешно/2 - Отсутствует/3 - не работала (по принципу действия или выведена по режиму)) | L6: Данные о масштабе прекращения передачи электрической энергии в сетевой организации | Y6: Перечень смежных сетевых организаций, затронутых прекращением передачи электрической энергии | Z6: Данные о причинах прекращения передачи электрической энергии и их расследовании | AC6: Учет в показателях надежности, в т.ч. индикативных показателях надежности (0 - нет, 1 - да)
A7: Номер прекращения передачи электрической энергии / Номер итоговой строки | B7: Наименование структурной единицы сетевой организации | C7: Вид объекта: КЛ, ВЛ, КВЛ, ПС, ТП, РП | D7: Диспетчерское наименование объекта электросетевого хозяйства сетевой организации, в результате отключения которой произошло прекращение передачи электроэнергии потребителям услуг | E7: Высший класс напряжения отключенного оборудования сетевой организации, кВ | F7: Время и дата начала прекращения передачи электрической энергии (часы, минуты, ГГГГ.ММ.ДД) | G7: Время и дата восстановления режима потребления электрической энергии потребителей услуг (часы, минуты, ГГГГ.ММ.ДД) | H7: Вид прекращения передачи электроэнергии (П, А, В) | I7: Продолжительность прекращения передачи электрической энергии, час | L7: Перечень объектов электросетевого хозяйства, отключение которых привело к прекращению передачи электрической энергии потребителям услуг (ПС, ТП, РП, ВЛ, КЛ) | M7: Перечень потребителей 1-й и 2-й категорий надежности, в отношении которых произошло полное ограничение режима потребления электрической энергии | N7: Перечень потребителей 1-й и 2-й категорий надежности, в отношении которых произошло частичное ограничение режима потребления электрической энергии | O7: Количество точек поставки потребителей услуг сетевой организации, в отношении которых произошел перерыв электроснабжения, шт., в том числе: | X7: Суммарный объем фактической нагрузки (мощности) на присоединениях потребителей услуг, по которым произошло прекращение передачи электрической энергии на момент возникновения такого события, кВт
O8: ВСЕГО | P8: в разделении категорий надежности потребителей электрической энергии | S8: в разделении уровней напряжения ЭПУ потребителя электрической энергии | W8: Смежные сетевые организации и производители электрической энергии | Z8: Номер и дата акта расследования технологического нарушения, записи в оперативном журнале | AA8: Код организационной причины аварии | AB8: Код технической причины повреждения оборудования
P9: 1-я категория надежности | Q9: 2-я категория надежности | R9: 3-я категория надежности | S9: ВН (110 кВ и выше) | T9: СН1 (35 кВ) | U9: СН2 (6-20 кВ) | V9: НН (0,22-1 кВ) | AD9: 0.041666667
A10: 1 | B10: 2 | C10: 3 | D10: 4 | E10: 5 | F10: 6 | G10: 7 | H10: 8 | I10: 9 | J10: 10 | K10: 11 | L10: 12 | M10: 13 | N10: 14 | O10: 15 | P10: 16 | Q10: 17 | R10: 18 | S10: 19 | T10: 20 | U10: 21 | V10: 22 | W10: 23 | X10: 24 | Y10: 25 | Z10: 26 | AA10: 27 | AB10: 28 | AC10: 29
A11: 9 | B11: Участок №2 | C11: ВЛ | D11: ЦРП-10кВ Елатьма ф.3 | E11: 10 (10.5) | F11: 44232.151 | G11: 44232.17 | H11: В | I11: =(G11-F11)/$AD$9 -> 0.46666667 | J11: 2 | K11: 2 | L11: ВЛ-10кВ№3 | M11: 0 | N11: 0 | O11: =R11 -> 601 | P11: 0 | Q11: 0 | R11: 601 | S11: 0 | T11: 0 | U11: 0 | V11: =R11 -> 601 | W11: 0 | X11: =0.22*V11 -> 132.22 | Z11: №5 06.02.2021 | AA11: 3.4.12.1 | AB11: 4.12 | AC11: 1
A12: 11 | B12: Участок №2 | C12: ВЛ | D12: ВЛ №7 п/с Сабурово | E12: 10 (10.5) | F12: 44250.194 | G12: 44250.21 | H12: В | I12: =(G12-F12)/$AD$9 -> 0.36666667 | J12: 2 | K12: 2 | L12: ВЛ-10кВ№7 | M12: 0 | N12: 0 | O12: =R12 -> 1603 | P12: 0 | Q12: 0 | R12: 1603 | S12: 0 | T12: 0 | U12: 0 | V12: =R12 -> 1603 | W12: 0 | X12: =0.22*V12 -> 352.66 | Z12: №6 24.02.2021 | AA12: 3.4.12.1 | AB12: 4.13 | AC12: 1

Sheet Отчёт 03
A2: Форма 8.1 - Журнал учёта данных первичной информации по всем прекращениям передачи электрической энергии, произошедших на объектах электросетевых организаций за | S2: март | T2: месяц | U2: 2021 | V2: года
A3: МУ МПЖКХ Гусь-Железный
A4: наименование электросетевой организации
A6: Данные о факте прекращения передачи электрической энергии | J6: Признак АПВ (1 - Успешно/0 - Не успешно/2 - Отсутствует/3 - не работала (по принципу действия или выведена по режиму)) | K6: Признак АВР (1 - Успешно/0 - Не успешно/2 - Отсутствует/3 - не работала (по принципу действия или выведена по режиму)) | L6: Данные о масштабе прекращения передачи электрической энергии в сетевой организации | Y6: Перечень смежных сетевых организаций, затронутых прекращением передачи электрической энергии | Z6: Данные о причинах прекращения передачи электрической энергии и их расследовании | AC6: Учет в показателях надежности, в т.ч. индикативных показателях надежности (0 - нет, 1 - да)
A7: Номер прекращения передачи электрической энергии / Номер итоговой строки | B7: Наименование структурной единицы сетевой организации | C7: Вид объекта: КЛ, ВЛ, КВЛ, ПС, ТП, РП | D7: Диспетчерское наименование объекта электросетевого хозяйства сетевой организации, в результате отключения которой произошло прекращение передачи электроэнергии потребителям услуг | E7: Высший класс напряжения отключенного оборудования сетевой организации, кВ | F7: Время и дата начала прекращения передачи электрической энергии (часы, минуты, ГГГГ.ММ.ДД) | G7: Время и дата восстановления режима потребления электрической энергии потребителей услуг (часы, минуты, ГГГГ.ММ.ДД) | H7: Вид прекращения передачи электроэнергии (П, А, В) | I7: Продолжительность прекращения передачи электрической энергии, час | L7: Перечень объектов электросетевого хозяйства, отключение которых привело к прекращению передачи электрической энергии потребителям услуг (ПС, ТП, РП, ВЛ, КЛ) | M7: Перечень потребителей 1-й и 2-й категорий надежности, в отношении которых произошло полное ограничение режима потребления электрической энергии | N7: Перечень потребителей 1-й и 2-й категорий надежности, в отношении которых произошло частичное ограничение режима потребления электрической энергии | O7: Количество точек поставки потребителей услуг сетевой организации, в отношении которых произошел перерыв электроснабжения, шт., в том числе: | X7: Суммарный объем фактической нагрузки (мощности) на присоединениях потребителей услуг, по которым произошло прекращение передачи электрической энергии на момент возникновения такого события, кВт
O8: ВСЕГО | P8: в разделении категорий надежности потребителей электрической энергии | S8: в разделении уровней напряжения ЭПУ потребителя электрической энергии | W8: Смежные сетевые организации и производители электрической энергии | Z8: Номер и дата акта расследования технологического нарушения, записи в оперативном журнале | AA8: Код организационной причины аварии | AB8: Код технической причины повреждения оборудования
P9: 1-я категория надежности | Q9: 2-я категория надежности | R9: 3-я категория надежности | S9: ВН (110 кВ и выше) | T9: СН1 (35 кВ) | U9: СН2 (6-20 кВ) | V9: НН (0,22-1 кВ) | AD9: 0.041666667
A10: 1 | B10: 2 | C10: 3 | D10: 4 | E10: 5 | F10: 6 | G10: 7 | H10: 8 | I10: 9 | J10: 10 | K10: 11 | L10: 12 | M10: 13 | N10: 14 | O10: 15 | P10: 16 | Q10: 17 | R10: 18 | S10: 19 | T10: 20 | U10: 21 | V10: 22 | W10: 23 | X10: 24 | Y10: 25 | Z10: 26 | AA10: 27 | AB10: 28 | AC10: 29
A11: 12 | B11: Участок №2 | C11: ВЛ | D11: п/с Кольдюки 10кВ ф.4 ВЛ10кВ №4 | E11: 10 (10.5) | F11: 44258.524 | G11: 44258.549 | H11: В | I11: =(G11-F11)/$AD$9 -> 0.58333333 | J11: 2 | K11: 2 | L11: ВЛ-10кВ №4 | M11: 0 | N11: 0 | O11: =R11 -> 261 | P11: 0 | Q11: 0 | R11: 261 | S11: 0 | T11: 0 | U11: 0 | V11: =R11 -> 261 | W11: 0 | X11: =0.22*V11 -> 57.42 | AA11: 3.4.9.1 | AB11: 4.21 | AC11: 0
A12: 13 | B12: Участок №1 | C12: ВЛ | D12: п/с Телебукино ЗТП-2396 ф.12 ВЛ кВ №12 | E12: 0.38 | F12: 44262.75 | G12: 44262.792 | H12: В | I12: =(G12-F12)/$AD$9 -> 1 | J12: 2 | K12: 2 | L12: ВЛ- 0,4кВ №1 | M12: 0 | N12: 0 | O12: =R12 -> 101 | P12: 0 | Q12: 0 | R12: 101 | S12: 0 | T12: 0 | U12: 0 | V12: =R12 -> 101 | W12: 0 | X12: =0.22*V12 -> 22.22 | AA12: 3.4.9.3 | AB12: 4.13 | AC12: 0
A13: 14 | B13: Участок №1 | C13: ВЛ | D13: п/с Лашма ТП-1 ф1 ВЛ 0,4 №1 | E13: 0.38 | F13: 44264.583 | G13: 44264.667 | H13: В | I13: =(G13-F13)/$AD$9 -> 2 | J13: 2 | K13: 2 | L13: ВЛ- 0,4кВ №1 | M13: 0 | N13: 0 | O13: =R13 -> 1 | P13: 0 | Q13: 0 | R13: 1 | S13: 0 | T13: 0 | U13: 0 | V13: =R13 -> 1 | W13: 0 | X13: =0.22*V13 -> 0.22 | Z13: №8 10.03.2021 | AA13: 3.4.7.3 | AB13: 4.13 | AC13: 1
A14: 15 | B14: Участок №2 | C14: ВЛ | D14: п/с Кольдюки 10кВ ф.4 ВЛ10кВ №4 | E14: 10 (10.5) | F14: 44265.583 | G14: 44265.667 | H14: В | I14: =(G14-F14)/$AD$9 -> 2 | J14: 2 | K14: 2 | L14: ВЛ-10кВ №4 | M14: 0 | N14: 0 | O14: =R14 -> 261 | P14: 0 | Q14: 0 | R14: 261 | S14: 0 | T14: 0 | U14: 0 | V14: =R14 -> 261 | W14: 0 | X14: =0.22*V14 -> 57.42 | AA14: 3.4.9.1 | AB14: 4.21 | AC14: 0
A15: 16 | B15: Участок №2 | C15: ВЛ | D15: п/с Кольдюки 10кВ ф.4 ВЛ10кВ №4 | E15: 10 (10.5) | F15: 44267.5 | G15: 44267.583 | H15: В | I15: =(G15-F15)/$AD$9 -> 2 | J15: 2 | K15: 2 | L15: ВЛ-10кВ №4 | M15: 0 | N15: 0 | O15: =R15 -> 261 | P15: 0 | Q15: 0 | R15: 261 | S15: 0 | T15: 0 | U15: 0 | V15: =R15 -> 261 | W15: 0 | X15: =0.22*V15 -> 57.42 | AA15: 3.4.9.1 | AB15: 4.21 | AC15: 0
A16: 17 | B16: Участок №2 | C16: ВЛ | D16: п/с Елатьма ВЛ-10кВ №2 | E16: 10 (10.5) | F16: 44272.458 | G16: 44272.625 | H16: В | I16: =(G16-F16)/$AD$9 -> 4 | J16: 2 | K16: 2 | L16: ВЛ-10кВ №2 | M16: 0 | N16: 0 | O16: =R16 -> 8 | P16: 0 | Q16: 0 | R16: 8 | S16: 0 | T16: 0 | U16: 0 | V16: =R16 -> 8 | W16: 0 | X16: =0.22*V16 -> 1.76 | AA16: 3.4.9.1 | AB16: 4.21 | AC16: 0
A17: 18 | B17: Участок №1 | C17: ВЛ | D17: п/с Касимов ТП-2588 ф3 | E17: 0.38 | F17: 44274.375 | G17: 44274.458 | H17: В | I17: =(G17-F17)/$AD$9 -> 2 | J17: 2 | K17: 2 | L17: ВЛ-0,4кВ №3 | M17: 0 | N17: 0 | O17: =R17 -> 1 | P17: 0 | Q17: 0 | R17: 1 | S17: 0 | T17: 0 | U17: 0 | V17: =R17 -> 1 | W17: 0 | X17: =0.22*V17 -> 0.22 | AA17: 3.4.9.3 | AB17: 4.13 | AC17: 0

Sheet 1кв
A2: Форма 8.1 - Журнал учёта данных первичной информации по всем прекращениям передачи электрической энергии, произошедших на объектах электросетевых организаций за | S2: первый | T2: квартал | U2: 2021 | V2: года
A3: МУ МПЖКХ Гусь-Железный
A4: наименование электросетевой организации
A6: Данные о факте прекращения передачи электрической энергии | J6: Признак АПВ (1 - Успешно/0 - Не успешно/2 - Отсутствует/3 - не работала (по принципу действия или выведена по режиму)) | K6: Признак АВР (1 - Успешно/0 - Не успешно/2 - Отсутствует/3 - не работала (по принципу действия или выведена по режиму)) | L6: Данные о масштабе прекращения передачи электрической энергии в сетевой организации | Y6: Перечень смежных сетевых организаций, затронутых прекращением передачи электрической энергии | Z6: Данные о причинах прекращения передачи электрической энергии и их расследовании | AC6: Учет в показателях надежности, в т.ч. индикативных показателях надежности (0 - нет, 1 - да)
A7: Номер прекращения передачи электрической энергии / Номер итоговой строки | B7: Наименование структурной единицы сетевой организации | C7: Вид объекта: КЛ, ВЛ, КВЛ, ПС, ТП, РП | D7: Диспетчерское наименование объекта электросетевого хозяйства сетевой организации, в результате отключения которой произошло прекращение передачи электроэнергии потребителям услуг | E7: Высший класс напряжения отключенного оборудования сетевой организации, кВ | F7: Время и дата начала прекращения передачи электрической энергии (часы, минуты, ГГГГ.ММ.ДД) | G7: Время и дата восстановления режима потребления электрической энергии потребителей услуг (часы, минуты, ГГГГ.ММ.ДД) | H7: Вид прекращения передачи электроэнергии (П, А, В) | I7: Продолжительность прекращения передачи электрической энергии, час | L7: Перечень объектов электросетевого хозяйства, отключение которых привело к прекращению передачи электрической энергии потребителям услуг (ПС, ТП, РП, ВЛ, КЛ) | M7: Перечень потребителей 1-й и 2-й категорий надежности, в отношении которых произошло полное ограничение режима потребления электрической энергии | N7: Перечень потребителей 1-й и 2-й категорий надежности, в отношении которых произошло частичное ограничение режима потребления электрической энергии | O7: Количество точек поставки потребителей услуг сетевой организации, в отношении которых произошел перерыв электроснабжения, шт., в том числе: | X7: Суммарный объем фактической нагрузки (мощности) на присоединениях потребителей услуг, по которым произошло прекращение передачи электрической энергии на момент возникновения такого события, кВт
O8: ВСЕГО | P8: в разделении категорий надежности потребителей электрической энергии | S8: в разделении уровней напряжения ЭПУ потребителя электрической энергии | W8: Смежные сетевые организации и производители электрической энергии | Z8: Номер и дата акта расследования технологического нарушения, записи в оперативном журнале | AA8: Код организационной причины аварии | AB8: Код технической причины повреждения оборудования
P9: 1-я категория надежности | Q9: 2-я категория надежности | R9: 3-я категория надежности | S9: ВН (110 кВ и выше) | T9: СН1 (35 кВ) | U9: СН2 (6-20 кВ) | V9: НН (0,22-1 кВ) | AD9: 0.041666667
A10: 1 | B10: 2 | C10: 3 | D10: 4 | E10: 5 | F10: 6 | G10: 7 | H10: 8 | I10: 9 | J10: 10 | K10: 11 | L10: 12 | M10: 13 | N10: 14 | O10: 15 | P10: 16 | Q10: 17 | R10: 18 | S10: 19 | T10: 20 | U10: 21 | V10: 22 | W10: 23 | X10: 24 | Y10: 25 | Z10: 26 | AA10: 27 | AB10: 28 | AC10: 29
A11: 1 | B11: ='Отчёт ян'!B11 -> Участок №1 | C11: ='Отчёт ян'!C11 -> ТП | D11: ='Отчёт ян'!D11 -> ПС Лашма ф3, КТП 3 | E11: ='Отчёт ян'!E11 -> 10 (10.5) | F11: ='Отчёт ян'!F11 -> 44207.982 | G11: ='Отчёт ян'!G11 -> 44208.008 | H11: ='Отчёт ян'!H11 -> В | I11: ='Отчёт ян'!I11 -> 0.63333333 | ... AC11: ='Отчёт ян'!AC11 -> 1
A12: 2 | B12: ='Отчёт ян'!B12 -> Участок №2 | C12: ='Отчёт ян'!C12 -> ВЛ | D12: ='Отчёт ян'!D12 -> ЦРП-10кВ Елатьма, ф.3 | E12: ='Отчёт ян'!E12 -> 10 (10.5) | F12: ='Отчёт ян'!F12 -> 44220.951 | G12: ='Отчёт ян'!G12 -> 44220.99 | H12: ='Отчёт ян'!H12 -> В | I12: ='Отчёт ян'!I12 -> 0.91666667 | ... AC12: ='Отчёт ян'!AC12 -> 1
A13: 3 | B13: ='Отчёт ян'!B13 -> Участок №2 | C13: ='Отчёт ян'!C13 -> ВЛ | D13: ='Отчёт ян'!D13 -> ТП-2 ВЛ-10кВ Елатьма | E13: ='Отчёт ян'!E13 -> 10 (10.5) | F13: ='Отчёт ян'!F13 -> 44220.951 | G13: ='Отчёт ян'!G13 -> 44220.983 | H13: ='Отчёт ян'!H13 -> В | I13: ='Отчёт ян'!I13 -> 0.75 | ... AC13: ='Отчёт ян'!AC13 -> 1
A14: 4 | B14: ='Отчёт ян'!B14 -> Участок №2 | C14: ='Отчёт ян'!C14 -> ВЛ | D14: ='Отчёт ян'!D14 -> ЦРП-10кВ Елатьма, ф.3 | E14: ='Отчёт ян'!E14 -> 10 (10.5) | F14: ='Отчёт ян'!F14 -> 44223.431 | G14: ='Отчёт ян'!G14 -> 44223.446 | H14: ='Отчёт ян'!H14 -> В | I14: ='Отчёт ян'!I14 -> 0.35 | ... AC14: ='Отчёт ян'!AC14 -> 1
A15: 5 | B15: ='Отчёт 02'!B11 -> Участок №2 | C15: ='Отчёт 02'!C11 -> ВЛ | D15: ='Отчёт 02'!D11 -> ЦРП-10кВ Елатьма ф.3 | E15: ='Отчёт 02'!E11 -> 10 (10.5) | F15: ='Отчёт 02'!F11 -> 44232.151 | G15: ='Отчёт 02'!G11 -> 44232.17 | H15: ='Отчёт 02'!H11 -> В | I15: ='Отчёт 02'!I11 -> 0.46666667 | ... AC15: ='Отчёт 02'!AC11 -> 1
A16: 6 | B16: ='Отчёт 02'!B12 -> Участок №2 | C16: ='Отчёт 02'!C12 -> ВЛ | D16: ='Отчёт 02'!D12 -> ВЛ №7 п/с Сабурово | E16: ='Отчёт 02'!E12 -> 10 (10.5) | F16: ='Отчёт 02'!F12 -> 44250.194 | G16: ='Отчёт 02'!G12 -> 44250.21 | H16: ='Отчёт 02'!H12 -> В | I16: ='Отчёт 02'!I12 -> 0.36666667 | ... AC16: ='Отчёт 02'!AC12 -> 1
A17: 7 | B17: ='Отчёт 03'!B11 -> Участок №2 | C17: ='Отчёт 03'!C11 -> ВЛ | D17: ='Отчёт 03'!D11 -> п/с Кольдюки 10кВ ф.4 ВЛ10кВ №4 | E17: ='Отчёт 03'!E11 -> 10 (10.5) | F17: ='Отчёт 03'!F11 -> 44258.524 | G17: ='Отчёт 03'!G11 -> 44258.549 | H17: ='Отчёт 03'!H11 -> В | I17: ='Отчёт 03'!I11 -> 0.58333333 | ... AC17: ='Отчёт 03'!AC11 -> 0
A18: 8 | B18: ='Отчёт 03'!B12 -> Участок №1 | C18: ='Отчёт 03'!C12 -> ВЛ | D18: ='Отчёт 03'!D12 -> п/с Телебукино ЗТП-2396 ф.12 ВЛ кВ №12 | E18: ='Отчёт 03'!E12 -> 0.38 | F18: ='Отчёт 03'!F12 -> 44262.75 | G18: ='Отчёт 03'!G12 -> 44262.792 | H18: ='Отчёт 03'!H12 -> В | I18: ='Отчёт 03'!I12 -> 1 | ... AC18: ='Отчёт 03'!AC12 -> 0
A19: 9 | B19: ='Отчёт 03'!B13 -> Участок №1 | C19: ='Отчёт 03'!C13 -> ВЛ | D19: ='Отчёт 03'!D13 -> п/с Лашма ТП-1 ф1 ВЛ 0,4 №1 | E19: ='Отчёт 03'!E13 -> 0.38 | F19: ='Отчёт 03'!F13 -> 44264.583 | G19: ='Отчёт 03'!G13 -> 44264.667 | H19: ='Отчёт 03'!H13 -> В | I19: ='Отчёт 03'!I13 -> 2 | ... AC19: ='Отчёт 03'!AC13 -> 1
A20: 10 | B20: ='Отчёт 03'!B14 -> Участок №2 | C20: ='Отчёт 03'!C14 -> ВЛ | D20: ='Отчёт 03'!D14 -> п/с Кольдюки 10кВ ф.4 ВЛ10кВ №4 | E20: ='Отчёт 03'!E14 -> 10 (10.5) | F20: ='Отчёт 03'!F14 -> 44265.583 | G20: ='Отчёт 03'!G14 -> 44265.667 | H20: ='Отчёт 03'!H14 -> В | I20: ='Отчёт 03'!I14 -> 2 | ... AC20: ='Отчёт 03'!AC14 -> 0
A21: 11 | B21: ='Отчёт 03'!B15 -> Участок №2 | C21: ='Отчёт 03'!C15 -> ВЛ | D21: ='Отчёт 03'!D15 -> п/с Кольдюки 10кВ ф.4 ВЛ10кВ №4 | E21: ='Отчёт 03'!E15 -> 10 (10.5) | F21: ='Отчёт 03'!F15 -> 44267.5 | G21: ='Отчёт 03'!G15 -> 44267.583 | H21: ='Отчёт 03'!H15 -> В | I21: ='Отчёт 03'!I15 -> 2 | ... AC21: ='Отчёт 03'!AC15 -> 0
A22: 12 | B22: ='Отчёт 03'!B16 -> Участок №2 | C22: ='Отчёт 03'!C16 -> ВЛ | D22: ='Отчёт 03'!D16 -> п/с Елатьма ВЛ-10кВ №2 | E22: ='Отчёт 03'!E16 -> 10 (10.5) | F22: ='Отчёт 03'!F16 -> 44272.458 | G22: ='Отчёт 03'!G16 -> 44272.625 | H22: ='Отчёт 03'!H16 -> В | I22: ='Отчёт 03'!I16 -> 4 | ... AC22: ='Отчёт 03'!AC16 -> 0
A23: 13 | B23: ='Отчёт 03'!B17 -> Участок №1 | C23: ='Отчёт 03'!C17 -> ВЛ | D23: ='Отчёт 03'!D17 -> п/с Касимов ТП-2588 ф3 | E23: ='Отчёт 03'!E17 -> 0.38 | F23: ='Отчёт 03'!F17 -> 44274.375 | G23: ='Отчёт 03'!G17 -> 44274.458 | H23: ='Отчёт 03'!H17 -> В | I23: ='Отчёт 03'!I17 -> 2 | ... AC23: ='Отчёт 03'!AC17 -> 0

Sheet Отчет 04
A2: Форма 8.1 - Журнал учёта данных первичной информации по всем прекращениям передачи электрической энергии, произошедших на объектах электросетевых организаций за | Q2: апрель | R2: месяц | S2: 2021 | T2: года
A3: МУ МПЖКХ Гусь-Железный
A4: наименование электросетевой организации
A6: Данные о факте прекращения передачи электрической энергии | J6: Данные о масштабе прекращения передачи электрической энергии в сетевой организации | W6: Перечень смежных сетевых организаций, затронутых прекращением передачи электрической энергии | X6: Данные о причинах прекращения передачи электрической энергии и их расследовании | AA6: Учет в показателях надежности, в т.ч. индикативных показателях надежности (0 - нет, 1 - да)
A7: Номер прекращения передачи электрической энергии / Номер итоговой строки | B7: Наименование структурной единицы сетевой организации | C7: Вид объекта: КЛ, ВЛ, КВЛ, ПС, ТП, РП | D7: Диспетчерское наименование объекта электросетевого хозяйства сетевой организации, в результате отключения которой произошло прекращение передачи электроэнергии потребителям услуг | E7: Высший класс напряжения отключенного оборудования сетевой организации, кВ | F7: Время и дата начала прекращения передачи электрической энергии (часы, минуты, ГГГГ.ММ.ДД) | G7: Время и дата восстановления режима потребления электрической энергии потребителей услуг (часы, минуты, ГГГГ.ММ.ДД) | H7: Вид прекращения передачи электроэнергии (П, А, В) | I7: Продолжительность прекращения передачи электрической энергии, час | J7: Перечень объектов электросетевого хозяйства, отключение которых привело к прекращению передачи электрической энергии потребителям услуг (ПС, ТП, РП, ВЛ, КЛ) | K7: Перечень потребителей 1-й и 2-й категорий надежности, в отношении которых произошло полное ограничение режима потребления электрической энергии | L7: Перечень потребителей 1-й и 2-й категорий надежности, в отношении которых произошло частичное ограничение режима потребления электрической энергии | M7: Количество точек поставки потребителей услуг сетевой организации, в отношении которых произошел перерыв электроснабжения, шт., в том числе: | V7: Суммарный объем фактической нагрузки (мощности) на присоединениях потребителей услуг, по которым произошло прекращение передачи электрической энергии на момент возникновения такого события, кВт
M8: ВСЕГО | N8: в разделении категорий надежности потребителей электрической энергии | Q8: в разделении уровней напряжения ЭПУ потребителя электрической энергии | U8: Смежные сетевые организации и производители электрической энергии | X8: Номер и дата акта расследования технологического нарушения, записи в оперативном журнале | Y8: Код организационной причины аварии | Z8: Код технической причины повреждения оборудования
N9: 1-я категория надежности | O9: 2-я категория надежности | P9: 3-я категория надежности | Q9: ВН (110 кВ и выше) | R9: СН1 (35 кВ) | S9: СН2 (6-20 кВ) | T9: НН (0,22-1 кВ)
A10: 1 | B10: 2 | C10: 3 | D10: 4 | E10: 5 | F10: 6 | G10: 7 | H10: 8 | I10: 9 | J10: 10 | K10: 11 | L10: 12 | M10: 13 | N10: 14 | O10: 15 | P10: 16 | Q10: 17 | R10: 18 | S10: 19 | T10: 20 | U10: 21 | V10: 22 | W10: 23 | X10: 24 | Y10: 25 | Z10: 26 | AA10: 27
A11: 20 | B11: Участок №2 | C11: ВЛ | D11: ВЛ-0,4кВ №4 КТП-14, ф.4 ЦРП 10кВ Елатьма | E11: 10 (10.5) | F11: 18,20 2021.04.02 | G11: 19,25 2021.04.02 | H11: В | I11: 1.0833333 | J11: ВЛ 0,4кВ | K11: 0 | L11: 0 | M11: 19 | N11: 0 | O11: 0 | P11: 19 | Q11: 0 | R11: 0 | S11: 0 | T11: 19 | U11: 0 | V11: 4.18 | X11: №8 09.04.2021 | Y11: 3.4.9.3 | AA11: 0
A12: 21 | B12: Участок №2 | C12: ВЛ | D12: ЦРП-10кВ ф.3 Елатьма | E12: 10 (10.5) | F12: 21,45 2021.04.07 | G12: 22,03 2021.04.07 | H12: В | I12: 0.3 | J12: ВЛ-10кВ | K12: 0 | L12: 0 | M12: 1261 | N12: 0 | O12: 0 | P12: 1261 | Q12: 0 | R12: 0 | S12: 0 | T12: 1261 | U12: 0 | V12: 277.42 | X12: №9 09.04.2021 | Y12: 3.4.9.3 | AA12: 0
A13: 22 | B13: Участок №1 | C13: ВЛ | D13: ВЛ №1 ТП-2445 ф.1.ПС110/35/10кВ ф.2 Шостье | E13: 10 (10.5) | F13: 01,00 2021.04.08 | G13: 14,00 2021.04.08 | H13: В | I13: 13 | J13: ВЛ-10кВ | K13: 0 | L13: 0 | M13: 66 | N13: 0 | O13: 0 | P13: 66 | Q13: 0 | R13: 0 | S13: 0 | T13: 66 | U13: 0 | V13: 14.52 | X13: №10 09.04.2021 | Y13: 3.4.9.1 | Z13: 4.21 | AA13: 0
A14: 23 | B14: Участок №1 | C14: ВЛ | D14: ВЛ №1 ТП-2445 ф.1.ПС110/35/10кВ ф.2 Шостье | E14: 10 (10.5) | F14: 02,00 2021.04.21 | G14: 15,00 2021.04.21 | H14: В | I14: 13 | J14: ВЛ 10кВ | K14: 0 | L14: 0 | M14: 66 | N14: 0 | O14: 0 | P14: 66 | Q14: 0 | R14: 0 | S14: 0 | T14: 66 | U14: 0 | V14: 14.52 | X14: №11 22.04.2021 | Y14: 3.4.9.1 | Z14: 4.21 | AA14: 0
A15: 24 | B15: Участок №2 | C15: ВЛ | D15: п/с Сабурово 110/10 кВ ф.7 | E15: 10 (10.5) | F15: 15,19 2021.04.24 | G15: 20,08 2021.04.24 | H15: В | I15: 4.8166667 | J15: ВЛ-10кВ | K15: 0 | L15: 0 | M15: 1261 | N15: 0 | O15: 0 | P15: 1261 | Q15: 0 | R15: 0 | S15: 0 | T15: 1261 | U15: 0 | V15: 277.42 | X15: №12 26.04.2021 | Y15: 3.4.7.4 | Z15: 4.14 | AA15: 1
A16: 25 | B16: Участок №2 | C16: КЛ | D16: КТП-1а КЛ-10кВ | E16: 0.38 | F16: 21,45 2021.04.24 | G16: 22,10 2021.04.24 | H16: В | I16: 0.41666667 | J16: ВЛ-10кВ | K16: 0 | L16: 0 | M16: 32 | N16: 0 | O16: 0 | P16: 32 | Q16: 0 | R16: 0 | S16: 0 | T16: 32 | U16: 0 | V16: 7.04 | X16: №13 26.04.2021 | Y16: 3.4.7.4 | Z16: 4.10 | AA16: 1
A17: 26 | B17: Участок №1 | C17: ВЛ | D17: ВЛ-10кВ №2 п/с Затон 35/10 кВ ф2 | E17: 10 (10.5) | F17: 12,00 2021.04.25 | G17: 21,30 2021.04.25 | H17: В | I17: 9.5 | J17: ВЛ-10кВ | K17: 0 | L17: 0 | M17: 52 | N17: 0 | O17: 0 | P17: 52 | Q17: 0 | R17: 0 | S17: 0 | T17: 52 | U17: 0 | V17: 11.44 | X17: №14 26.04.2022 | Y17: 3.4.9.1 | Z17: 4.21 | AA17: 0
A18: 27 | B18: Участок №1 | C18: ВЛ | D18: ВЛ №2 ЗТП-8 ф.2. ПС35/10кВ ф.5 Лашма | E18: 10 (10.5) | F18: 15,30 2021.04.30 | G18: 19,00 2021.04.30 | H18: В | I18: 3.5 | J18: ВЛ 0,4кВ | K18: 0 | L18: 0 | M18: 15 | N18: 0 | O18: 0 | P18: 15 | Q18: 0 | R18: 0 | S18: 0 | T18: 15 | U18: 0 | V18: 3.1 | X18: №15 04.05.2021 | Y18: 3.4.8.3 | Z18: 4.4 | AA18: 0

Sheet Отчет 05
A2: Форма 8.1 - Журнал учёта данных первичной информации по всем прекращениям передачи электрической энергии, произошедших на объектах электросетевых организаций за | Q2: апрель | R2: месяц | S2: 2021 | T2: года
A3: МУ МПЖКХ Гусь-Железный
A4: наименование электросетевой организации
A6: Данные о факте прекращения передачи электрической энергии | J6: Данные о масштабе прекращения передачи электрической энергии в сетевой организации | W6: Перечень смежных сетевых организаций, затронутых прекращением передачи электрической энергии | X6: Данные о причинах прекращения передачи электрической энергии и их расследовании | AA6: Учет в показателях надежности, в т.ч. индикативных показателях надежности (0 - нет, 1 - да)
A7: Номер прекращения передачи электрической энергии / Номер итоговой строки | B7: Наименование структурной единицы сетевой организации | C7: Вид объекта: КЛ, ВЛ, КВЛ, ПС, ТП, РП | D7: Диспетчерское наименование объекта электросетевого хозяйства сетевой организации, в результате отключения которой произошло прекращение передачи электроэнергии потребителям услуг | E7: Высший класс напряжения отключенного оборудования сетевой организации, кВ | F7: Время и дата начала прекращения передачи электрической энергии (часы, минуты, ГГГГ.ММ.ДД) | G7: Время и дата восстановления режима потребления электрической энергии потребителей услуг (часы, минуты, ГГГГ.ММ.ДД) | H7: Вид прекращения передачи электроэнергии (П, А, В) | I7: Продолжительность прекращения передачи электрической энергии, час | J7: Перечень объектов электросетевого хозяйства, отключение которых привело к прекращению передачи электрической энергии потребителям услуг (ПС, ТП, РП, ВЛ, КЛ) | K7: Перечень потребителей 1-й и 2-й категорий надежности, в отношении которых произошло полное ограничение режима потребления электрической энергии | L7: Перечень потребителей 1-й и 2-й категорий надежности, в отношении которых произошло частичное ограничение режима потребления электрической энергии | M7: Количество точек поставки потребителей услуг сетевой организации, в отношении которых произошел перерыв электроснабжения, шт., в том числе: | V7: Суммарный объем фактической нагрузки (мощности) на присоединениях потребителей услуг, по которым произошло прекращение передачи электрической энергии на момент возникновения такого события, кВт
M8: ВСЕГО | N8: в разделении категорий надежности потребителей электрической энергии | Q8: в разделении уровней напряжения ЭПУ потребителя электрической энергии | U8: Смежные сетевые организации и производители электрической энергии | X8: Номер и дата акта расследования технологического нарушения, записи в оперативном журнале | Y8: Код организационной причины аварии | Z8: Код технической причины повреждения оборудования
N9: 1-я категория надежности | O9: 2-я категория надежности | P9: 3-я категория надежности | Q9: ВН (110 кВ и выше) | R9: СН1 (35 кВ) | S9: СН2 (6-20 кВ) | T9: НН (0,22-1 кВ) | AB9: 0.041666667
A10: 1 | B10: 2 | C10: 3 | D10: 4 | E10: 5 | F10: 6 | G10: 7 | H10: 8 | I10: 9 | J10: 10 | K10: 11 | L10: 12 | M10: 13 | N10: 14 | O10: 15 | P10: 16 | Q10: 17 | R10: 18 | S10: 19 | T10: 20 | U10: 21 | V10: 22 | W10: 23 | X10: 24 | Y10: 25 | Z10: 26 | AA10: 27
A11: 1 | B11: Участок №2 | C11: ВЛ | D11: ЦРП-10кВ ф.3 Елатьма | E11: 10 (10.5) | F11: 44334.556 | G11: 44334.587 | H11: В | I11: =(G11-F11)/$AB$9 -> 0.75 | J11: ВЛ-10кВ | K11: 0 | L11: 0 | M11: =P11 -> 988 | N11: 0 | O11: 0 | P11: 988 | Q11: 0 | R11: 0 | S11: 0 | T11: =P11 -> 988 | U11: 0 | V11: =0.22*T11 -> 217.36 | X11: №16 19.05.2021 | Y11: 3.4.8.4 | Z11: 4.12 | AA11: 1
A12: 2 | B12: Участок №2 | C12: ВЛ | D12: п/с Сабурово 110/10 кВ ф.7 | E12: 10 (10.5) | F12: 44335.944 | G12: 44336.122 | H12: В | I12: =(G12-F12)/$AB$9 -> 4.25 | J12: ВЛ-10кВ | K12: 0 | L12: 0 | M12: =P12 -> 988 | N12: 0 | O12: 0 | P12: 988 | Q12: 0 | R12: 0 | S12: 0 | T12: =P12 -> 988 | U12: 0 | V12: =0.22*T12 -> 217.36 | X12: №17 21.05.2021 | Y12: 3.4.12.3 | Z12: 4.21 | AA12: 0
A13: 3 | B13: Участок №1 | C13: ВЛ | D13: п/с Телебукино ф 11 | E13: 10 (10.5) | F13: 44344.75 | G13: 44344.896 | H13: В | I13: =(G13-F13)/$AB$9 -> 3.5 | J13: ВЛ 10кВ | K13: 0 | L13: 0 | M13: =P13 -> 136 | N13: 0 | O13: 0 | P13: 136 | Q13: 0 | R13: 0 | S13: 0 | T13: =P13 -> 136 | U13: 0 | V13: =0.22*T13 -> 29.92 | X13: №19 21.05.2021 | Y13: 3.4.7.3 | Z13: 4.12 | AA13: 1

Sheet Отчет 06
A2: Форма 8.1 - Журнал учёта данных первичной информации по всем прекращениям передачи электрической энергии, произошедших на объектах электросетевых организаций за | S2: =F11 -> 44358.63 | T2: месяц | U2: 2021 | V2: года
A3: МУ МПЖКХ Гусь-Железный
A4: наименование электросетевой организации
A6: Данные о факте прекращения передачи электрической энергии | J6: Признак АПВ (1 - Успешно/0 - Не успешно/2 - Отсутствует/3 - не работала (по принципу действия или выведена по режиму)) | K6: Признак АВР (1 - Успешно/0 - Не успешно/2 - Отсутствует/3 - не работала (по принципу действия или выведена по режиму)) | L6: Данные о масштабе прекращения передачи электрической энергии в сетевой организации | Y6: Перечень смежных сетевых организаций, затронутых прекращением передачи электрической энергии | Z6: Данные о причинах прекращения передачи электрической энергии и их расследовании | AC6: Учет в показателях надежности, в т.ч. индикативных показателях надежности (0 - нет, 1 - да)
A7: Номер прекращения передачи электрической энергии / Номер итоговой строки | B7: Наименование структурной единицы сетевой организации | C7: Вид объекта: КЛ, ВЛ, КВЛ, ПС, ТП, РП | D7: Диспетчерское наименование объекта электросетевого хозяйства сетевой организации, в результате отключения которой произошло прекращение передачи электроэнергии потребителям услуг | E7: Высший класс напряжения отключенного оборудования сетевой организации, кВ | F7: Время и дата начала прекращения передачи электрической энергии (часы, минуты, ГГГГ.ММ.ДД) | G7: Время и дата восстановления режима потребления электрической энергии потребителей услуг (часы, минуты, ГГГГ.ММ.ДД) | H7: Вид прекращения передачи электроэнергии (П, А, В) | I7: Продолжительность прекращения передачи электрической энергии, час | L7: Перечень объектов электросетевого хозяйства, отключение которых привело к прекращению передачи электрической энергии потребителям услуг (ПС, ТП, РП, ВЛ, КЛ) | M7: Перечень потребителей 1-й и 2-й категорий надежности, в отношении которых произошло полное ограничение режима потребления электрической энергии | N7: Перечень потребителей 1-й и 2-й категорий надежности, в отношении которых произошло частичное ограничение режима потребления электрической энергии | O7: Количество точек поставки потребителей услуг сетевой организации, в отношении которых произошел перерыв электроснабжения, шт., в том числе: | X7: Суммарный объем фактической нагрузки (мощности) на присоединениях потребителей услуг, по которым произошло прекращение передачи электрической энергии на момент возникновения такого события, кВт
O8: ВСЕГО | P8: в разделении категорий надежности потребителей электрической энергии | S8: в разделении уровней напряжения ЭПУ потребителя электрической энергии | W8: Смежные сетевые организации и производители электрической энергии | Z8: Номер и дата акта расследования технологического нарушения, записи в оперативном журнале | AA8: Код организационной причины аварии | AB8: Код технической причины повреждения оборудования
P9: 1-я категория надежности | Q9: 2-я категория надежности | R9: 3-я категория надежности | S9: ВН (110 кВ и выше) | T9: СН1 (35 кВ) | U9: СН2 (6-20 кВ) | V9: НН (0,22-1 кВ) | AD9: 0.041666667
A10: 1 | B10: 2 | C10: 3 | D10: 4 | E10: 5 | F10: 6 | G10: 7 | H10: 8 | I10: 9 | J10: 10 | K10: 11 | L10: 12 | M10: 13 | N10: 14 | O10: 15 | P10: 16 | Q10: 17 | R10: 18 | S10: 19 | T10: 20 | U10: 21 | V10: 22 | W10: 23 | X10: 24 | Y10: 25 | Z10: 26 | AA10: 27 | AB10: 28 | AC10: 29
A11: 8 | B11: Участок №2 | C11: ВЛ | D11: п/с Сабурово 110/10 кВ ф.7 | E11: 10 (10.5) | F11: 44358.63 | G11: 44358.65 | H11: В | I11: =(G11-F11)/$AD$9 -> 0.48333333 | J11: 2 | K11: 2 | L11: ВЛ-10кВ | M11: 0 | N11: 0 | O11: =R11 -> 1121 | P11: 0 | Q11: 0 | R11: 1121 | S11: 0 | T11: 0 | U11: 0 | V11: =R11 -> 1121 | W11: 0 | X11: =0.22*V11 -> 246.62 | Z11: №19 07.06.2021 | AA11: =[1]орг_прич!$D$30 -> 3.4.12.3 | AB11: 4.12 | AC11: 1
A12: 12 | B12: Участок №2 | C12: ВЛ | D12: п/с Сабурово 110/10 кВ ф.7 | E12: 10 (10.5) | F12: 44375.781 | G12: 44375.858 | H12: В | I12: =(G12-F12)/$AD$9 -> 1.8333333 | J12: 2 | K12: 2 | L12: ВЛ-10кВ | M12: 0 | N12: 0 | O12: =R12 -> 1121 | P12: 0 | Q12: 0 | R12: 1121 | S12: 0 | T12: 0 | U12: 0 | V12: =R12 -> 1121 | W12: 0 | X12: =0.22*V12 -> 246.62 | Z12: №21 29.06.2021 | AA12: 3.4.12.3 | AB12: 4.21 | AC12: 1
A13: 13 | B13: Участок №2 | C13: ТП | D13: ЦРП-10кВ ф.3 Елатьма | E13: 10 (10.5) | F13: 44375.95 | G13: 44375.969 | H13: В | I13: =(G13-F13)/$AD$9 -> 0.45 | J13: 2 | K13: 2 | L13: ВЛ-10кВ | M13: 0 | N13: 0 | O13: =R13 -> 988 | P13: 0 | Q13: 0 | R13: 988 | S13: 0 | T13: 0 | U13: 0 | V13: =R13 -> 988 | W13: 0 | X13: =0.22*V13 -> 217.36 | Z13: №22 29.06.2021 | AA13: 3.4.12.3 | AB13: 4.13 | AC13: 1
A14: 14 | B14: Участок №2 | C14: ВЛ | D14: ТП-2179 ВЛ-10кВ Любовниково | E14: 10 (10.5) | F14: 44376.472 | G14: 44376.604 | H14: В | I14: =(G14-F14)/$AD$9 -> 3.1666667 | J14: 2 | K14: 2 | L14: ВЛ-10кВ | M14: 0 | N14: 0 | O14: =R14 -> 12 | P14: 0 | Q14: 0 | R14: 12 | S14: 0 | T14: 0 | U14: 0 | V14: =R14 -> 12 | W14: 0 | X14: =0.22*V14 -> 2.64 | Z14: №23 30.06.2021 | AA14: 3.4.12.3 | AB14: =[1]тех_прич!$D$8 -> 4.4 | AC14: 1

Sheet кв2
A2: Форма 8.1 - Журнал учёта данных первичной информации по всем прекращениям передачи электрической энергии, произошедших на объектах электросетевых организаций за | Q2: 2 | R2: квартал | S2: 2021 | T2: года
A3: МУ МПЖКХ Гусь-Железный
A4: наименование электросетевой организации
A6: Данные о факте прекращения передачи электрической энергии | J6: Данные о масштабе прекращения передачи электрической энергии в сетевой организации | W6: Перечень смежных сетевых организаций, затронутых прекращением передачи электрической энергии | X6: Данные о причинах прекращения передачи электрической энергии и их расследовании | AA6: Учет в показателях надежности, в т.ч. индикативных показателях надежности (0 - нет, 1 - да)
A7: Номер прекращения передачи электрической энергии / Номер итоговой строки | B7: Наименование структурной единицы сетевой организации | C7: Вид объекта: КЛ, ВЛ, КВЛ, ПС, ТП, РП | D7: Диспетчерское наименование объекта электросетевого хозяйства сетевой организации, в результате отключения которой произошло прекращение передачи электроэнергии потребителям услуг | E7: Высший класс напряжения отключенного оборудования сетевой организации, кВ | F7: Время и дата начала прекращения передачи электрической энергии (часы, минуты, ГГГГ.ММ.ДД) | G7: Время и дата восстановления режима потребления электрической энергии потребителей услуг (часы, минуты, ГГГГ.ММ.ДД) | H7: Вид прекращения передачи электроэнергии (П, А, В) | I7: Продолжительность прекращения передачи электрической энергии, час | J7: Перечень объектов электросетевого хозяйства, отключение которых привело к прекращению передачи электрической энергии потребителям услуг (ПС, ТП, РП, ВЛ, КЛ) | K7: Перечень потребителей 1-й и 2-й категорий надежности, в отношении которых произошло полное ограничение режима потребления электрической энергии | L7: Перечень потребителей 1-й и 2-й категорий надежности, в отношении которых произошло частичное ограничение режима потребления электрической энергии | M7: Количество точек поставки потребителей услуг сетевой организации, в отношении которых произошел перерыв электроснабжения, шт., в том числе: | V7: Суммарный объем фактической нагрузки (мощности) на присоединениях потребителей услуг, по которым произошло прекращение передачи электрической энергии на момент возникновения такого события, кВт
M8: ВСЕГО | N8: в разделении категорий надежности потребителей электрической энергии | Q8: в разделении уровней напряжения ЭПУ потребителя электрической энергии | U8: Смежные сетевые организации и производители электрической энергии | X8: Номер и дата акта расследования технологического нарушения, записи в оперативном журнале | Y8: Код организационной причины аварии | Z8: Код технической причины повреждения оборудования
N9: 1-я категория надежности | O9: 2-я категория надежности | P9: 3-я категория надежности | Q9: ВН (110 кВ и выше) | R9: СН1 (35 кВ) | S9: СН2 (6-20 кВ) | T9: НН (0,22-1 кВ)
A10: 1 | B10: 2 | C10: 3 | D10: 4 | E10: 5 | F10: 6 | G10: 7 | H10: 8 | I10: 9 | J10: 10 | K10: 11 | L10: 12 | M10: 13 | N10: 14 | O10: 15 | P10: 16 | Q10: 17 | R10: 18 | S10: 19 | T10: 20 | U10: 21 | V10: 22 | W10: 23 | X10: 24 | Y10: 25 | Z10: 26 | AA10: 27
A11: 20 | B11: Участок №2 | C11: ВЛ | D11: ВЛ-0,4кВ №4 КТП-14, ф.4 ЦРП 10кВ Елатьма | E11: 10 (10.5) | F11: 18,20 2021.04.02 | G11: 19,25 2021.04.02 | H11: В | I11: 1.0833333 | J11: 2 | K11: 2 | L11: ВЛ 0,4кВ | M11: 0 | N11: 0 | O11: 19 | P11: 0 | Q11: 0 | R11: 19 | S11: 0 | T11: 0 | U11: 0 | V11: 19 | W11: 0 | X11: 4.18 | Z11: №8 09.04.2021 | AA11: 3.4.9.3 | AC11: 0
A12: 21 | B12: Участок №2 | C12: ВЛ | D12: ЦРП-10кВ ф.3 Елатьма | E12: 10 (10.5) | F12: 21,45 2021.04.07 | G12: 22,03 2021.04.07 | H12: В | I12: 0.3 | J12: 2 | K12: 2 | L12: ВЛ-10кВ | M12: 0 | N12: 0 | O12: 1261 | P12: 0 | Q12: 0 | R12: 1261 | S12: 0 | T12: 0 | U12: 0 | V12: 1261 | W12: 0 | X12: 277.42 | Z12: №9 09.04.2021 | AA12: 3.4.9.3 | AC12: 0
A13: 22 | B13: Участок №1 | C13: ВЛ | D13: ВЛ №1 ТП-2445 ф.1.ПС110/35/10кВ ф.2 Шостье | E13: 10 (10.5) | F13: 01,00 2021.04.08 | G13: 14,00 2021.04.08 | H13: В | I13: 13 | J13: 2 | K13: 2 | L13: ВЛ-10кВ | M13: 0 | N13: 0 | O13: 66 | P13: 0 | Q13: 0 | R13: 66 | S13: 0 | T13: 0 | U13: 0 | V13: 66 | W13: 0 | X13: 14.52 | Z13: №10 09.04.2021 | AA13: 3.4.9.1 | AB13: 4.21 | AC13: 0
A14: 23 | B14: Участок №1 | C14: ВЛ | D14: ВЛ №1 ТП-2445 ф.1.ПС110/35/10кВ ф.2 Шостье | E14: 10 (10.5) | F14: 02,00 2021.04.21 | G14: 15,00 2021.04.21 | H14: В | I14: 13 | J14: 2 | K14: 2 | L14: ВЛ 10кВ | M14: 0 | N14: 0 | O14: 66 | P14: 0 | Q14: 0 | R14: 66 | S14: 0 | T14: 0 | U14: 0 | V14: 66 | W14: 0 | X14: 14.52 | Z14: №11 22.04.2021 | AA14: 3.4.9.1 | AB14: 4.21 | AC14: 0
A15: 24 | B15: Участок №2 | C15: ВЛ | D15: п/с Сабурово 110/10 кВ ф.7 | E15: 10 (10.5) | F15: 15,19 2021.04.24 | G15: 20,08 2021.04.24 | H15: В | I15: 4.8166667 | J15: 2 | K15: 2 | L15: ВЛ-10кВ | M15: 0 | N15: 0 | O15: 1261 | P15: 0 | Q15: 0 | R15: 1261 | S15: 0 | T15: 0 | U15: 0 | V15: 1261 | W15: 0 | X15: 277.42 | Z15: №12 26.04.2021 | AA15: 3.4.7.4 | AB15: 4.14 | AC15: 1
A16: 25 | B16: Участок №2 | C16: КЛ | D16: КТП-1а КЛ-10кВ | E16: 0.38 | F16: 21,45 2021.04.24 | G16: 22,10 2021.04.24 | H16: В | I16: 0.41666667 | J16: 2 | K16: 2 | L16: ВЛ-10кВ | M16: 0 | N16: 0 | O16: 32 | P16: 0 | Q16: 0 | R16: 32 | S16: 0 | T16: 0 | U16: 0 | V16: 32 | W16: 0 | X16: 7.04 | Z16: №13 26.04.2021 | AA16: 3.4.7.4 | AB16: 4.10 | AC16: 1
A17: 26 | B17: Участок №1 | C17: ВЛ | D17: ВЛ-10кВ №2 п/с Затон 35/10 кВ ф2 | E17: 10 (10.5) | F17: 12,00 2021.04.25 | G17: 21,30 2021.04.25 | H17: В | I17: 9.5 | J17: 2 | K17: 2 | L17: ВЛ-10кВ | M17: 0 | N17: 0 | O17: 52 | P17: 0 | Q17: 0 | R17: 52 | S17: 0 | T17: 0 | U17: 0 | V17: 52 | W17: 0 | X17: 11.44 | Z17: №14 26.04.2022 | AA17: 3.4.9.1 | AB17: 4.21 | AC17: 0
A18: 27 | B18: Участок №1 | C18: ВЛ | D18: ВЛ №2 ЗТП-8 ф.2. ПС35/10кВ ф.5 Лашма | E18: 10 (10.5) | F18: 15,30 2021.04.30 | G18: 19,00 2021.04.30 | H18: В | I18: 3.5 | J18: 2 | K18: 2 | L18: ВЛ 0,4кВ | M18: 0 | N18: 0 | O18: 15 | P18: 0 | Q18: 0 | R18: 15 | S18: 0 | T18: 0 | U18: 0 | V18: 15 | W18: 0 | X18: 3.1 | Z18: №15 04.05.2021 | AA18: 3.4.8.3 | AB18: 4.4 | AC18: 0
A19: 28 | B19: ='Отчет 05'!B11 -> Участок №2 | C19: ='Отчет 05'!C11 -> ВЛ | D19: ='Отчет 05'!D11 -> ЦРП-10кВ ф.3 Елатьма | E19: ='Отчет 05'!E11 -> 10 (10.5) | F19: ='Отчет 05'!F11 -> 44334.556 | G19: ='Отчет 05'!G11 -> 44334.587 | H19: ='Отчет 05'!H11 -> В | I19: ='Отчет 05'!I11 -> 0.75 | J19: 2 | K19: 2 | L19: ='Отчет 05'!J11 -> ВЛ-10кВ | M19: ='Отчет 05'!K11 -> 0 | N19: ='Отчет 05'!L11 -> 0 | O19: ='Отчет 05'!M11 -> 988 | P19: ='Отчет 05'!N11 -> 0 | Q19: ='Отчет 05'!O11 -> 0 | R19: ='Отчет 05'!P11 -> 988 | S19: ='Отчет 05'!Q11 -> 0 | ... AC19: ='Отчет 05'!AA11 -> 1
A20: 29 | B20: ='Отчет 05'!B12 -> Участок №2 | C20: ='Отчет 05'!C12 -> ВЛ | D20: ='Отчет 05'!D12 -> п/с Сабурово 110/10 кВ ф.7 | E20: ='Отчет 05'!E12 -> 10 (10.5) | F20: ='Отчет 05'!F12 -> 44335.944 | G20: ='Отчет 05'!G12 -> 44336.122 | H20: ='Отчет 05'!H12 -> В | I20: ='Отчет 05'!I12 -> 4.25 | J20: 2 | K20: 2 | L20: ='Отчет 05'!J12 -> ВЛ-10кВ | M20: ='Отчет 05'!K12 -> 0 | N20: ='Отчет 05'!L12 -> 0 | O20: ='Отчет 05'!M12 -> 988 | P20: ='Отчет 05'!N12 -> 0 | Q20: ='Отчет 05'!O12 -> 0 | R20: ='Отчет 05'!P12 -> 988 | S20: ='Отчет 05'!Q12 -> 0 | ... AC20: ='Отчет 05'!AA12 -> 0
A21: 30 | B21: ='Отчет 05'!B13 -> Участок №1 | C21: ='Отчет 05'!C13 -> ВЛ | D21: ='Отчет 05'!D13 -> п/с Телебукино ф 11 | E21: ='Отчет 05'!E13 -> 10 (10.5) | F21: ='Отчет 05'!F13 -> 44344.75 | G21: ='Отчет 05'!G13 -> 44344.896 | H21: ='Отчет 05'!H13 -> В | I21: ='Отчет 05'!I13 -> 3.5 | J21: 2 | K21: 2 | L21: ='Отчет 05'!J13 -> ВЛ 10кВ | M21: ='Отчет 05'!K13 -> 0 | N21: ='Отчет 05'!L13 -> 0 | O21: ='Отчет 05'!M13 -> 136 | P21: ='Отчет 05'!N13 -> 0 | Q21: ='Отчет 05'!O13 -> 0 | R21: ='Отчет 05'!P13 -> 136 | S21: ='Отчет 05'!Q13 -> 0 | ... AC21: ='Отчет 05'!AA13 -> 1
A22: 31 | B22: ='Отчет 06'!B11 -> Участок №2 | C22: ='Отчет 06'!C11 -> ВЛ | D22: ='Отчет 06'!D11 -> п/с Сабурово 110/10 кВ ф.7 | E22: ='Отчет 06'!E11 -> 10 (10.5) | F22: ='Отчет 06'!F11 -> 44358.63 | G22: ='Отчет 06'!G11 -> 44358.65 | H22: ='Отчет 06'!H11 -> В | I22: ='Отчет 06'!I11 -> 0.48333333 | J22: 2 | K22: 2 | L22: ='Отчет 06'!L11 -> ВЛ-10кВ | M22: ='Отчет 06'!M11 -> 0 | N22: ='Отчет 06'!N11 -> 0 | O22: ='Отчет 06'!O11 -> 1121 | P22: ='Отчет 06'!P11 -> 0 | Q22: ='Отчет 06'!Q11 -> 0 | R22: ='Отчет 06'!R11 -> 1121 | S22: ='Отчет 06'!S11 -> 0 | ... AC22: ='Отчет 06'!AC11 -> 1
A23: 32 | B23: ='Отчет 06'!B12 -> Участок №2 | C23: ='Отчет 06'!C12 -> ВЛ | D23: ='Отчет 06'!D12 -> п/с Сабурово 110/10 кВ ф.7 | E23: ='Отчет 06'!E12 -> 10 (10.5) | F23: ='Отчет 06'!F12 -> 44375.781 | G23: ='Отчет 06'!G12 -> 44375.858 | H23: ='Отчет 06'!H12 -> В | I23: ='Отчет 06'!I12 -> 1.8333333 | J23: 2 | K23: 2 | L23: ='Отчет 06'!L12 -> ВЛ-10кВ | M23: ='Отчет 06'!M12 -> 0 | N23: ='Отчет 06'!N12 -> 0 | O23: ='Отчет 06'!O12 -> 1121 | P23: ='Отчет 06'!P12 -> 0 | Q23: ='Отчет 06'!Q12 -> 0 | R23: ='Отчет 06'!R12 -> 1121 | S23: ='Отчет 06'!S12 -> 0 | ... AC23: ='Отчет 06'!AC12 -> 1
A24: 33 | B24: ='Отчет 06'!B13 -> Участок №2 | C24: ='Отчет 06'!C13 -> ТП | D24: ='Отчет 06'!D13 -> ЦРП-10кВ ф.3 Елатьма | E24: ='Отчет 06'!E13 -> 10 (10.5) | F24: ='Отчет 06'!F13 -> 44375.95 | G24: ='Отчет 06'!G13 -> 44375.969 | H24: ='Отчет 06'!H13 -> В | I24: ='Отчет 06'!I13 -> 0.45 | J24: 2 | K24: 2 | L24: ='Отчет 06'!L13 -> ВЛ-10кВ | M24: ='Отчет 06'!M13 -> 0 | N24: ='Отчет 06'!N13 -> 0 | O24: ='Отчет 06'!O13 -> 988 | P24: ='Отчет 06'!P13 -> 0 | Q24: ='Отчет 06'!Q13 -> 0 | R24: ='Отчет 06'!R13 -> 988 | S24: ='Отчет 06'!S13 -> 0 | ... AC24: ='Отчет 06'!AC13 -> 1

Sheet Отчет 07
A2: Форма 8.1 - Журнал учёта данных первичной информации по всем прекращениям передачи электрической энергии, произошедших на объектах электросетевых организаций за | S2: =F12 -> 44392.559 | T2: месяц | U2: 2021 | V2: года
A3: МУ МПЖКХ Гусь-Железный
A4: наименование электросетевой организации
A6: Данные о факте прекращения передачи электрической энергии | J6: Признак АПВ (1 - Успешно/0 - Не успешно/2 - Отсутствует/3 - не работала (по принципу действия или выведена по режиму)) | K6: Признак АВР (1 - Успешно/0 - Не успешно/2 - Отсутствует/3 - не работала (по принципу действия или выведена по режиму)) | L6: Данные о масштабе прекращения передачи электрической энергии в сетевой организации | Y6: Перечень смежных сетевых организаций, затронутых прекращением передачи электрической энергии | Z6: Данные о причинах прекращения передачи электрической энергии и их расследовании | AC6: Учет в показателях надежности, в т.ч. индикативных показателях надежности (0 - нет, 1 - да)
A7: Номер прекращения передачи электрической энергии / Номер итоговой строки | B7: Наименование структурной единицы сетевой организации | C7: Вид объекта: КЛ, ВЛ, КВЛ, ПС, ТП, РП | D7: Диспетчерское наименование объекта электросетевого хозяйства сетевой организации, в результате отключения которой произошло прекращение передачи электроэнергии потребителям услуг | E7: Высший класс напряжения отключенного оборудования сетевой организации, кВ | F7: Время и дата начала прекращения передачи электрической энергии (часы, минуты, ГГГГ.ММ.ДД) | G7: Время и дата восстановления режима потребления электрической энергии потребителей услуг (часы, минуты, ГГГГ.ММ.ДД) | H7: Вид прекращения передачи электроэнергии (П, А, В) | I7: Продолжительность прекращения передачи электрической энергии, час | L7: Перечень объектов электросетевого хозяйства, отключение которых привело к прекращению передачи электрической энергии потребителям услуг (ПС, ТП, РП, ВЛ, КЛ) | M7: Перечень потребителей 1-й и 2-й категорий надежности, в отношении которых произошло полное ограничение режима потребления электрической энергии | N7: Перечень потребителей 1-й и 2-й категорий надежности, в отношении которых произошло частичное ограничение режима потребления электрической энергии | O7: Количество точек поставки потребителей услуг сетевой организации, в отношении которых произошел перерыв электроснабжения, шт., в том числе: | X7: Суммарный объем фактической нагрузки (мощности) на присоединениях потребителей услуг, по которым произошло прекращение передачи электрической энергии на момент возникновения такого события, кВт
O8: ВСЕГО | P8: в разделении категорий надежности потребителей электрической энергии | S8: в разделении уровней напряжения ЭПУ потребителя электрической энергии | W8: Смежные сетевые организации и производители электрической энергии | Z8: Номер и дата акта расследования технологического нарушения, записи в оперативном журнале | AA8: Код организационной причины аварии | AB8: Код технической причины повреждения оборудования
P9: 1-я категория надежности | Q9: 2-я категория надежности | R9: 3-я категория надежности | S9: ВН (110 кВ и выше) | T9: СН1 (35 кВ) | U9: СН2 (6-20 кВ) | V9: НН (0,22-1 кВ) | AD9: 0.041666667
A10: 1 | B10: 2 | C10: 3 | D10: 4 | E10: 5 | F10: 6 | G10: 7 | H10: 8 | I10: 9 | J10: 10 | K10: 11 | L10: 12 | M10: 13 | N10: 14 | O10: 15 | P10: 16 | Q10: 17 | R10: 18 | S10: 19 | T10: 20 | U10: 21 | V10: 22 | W10: 23 | X10: 24 | Y10: 25 | Z10: 26 | AA10: 27 | AB10: 28 | AC10: 29
A11: 1 | B11: Участок №2 | C11: ВЛ | D11: ЦРП-10кВ ф.3 Елатьма | E11: 10 (10.5) | F11: 44392.479 | G11: 44392.493 | H11: В | I11: =(G11-F11)/$AD$9 -> 0.33333333 | J11: 2 | K11: 2 | L11: ВЛ-10кВ | M11: 0 | N11: 0 | O11: =R11 -> 1116 | P11: 0 | Q11: 0 | R11: 1116 | S11: 0 | T11: 0 | U11: 0 | V11: =R11 -> 1116 | W11: 0 | X11: =0.22*V11 -> 245.52 | Z11: №24 16.07.2021 | AA11: 3.4.12.3 | AB11: 4.21 | AC11: 1
A12: 2 | B12: Участок №2 | C12: ВЛ | D12: п/с Сабурово 110/10 кВ ф.7 | E12: 10 (10.5) | F12: 44392.559 | G12: 44392.669 | H12: В | I12: =(G12-F12)/$AD$9 -> 2.6333333 | J12: 2 | K12: 2 | L12: ВЛ-10кВ | M12: 0 | N12: 0 | O12: =R12 -> 1116 | P12: 0 | Q12: 0 | R12: 1116 | S12: 0 | T12: 0 | U12: 0 | V12: =R12 -> 1116 | W12: 0 | X12: =0.22*V12 -> 245.52 | Z12: №25 16.07.2021 | AA12: 3.4.9.1 | AB12: 4.21 | AC12: 0
A13: 3 | B13: Участок №1 | C13: ВЛ | D13: п.Малеевский карьер ПС-Телебукино ВЛ-10кВ ф14 | E13: 10 (10.5) | F13: 44392.646 | G13: 44392.771 | H13: В | I13: =(G13-F13)/$AD$9 -> 3 | J13: 2 | K13: 2 | L13: ВЛ-10кВ | M13: 0 | N13: 0 | O13: =R13 -> 42 | P13: 0 | Q13: 0 | R13: 42 | S13: 0 | T13: 0 | U13: 0 | V13: =R13 -> 42 | W13: 0 | X13: =0.22*V13 -> 9.24 | Z13: №26 16.07.2021 | AA13: 3.4.9.1 | AB13: 4.21 | AC13: 0
A14: 4 | B14: Участок №1 | C14: ВЛ | D14: п.Малеевский карьер ПС-Телебукино ВЛ-10кВ ф14 | E14: 10 (10.5) | F14: 44393.583 | G14: 44393.771 | H14: В | I14: =(G14-F14)/$AD$9 -> 4.5 | J14: 2 | K14: 2 | L14: ВЛ-10кВ | M14: 0 | N14: 0 | O14: =R14 -> 42 | P14: 0 | Q14: 0 | R14: 42 | S14: 0 | T14: 0 | U14: 0 | V14: =R14 -> 42 | W14: 0 | X14: =0.22*V14 -> 9.24 | Z14: №27 19.07.2023 | AA14: 3.4.9.1 | AB14: 4.21 | AC14: 0
A15: 5 | B15: Участок №1 | C15: ВЛ | D15: п.Лашма ТП-1 ВЛ-0,4кВ ф1 | E15: 0.38 | F15: 44396.812 | G15: 44396.896 | H15: В | I15: =(G15-F15)/$AD$9 -> 2 | J15: 2 | K15: 2 | L15: ВЛ-0,4кВ | M15: 0 | N15: 0 | O15: =R15 -> 28 | P15: 0 | Q15: 0 | R15: 28 | S15: 0 | T15: 0 | U15: 0 | V15: =R15 -> 28 | W15: 0 | X15: =0.22*V15 -> 6.16 | Z15: №28 20.07.2024 | AA15: 3.4.9.3 | AB15: 4.4 | AC15: 0
A16: 6 | B16: Участок №1 | C16: ВЛ | D16: ПС-Лашма ВЛ-10кВ ф5 | E16: 10 (10.5) | F16: 44406.25 | G16: 44406.351 | H16: В | I16: =(G16-F16)/$AD$9 -> 2.4166667 | J16: 2 | K16: 2 | L16: ВЛ-10кВ | M16: 0 | N16: 0 | O16: =R16 -> 286 | P16: 0 | Q16: 0 | R16: 286 | S16: 0 | T16: 0 | U16: 0 | V16: =R16 -> 286 | W16: 0 | X16: =0.22*V16 -> 62.92 | Z16: №25 30.07.2025 | AA16: 3.4.10 | AB16: 4.17 | AC16: 1

Sheet Отчёт 08

Sheet Отчет09
A2: Форма 8.1 - Журнал учёта данных первичной информации по всем прекращениям передачи электрической энергии, произошедших на объектах электросетевых организаций за | U2: =F12 -> 44443.417 | V2: месяц | W2: 2021 | X2: года
A3: МУ МПЖКХ Гусь-Железный
A4: наименование электросетевой организации
A6: Данные о факте прекращения передачи электрической энергии | L6: Данные о масштабе прекращения передачи электрической энергии в сетевой организации | Y6: Перечень смежных сетевых организаций, затронутых прекращением передачи электрической энергии | Z6: Данные о причинах прекращения передачи электрической энергии и их расследовании | AC6: Учет в показателях надежности, в т.ч. индикативных показателях надежности (0 - нет, 1 - да)
A7: Номер прекращения передачи электрической энергии / Номер итоговой строки | B7: Наименование структурной единицы сетевой организации | C7: Вид объекта: КЛ, ВЛ, КВЛ, ПС, ТП, РП | D7: Диспетчерское наименование объекта электросетевого хозяйства сетевой организации, в результате отключения которой произошло прекращение передачи электроэнергии потребителям услуг | E7: Высший класс напряжения отключенного оборудования сетевой организации, кВ | F7: Время и дата начала прекращения передачи электрической энергии (часы, минуты, ГГГГ.ММ.ДД) | G7: Время и дата восстановления режима потребления электрической энергии потребителей услуг (часы, минуты, ГГГГ.ММ.ДД) | H7: Вид прекращения передачи электроэнергии (П, А, В) | I7: Продолжительность прекращения передачи электрической энергии, час | J7: Признак АПВ (1 - Успешно/0 - Не успешно/2 - Отсутствует/3 - не работала (по принципу действия или выведена по режиму)) | K7: Признак АВР (1 - Успешно/0 - Не успешно/2 - Отсутствует/3 - не работала (по принципу действия или выведена по режиму)) | L7: Перечень объектов электросетевого хозяйства, отключение которых привело к прекращению передачи электрической энергии потребителям услуг (ПС, ТП, РП, ВЛ, КЛ) | M7: Перечень потребителей 1-й и 2-й категорий надежности, в отношении которых произошло полное ограничение режима потребления электрической энергии | N7: Перечень потребителей 1-й и 2-й категорий надежности, в отношении которых произошло частичное ограничение режима потребления электрической энергии | O7: Количество точек поставки потребителей услуг сетевой организации, в отношении которых произошел перерыв электроснабжения, шт., в том числе: | X7: Суммарный объем фактической нагрузки (мощности) на присоединениях потребителей услуг, по которым произошло прекращение передачи электрической энергии на момент возникновения такого события, кВт
O8: ВСЕГО | P8: в разделении категорий надежности потребителей электрической энергии | S8: в разделении уровней напряжения ЭПУ потребителя электрической энергии | W8: Смежные сетевые организации и производители электрической энергии | Z8: Номер и дата акта расследования технологического нарушения, записи в оперативном журнале | AA8: Код организационной причины аварии | AB8: Код технической причины повреждения оборудования
P9: 1-я категория надежности | Q9: 2-я категория надежности | R9: 3-я категория надежности | S9: ВН (110 кВ и выше) | T9: СН1 (35 кВ) | U9: СН2 (6-20 кВ) | V9: НН (0,22-1 кВ) | AD9: 0.041666667
A10: 1 | B10: 2 | C10: 3 | D10: 4 | E10: 5 | F10: 6 | G10: 7 | H10: 8 | I10: 9 | J10: 10 | K10: 11 | L10: 12 | M10: 13 | N10: 14 | O10: 15 | P10: 16 | Q10: 17 | R10: 18 | S10: 19 | T10: 20 | U10: 21 | V10: 22 | W10: 23 | X10: 24 | Y10: 25 | Z10: 26 | AA10: 27 | AB10: 28 | AC10: 29
A11: 1 | B11: Участок №1 | C11: ВЛ | D11: ПС-Лашма ф5 ВЛ-10кВ | E11: 10 (10.5) | F11: 44440.486 | G11: 44440.604 | H11: В | I11: =(G11-F11)/$AD$9 -> 2.8333333 | J11: 2 | K11: 2 | L11: ВЛ-10кВ №5 | M11: 0 | N11: 0 | O11: =R11 -> 248 | P11: 0 | Q11: 0 | R11: 248 | S11: 0 | T11: 0 | U11: 0 | V11: =R11 -> 248 | W11: 0 | X11: =0.22*V11 -> 54.56 | Z11: №35 02.09.2021 | AA11: 3.4.9.1 | AB11: 4.21 | AC11: 0
A12: 2 | B12: Участок №1 | C12: ВЛ | D12: ПС-Телебукино ф11 ВЛ-10кВ | E12: 10 (10.5) | F12: 44443.417 | G12: 44443.542 | H12: В | I12: =(G12-F12)/$AD$9 -> 3 | J12: 2 | K12: 2 | L12: ВЛ-10кВ №11 | M12: 0 | N12: 0 | O12: =R12 -> 362 | P12: 0 | Q12: 0 | R12: 362 | S12: 0 | T12: 0 | U12: 0 | V12: =R12 -> 362 | W12: 0 | X12: =0.22*V12 -> 79.64 | Z12: №36 06.09.2021 | AA12: 3.4.12.2 | AB12: 4.4 | AC12: 1
A13: 3 | B13: Участок №1 | C13: ВЛ | D13: п.Ташенка ТП-5 РУ-0,4кВ ф4 | E13: 0.38 | F13: 44460.833 | G13: 44461.021 | H13: В | I13: =(G13-F13)/$AD$9 -> 4.5 | J13: 2 | K13: 2 | L13: ВЛ-0,4кВ №4 | M13: 0 | N13: 0 | O13: =R13 -> 144 | P13: 0 | Q13: 0 | R13: 144 | S13: 0 | T13: 0 | U13: 0 | V13: =R13 -> 144 | W13: 0 | X13: =0.22*V13 -> 31.68 | Z13: №37 24.09.2021 | AA13: 3.4.7.3 | AB13: 4.10 | AC13: 1

Sheet кв3
A2: Форма 8.1 - Журнал учёта данных первичной информации по всем прекращениям передачи электрической энергии, произошедших на объектах электросетевых организаций за | T2: 3кв | U2: 2021 | V2: года
A3: МУ МПЖКХ Гусь-Железный
A4: наименование электросетевой организации
A6: Данные о факте прекращения передачи электрической энергии | J6: Признак АПВ (1 - Успешно/0 - Не успешно/2 - Отсутствует/3 - не работала (по принципу действия или выведена по режиму)) | K6: Признак АВР (1 - Успешно/0 - Не успешно/2 - Отсутствует/3 - не работала (по принципу действия или выведена по режиму)) | L6: Данные о масштабе прекращения передачи электрической энергии в сетевой организации | Y6: Перечень смежных сетевых организаций, затронутых прекращением передачи электрической энергии | Z6: Данные о причинах прекращения передачи электрической энергии и их расследовании | AC6: Учет в показателях надежности, в т.ч. индикативных показателях надежности (0 - нет, 1 - да)
A7: Номер прекращения передачи электрической энергии / Номер итоговой строки | B7: Наименование структурной единицы сетевой организации | C7: Вид объекта: КЛ, ВЛ, КВЛ, ПС, ТП, РП | D7: Диспетчерское наименование объекта электросетевого хозяйства сетевой организации, в результате отключения которой произошло прекращение передачи электроэнергии потребителям услуг | E7: Высший класс напряжения отключенного оборудования сетевой организации, кВ | F7: Время и дата начала прекращения передачи электрической энергии (часы, минуты, ГГГГ.ММ.ДД) | G7: Время и дата восстановления режима потребления электрической энергии потребителей услуг (часы, минуты, ГГГГ.ММ.ДД) | H7: Вид прекращения передачи электроэнергии (П, А, В) | I7: Продолжительность прекращения передачи электрической энергии, час | L7: Перечень объектов электросетевого хозяйства, отключение которых привело к прекращению передачи электрической энергии потребителям услуг (ПС, ТП, РП, ВЛ, КЛ) | M7: Перечень потребителей 1-й и 2-й категорий надежности, в отношении которых произошло полное ограничение режима потребления электрической энергии | N7: Перечень потребителей 1-й и 2-й категорий надежности, в отношении которых произошло частичное ограничение режима потребления электрической энергии | O7: Количество точек поставки потребителей услуг сетевой организации, в отношении которых произошел перерыв электроснабжения, шт., в том числе: | X7: Суммарный объем фактической нагрузки (мощности) на присоединениях потребителей услуг, по которым произошло прекращение передачи электрической энергии на момент возникновения такого события, кВт
O8: ВСЕГО | P8: в разделении категорий надежности потребителей электрической энергии | S8: в разделении уровней напряжения ЭПУ потребителя электрической энергии | W8: Смежные сетевые организации и производители электрической энергии | Z8: Номер и дата акта расследования технологического нарушения, записи в оперативном журнале | AA8: Код организационной причины аварии | AB8: Код технической причины повреждения оборудования
P9: 1-я категория надежности | Q9: 2-я категория надежности | R9: 3-я категория надежности | S9: ВН (110 кВ и выше) | T9: СН1 (35 кВ) | U9: СН2 (6-20 кВ) | V9: НН (0,22-1 кВ) | AD9: 0.041666667
A10: 1 | B10: 2 | C10: 3 | D10: 4 | E10: 5 | F10: 6 | G10: 7 | H10: 8 | I10: 9 | J10: 10 | K10: 11 | L10: 12 | M10: 13 | N10: 14 | O10: 15 | P10: 16 | Q10: 17 | R10: 18 | S10: 19 | T10: 20 | U10: 21 | V10: 22 | W10: 23 | X10: 24 | Y10: 25 | Z10: 26 | AA10: 27 | AB10: 28 | AC10: 29
A11: 1 | B11: Участок №2 | C11: ВЛ | D11: ЦРП-10кВ ф.3 Елатьма | E11: 10 (10.5) | F11: 44392.479 | G11: 44392.493 | H11: В | I11: =(G11-F11)/$AD$9 -> 0.33333333 | J11: 2 | K11: 2 | L11: ВЛ-10кВ | M11: 0 | N11: 0 | O11: =R11 -> 1116 | P11: 0 | Q11: 0 | R11: 1116 | S11: 0 | T11: 0 | U11: 0 | V11: =R11 -> 1116 | W11: 0 | X11: =0.22*V11 -> 245.52 | Z11: №24 16.07.2021 | AA11: 3.4.12.3 | AB11: 4.21 | AC11: 1
A12: 2 | B12: Участок №2 | C12: ВЛ | D12: п/с Сабурово 110/10 кВ ф.7 | E12: 10 (10.5) | F12: 44392.559 | G12: 44392.669 | H12: В | I12: =(G12-F12)/$AD$9 -> 2.6333333 | J12: 2 | K12: 2 | L12: ВЛ-10кВ | M12: 0 | N12: 0 | O12: =R12 -> 1116 | P12: 0 | Q12: 0 | R12: 1116 | S12: 0 | T12: 0 | U12: 0 | V12: =R12 -> 1116 | W12: 0 | X12: =0.22*V12 -> 245.52 | Z12: №25 16.07.2021 | AA12: 3.4.9.1 | AB12: 4.21 | AC12: 0
A13: 3 | B13: Участок №1 | C13: ВЛ | D13: п.Малеевский карьер ПС-Телебукино ВЛ-10кВ ф14 | E13: 10 (10.5) | F13: 44392.646 | G13: 44392.771 | H13: В | I13: =(G13-F13)/$AD$9 -> 3 | J13: 2 | K13: 2 | L13: ВЛ-10кВ | M13: 0 | N13: 0 | O13: =R13 -> 42 | P13: 0 | Q13: 0 | R13: 42 | S13: 0 | T13: 0 | U13: 0 | V13: =R13 -> 42 | W13: 0 | X13: =0.22*V13 -> 9.24 | Z13: №26 16.07.2021 | AA13: 3.4.9.1 | AB13: 4.21 | AC13: 0
A14: 4 | B14: Участок №1 | C14: ВЛ | D14: п.Малеевский карьер ПС-Телебукино ВЛ-10кВ ф14 | E14: 10 (10.5) | F14: 44393.583 | G14: 44393.771 | H14: В | I14: =(G14-F14)/$AD$9 -> 4.5 | J14: 2 | K14: 2 | L14: ВЛ-10кВ | M14: 0 | N14: 0 | O14: =R14 -> 42 | P14: 0 | Q14: 0 | R14: 42 | S14: 0 | T14: 0 | U14: 0 | V14: =R14 -> 42 | W14: 0 | X14: =0.22*V14 -> 9.24 | Z14: №27 19.07.2023 | AA14: 3.4.9.1 | AB14: 4.21 | AC14: 0
A15: 5 | B15: Участок №1 | C15: ВЛ | D15: п.Лашма ТП-1 ВЛ-0,4кВ ф1 | E15: 0.38 | F15: 44396.812 | G15: 44396.896 | H15: В | I15: =(G15-F15)/$AD$9 -> 2 | J15: 2 | K15: 2 | L15: ВЛ-0,4кВ | M15: 0 | N15: 0 | O15: =R15 -> 28 | P15: 0 | Q15: 0 | R15: 28 | S15: 0 | T15: 0 | U15: 0 | V15: =R15 -> 28 | W15: 0 | X15: =0.22*V15 -> 6.16 | Z15: №28 20.07.2024 | AA15: 3.4.9.3 | AB15: 4.4 | AC15: 0
A16: 6 | B16: Участок №1 | C16: ВЛ | D16: ПС-Лашма ВЛ-10кВ ф5 | E16: 10 (10.5) | F16: 44406.25 | G16: 44406.351 | H16: В | I16: =(G16-F16)/$AD$9 -> 2.4166667 | J16: 2 | K16: 2 | L16: ВЛ-10кВ | M16: 0 | N16: 0 | O16: =R16 -> 286 | P16: 0 | Q16: 0 | R16: 286 | S16: 0 | T16: 0 | U16: 0 | V16: =R16 -> 286 | W16: 0 | X16: =0.22*V16 -> 62.92 | Z16: №25 30.07.2025 | AA16: 3.4.10 | AB16: 4.17 | AC16: 1
A17: 7 | B17: Участок №1 | C17: ВЛ | D17: ПС-Лашма ф5 ВЛ-10кВ | E17: 10 (10.5) | F17: 44440.486 | G17: 44440.604 | H17: В | I17: =(G17-F17)/$AD$9 -> 2.8333333 | J17: 2 | K17: 2 | L17: ВЛ-10кВ №5 | M17: 0 | N17: 0 | O17: =R17 -> 248 | P17: 0 | Q17: 0 | R17: 248 | S17: 0 | T17: 0 | U17: 0 | V17: =R17 -> 248 | W17: 0 | X17: =0.22*V17 -> 54.56 | Z17: №35 02.09.2021 | AA17: 3.4.9.1 | AB17: 4.21 | AC17: 0
A18: 8 | B18: Участок №1 | C18: ВЛ | D18: ПС-Телебукино ф11 ВЛ-10кВ | E18: 10 (10.5) | F18: 44443.417 | G18: 44443.542 | H18: В | I18: =(G18-F18)/$AD$9 -> 3 | J18: 2 | K18: 2 | L18: ВЛ-10кВ №11 | M18: 0 | N18: 0 | O18: =R18 -> 362 | P18: 0 | Q18: 0 | R18: 362 | S18: 0 | T18: 0 | U18: 0 | V18: =R18 -> 362 | W18: 0 | X18: =0.22*V18 -> 79.64 | Z18: №36 06.09.2021 | AA18: 3.4.12.2 | AB18: 4.4 | AC18: 1
A19: 9 | B19: Участок №1 | C19: ВЛ | D19: п.Ташенка ТП-5 РУ-0,4кВ ф4 | E19: 0.38 | F19: 44460.833 | G19: 44461.021 | H19: В | I19: =(G19-F19)/$AD$9 -> 4.5 | J19: 2 | K19: 2 | L19: ВЛ-0,4кВ №4 | M19: 0 | N19: 0 | O19: =R19 -> 144 | P19: 0 | Q19: 0 | R19: 144 | S19: 0 | T19: 0 | U19: 0 | V19: =R19 -> 144 | W19: 0 | X19: =0.22*V19 -> 31.68 | Z19: №37 24.09.2021 | AA19: 3.4.7.3 | AB19: 4.10 | AC19: 1

Sheet Отчет10
A2: Форма 8.1 - Журнал учёта данных первичной информации по всем прекращениям передачи электрической энергии, произошедших на объектах электросетевых организаций за | U2: =#REF! -> #REF! | V2: месяц | W2: 2021 | X2: года
A3: МУ МПЖКХ Гусь-Железный
A4: наименование электросетевой организации
A6: Данные о факте прекращения передачи электрической энергии | L6: Данные о масштабе прекращения передачи электрической энергии в сетевой организации | Y6: Перечень смежных сетевых организаций, затронутых прекращением передачи электрической энергии | Z6: Данные о причинах прекращения передачи электрической энергии и их расследовании | AC6: Учет в показателях надежности, в т.ч. индикативных показателях надежности (0 - нет, 1 - да)
A7: Номер прекращения передачи электрической энергии / Номер итоговой строки | B7: Наименование структурной единицы сетевой организации | C7: Вид объекта: КЛ, ВЛ, КВЛ, ПС, ТП, РП | D7: Диспетчерское наименование объекта электросетевого хозяйства сетевой организации, в результате отключения которой произошло прекращение передачи электроэнергии потребителям услуг | E7: Высший класс напряжения отключенного оборудования сетевой организации, кВ | F7: Время и дата начала прекращения передачи электрической энергии (часы, минуты, ГГГГ.ММ.ДД) | G7: Время и дата восстановления режима потребления электрической энергии потребителей услуг (часы, минуты, ГГГГ.ММ.ДД) | H7: Вид прекращения передачи электроэнергии (П, А, В) | I7: Продолжительность прекращения передачи электрической энергии, час | J7: Признак АПВ (1 - Успешно/0 - Не успешно/2 - Отсутствует/3 - не работала (по принципу действия или выведена по режиму)) | K7: Признак АВР (1 - Успешно/0 - Не успешно/2 - Отсутствует/3 - не работала (по принципу действия или выведена по режиму)) | L7: Перечень объектов электросетевого хозяйства, отключение которых привело к прекращению передачи электрической энергии потребителям услуг (ПС, ТП, РП, ВЛ, КЛ) | M7: Перечень потребителей 1-й и 2-й категорий надежности, в отношении которых произошло полное ограничение режима потребления электрической энергии | N7: Перечень потребителей 1-й и 2-й категорий надежности, в отношении которых произошло частичное ограничение режима потребления электрической энергии | O7: Количество точек поставки потребителей услуг сетевой организации, в отношении которых произошел перерыв электроснабжения, шт., в том числе: | X7: Суммарный объем фактической нагрузки (мощности) на присоединениях потребителей услуг, по которым произошло прекращение передачи электрической энергии на момент возникновения такого события, кВт
O8: ВСЕГО | P8: в разделении категорий надежности потребителей электрической энергии | S8: в разделении уровней напряжения ЭПУ потребителя электрической энергии | W8: Смежные сетевые организации и производители электрической энергии | Z8: Номер и дата акта расследования технологического нарушения, записи в оперативном журнале | AA8: Код организационной причины аварии | AB8: Код технической причины повреждения оборудования
P9: 1-я категория надежности | Q9: 2-я категория надежности | R9: 3-я категория надежности | S9: ВН (110 кВ и выше) | T9: СН1 (35 кВ) | U9: СН2 (6-20 кВ) | V9: НН (0,22-1 кВ) | AD9: 0.041666667
A10: 1 | B10: 2 | C10: 3 | D10: 4 | E10: 5 | F10: 6 | G10: 7 | H10: 8 | I10: 9 | J10: 10 | K10: 11 | L10: 12 | M10: 13 | N10: 14 | O10: 15 | P10: 16 | Q10: 17 | R10: 18 | S10: 19 | T10: 20 | U10: 21 | V10: 22 | W10: 23 | X10: 24 | Y10: 25 | Z10: 26 | AA10: 27 | AB10: 28 | AC10: 29
A11: 1 | B11: Участок №2 | C11: ВЛ | D11: п/с Сабурово 110/10 кВ ф.7 | E11: 10 (10.5) | F11: 44489.332 | G11: 44489.384 | H11: В | I11: =(G11-F11)/$AD$9 -> 1.25 | J11: 2 | K11: 2 | L11: ВЛ-10кВ | M11: 0 | N11: 0 | O11: =R11 -> 99 | P11: 0 | Q11: 0 | R11: 99 | S11: 0 | T11: 0 | U11: 0 | V11: =R11 -> 99 | W11: 0 | X11: =0.22*V11 -> 21.78 | Z11: №38 21.10.2021 | AA11: 3.4.13.2 | AB11: 4.12 | AC11: 1 | AE11: ЗТП-10 пробит разрядник
A12: 2 | B12: Участок №1 | C12: ВЛ | D12: ПС-Телебукино ТП-2478 КЛ-10кВ ф7 | E12: 10 (10.5) | F12: 44493.646 | G12: 44493.993 | H12: В | I12: =(G12-F12)/$AD$9 -> 8.3333333 | J12: 2 | K12: 2 | L12: ВЛ-10кВ | M12: 0 | N12: 0 | O12: =R12 -> 58 | P12: 0 | Q12: 0 | R12: 58 | S12: 0 | T12: 0 | U12: 0 | V12: =R12 -> 58 | W12: 0 | X12: =0.22*V12 -> 12.76 | Z12: №39 24.10.2022 | AA12: 3.4.8 | AB12: 4.4 | AC12: 0 | AE12: Порвали кабель 10кВ

Sheet Отчет11
A2: Форма 8.1 - Журнал учёта данных первичной информации по всем прекращениям передачи электрической энергии, произошедших на объектах электросетевых организаций за | U2: =F11 -> 44504.583 | V2: месяц | W2: 2021 | X2: года
A3: МУ МПЖКХ Гусь-Железный
A4: наименование электросетевой организации
A6: Данные о факте прекращения передачи электрической энергии | L6: Данные о масштабе прекращения передачи электрической энергии в сетевой организации | Y6: Перечень смежных сетевых организаций, затронутых прекращением передачи электрической энергии | Z6: Данные о причинах прекращения передачи электрической энергии и их расследовании | AC6: Учет в показателях надежности, в т.ч. индикативных показателях надежности (0 - нет, 1 - да)
A7: Номер прекращения передачи электрической энергии / Номер итоговой строки | B7: Наименование структурной единицы сетевой организации | C7: Вид объекта: КЛ, ВЛ, КВЛ, ПС, ТП, РП | D7: Диспетчерское наименование объекта электросетевого хозяйства сетевой организации, в результате отключения которой произошло прекращение передачи электроэнергии потребителям услуг | E7: Высший класс напряжения отключенного оборудования сетевой организации, кВ | F7: Время и дата начала прекращения передачи электрической энергии (часы, минуты, ГГГГ.ММ.ДД) | G7: Время и дата восстановления режима потребления электрической энергии потребителей услуг (часы, минуты, ГГГГ.ММ.ДД) | H7: Вид прекращения передачи электроэнергии (П, А, В) | I7: Продолжительность прекращения передачи электрической энергии, час | J7: Признак АПВ (1 - Успешно/0 - Не успешно/2 - Отсутствует/3 - не работала (по принципу действия или выведена по режиму)) | K7: Признак АВР (1 - Успешно/0 - Не успешно/2 - Отсутствует/3 - не работала (по принципу действия или выведена по режиму)) | L7: Перечень объектов электросетевого хозяйства, отключение которых привело к прекращению передачи электрической энергии потребителям услуг (ПС, ТП, РП, ВЛ, КЛ) | M7: Перечень потребителей 1-й и 2-й категорий надежности, в отношении которых произошло полное ограничение режима потребления электрической энергии | N7: Перечень потребителей 1-й и 2-й категорий надежности, в отношении которых произошло частичное ограничение режима потребления электрической энергии | O7: Количество точек поставки потребителей услуг сетевой организации, в отношении которых произошел перерыв электроснабжения, шт., в том числе: | X7: Суммарный объем фактической нагрузки (мощности) на присоединениях потребителей услуг, по которым произошло прекращение передачи электрической энергии на момент возникновения такого события, кВт
O8: ВСЕГО | P8: в разделении категорий надежности потребителей электрической энергии | S8: в разделении уровней напряжения ЭПУ потребителя электрической энергии | W8: Смежные сетевые организации и производители электрической энергии | Z8: Номер и дата акта расследования технологического нарушения, записи в оперативном журнале | AA8: Код организационной причины аварии | AB8: Код технической причины повреждения оборудования
P9: 1-я категория надежности | Q9: 2-я категория надежности | R9: 3-я категория надежности | S9: ВН (110 кВ и выше) | T9: СН1 (35 кВ) | U9: СН2 (6-20 кВ) | V9: НН (0,22-1 кВ) | AD9: 0.041666667
A10: 1 | B10: 2 | C10: 3 | D10: 4 | E10: 5 | F10: 6 | G10: 7 | H10: 8 | I10: 9 | J10: 10 | K10: 11 | L10: 12 | M10: 13 | N10: 14 | O10: 15 | P10: 16 | Q10: 17 | R10: 18 | S10: 19 | T10: 20 | U10: 21 | V10: 22 | W10: 23 | X10: 24 | Y10: 25 | Z10: 26 | AA10: 27 | AB10: 28 | AC10: 29
A11: 1 | B11: Участок №1 | C11: ТП | D11: ПС110/35/10кВ-Шостье ф2 КТП-2445 | E11: 0.38 | F11: 44504.583 | G11: 44504.708 | H11: В | I11: =(G11-F11)/$AD$9 -> 3 | J11: 2 | K11: 2 | L11: МТП 2445 | M11: 0 | N11: 0 | O11: =R11 -> 49 | P11: 0 | Q11: 0 | R11: 49 | S11: 0 | T11: 0 | U11: 0 | V11: =R11 -> 49 | W11: 0 | X11: =0.22*V11 -> 10.78 | Z11: №40 02.09.2021 | AA11: 3.4.9.1 | AB11: 4.13 | AC11: 0

Sheet Отчет12
A2: Форма 8.1 - Журнал учёта данных первичной информации по всем прекращениям передачи электрической энергии, произошедших на объектах электросетевых организаций за | U2: =F11 -> 44531.008 | V2: месяц | W2: 2021 | X2: года
A3: МУ МПЖКХ Гусь-Железный
A4: наименование электросетевой организации
A6: Данные о факте прекращения передачи электрической энергии | L6: Данные о масштабе прекращения передачи электрической энергии в сетевой организации | Y6: Перечень смежных сетевых организаций, затронутых прекращением передачи электрической энергии | Z6: Данные о причинах прекращения передачи электрической энергии и их расследовании | AC6: Учет в показателях надежности, в т.ч. индикативных показателях надежности (0 - нет, 1 - да)
A7: Номер прекращения передачи электрической энергии / Номер итоговой строки | B7: Наименование структурной единицы сетевой организации | C7: Вид объекта: КЛ, ВЛ, КВЛ, ПС, ТП, РП | D7: Диспетчерское наименование объекта электросетевого хозяйства сетевой организации, в результате отключения которой произошло прекращение передачи электроэнергии потребителям услуг | E7: Высший класс напряжения отключенного оборудования сетевой организации, кВ | F7: Время и дата начала прекращения передачи электрической энергии (часы, минуты, ГГГГ.ММ.ДД) | G7: Время и дата восстановления режима потребления электрической энергии потребителей услуг (часы, минуты, ГГГГ.ММ.ДД) | H7: Вид прекращения передачи электроэнергии (П, А, В) | I7: Продолжительность прекращения передачи электрической энергии, час | J7: Признак АПВ (1 - Успешно/0 - Не успешно/2 - Отсутствует/3 - не работала (по принципу действия или выведена по режиму)) | K7: Признак АВР (1 - Успешно/0 - Не успешно/2 - Отсутствует/3 - не работала (по принципу действия или выведена по режиму)) | L7: Перечень объектов электросетевого хозяйства, отключение которых привело к прекращению передачи электрической энергии потребителям услуг (ПС, ТП, РП, ВЛ, КЛ) | M7: Перечень потребителей 1-й и 2-й категорий надежности, в отношении которых произошло полное ограничение режима потребления электрической энергии | N7: Перечень потребителей 1-й и 2-й категорий надежности, в отношении которых произошло частичное ограничение режима потребления электрической энергии | O7: Количество точек поставки потребителей услуг сетевой организации, в отношении которых произошел перерыв электроснабжения, шт., в том числе: | X7: Суммарный объем фактической нагрузки (мощности) на присоединениях потребителей услуг, по которым произошло прекращение передачи электрической энергии на момент возникновения такого события, кВт
O8: ВСЕГО | P8: в разделении категорий надежности потребителей электрической энергии | S8: в разделении уровней напряжения ЭПУ потребителя электрической энергии | W8: Смежные сетевые организации и производители электрической энергии | Z8: Номер и дата акта расследования технологического нарушения, записи в оперативном журнале | AA8: Код организационной причины аварии | AB8: Код технической причины повреждения оборудования
P9: 1-я категория надежности | Q9: 2-я категория надежности | R9: 3-я категория надежности | S9: ВН (110 кВ и выше) | T9: СН1 (35 кВ) | U9: СН2 (6-20 кВ) | V9: НН (0,22-1 кВ) | AD9: 0.041666667
A10: 1 | B10: 2 | C10: 3 | D10: 4 | E10: 5 | F10: 6 | G10: 7 | H10: 8 | I10: 9 | J10: 10 | K10: 11 | L10: 12 | M10: 13 | N10: 14 | O10: 15 | P10: 16 | Q10: 17 | R10: 18 | S10: 19 | T10: 20 | U10: 21 | V10: 22 | W10: 23 | X10: 24 | Y10: 25 | Z10: 26 | AA10: 27 | AB10: 28 | AC10: 29
A11: 1 | B11: Участок №1 | C11: ВЛ | D11: ПС Лашма ф5 ВЛ-10кВ | E11: 10 (10.5) | F11: 44531.008 | G11: 44531.062 | H11: В | I11: =(G11-F11)/$AD$9 -> 1.3166667 | J11: 2 | K11: 2 | L11: ВЛ 10кВ | M11: 0 | N11: 0 | O11: =R11 -> 252 | P11: 0 | Q11: 0 | R11: 252 | S11: 0 | T11: 0 | U11: 0 | V11: =R11 -> 252 | W11: 0 | X11: =0.22*V11 -> 55.44 | Z11: №41 02.12.2021 | AA11: 3.4.11 | AB11: 4.4 | AC11: 1
A12: 2 | B12: Участок №1 | C12: ВЛ | D12: ПС Шостье ф2 ВЛ-10кВ | E12: 10 (10.5) | F12: 44531.021 | G12: 44531.5 | H12: В | I12: =(G12-F12)/$AD$9 -> 11.5 | J12: 2 | K12: 2 | L12: ВЛ 10кВ | M12: 0 | N12: 0 | O12: =R12 -> 68 | P12: 0 | Q12: 0 | R12: 68 | S12: 0 | T12: 0 | U12: 0 | V12: =R12 -> 68 | W12: 0 | X12: =0.22*V12 -> 14.96 | Z12: №42 02.12.2021 | AA12: 3.4.9.1 | AB12: 4.21 | AC12: 0
A13: 3 | B13: Участок №1 | C13: КЛ | D13: ПС Телебукино ф7 ЗТП-2478 ф6 | E13: 10 (10.5) | F13: 44532.479 | G13: 44532.5 | H13: В | I13: =(G13-F13)/$AD$9 -> 0.5 | J13: 2 | K13: 2 | L13: КЛ 10кВ | M13: 0 | N13: 0 | O13: =R13 -> 98 | P13: 0 | Q13: 0 | R13: 98 | S13: 0 | T13: 0 | U13: 0 | V13: =R13 -> 98 | W13: 0 | X13: =0.22*V13 -> 21.56 | Z13: №43 03.12.2021 | AA13: 3.4.9.3 | AB13: 4.13 | AC13: 0
A14: 4 | B14: Участок №1 | C14: ВЛ | D14: ПС Телебукино ф14 ВЛ-10кВ | E14: 10 (10.5) | F14: 44534.042 | G14: 44534.271 | H14: В | I14: =(G14-F14)/$AD$9 -> 5.5 | J14: 2 | K14: 2 | L14: ВЛ 10кВ | M14: 0 | N14: 0 | O14: =R14 -> 1 | P14: 0 | Q14: 0 | R14: 1 | S14: 0 | T14: 0 | U14: 0 | V14: =R14 -> 1 | W14: 0 | X14: 15 | Z14: №44 05.12.2021 | AA14: 3.4.9.3 | AB14: 4.12 | AC14: 0

Sheet Кв4
A2: Форма 8.1 - Журнал учёта данных первичной информации по всем прекращениям передачи электрической энергии, произошедших на объектах электросетевых организаций за | V2: 4кв | W2: 2021 | X2: года
A3: МУ МПЖКХ Гусь-Железный
A4: наименование электросетевой организации
A6: Данные о факте прекращения передачи электрической энергии | L6: Данные о масштабе прекращения передачи электрической энергии в сетевой организации | Y6: Перечень смежных сетевых организаций, затронутых прекращением передачи электрической энергии | Z6: Объем недопоставленной в результате аварийных отключений электроэнергии , кВт | AA6: Данные о причинах прекращения передачи электрической энергии и их расследовании | AD6: Учет в показателях надежности, в т.ч. индикативных показателях надежности (0 - нет, 1 - да)
A7: Номер прекращения передачи электрической энергии / Номер итоговой строки | B7: Наименование структурной единицы сетевой организации | C7: Вид объекта: КЛ, ВЛ, КВЛ, ПС, ТП, РП | D7: Диспетчерское наименование объекта электросетевого хозяйства сетевой организации, в результате отключения которой произошло прекращение передачи электроэнергии потребителям услуг | E7: Высший класс напряжения отключенного оборудования сетевой организации, кВ | F7: Время и дата начала прекращения передачи электрической энергии (часы, минуты, ГГГГ.ММ.ДД) | G7: Время и дата восстановления режима потребления электрической энергии потребителей услуг (часы, минуты, ГГГГ.ММ.ДД) | H7: Вид прекращения передачи электроэнергии (П, А, В) | I7: Продолжительность прекращения передачи электрической энергии, час | J7: Признак АПВ (1 - Успешно/0 - Не успешно/2 - Отсутствует/3 - не работала (по принципу действия или выведена по режиму)) | K7: Признак АВР (1 - Успешно/0 - Не успешно/2 - Отсутствует/3 - не работала (по принципу действия или выведена по режиму)) | L7: Перечень объектов электросетевого хозяйства, отключение которых привело к прекращению передачи электрической энергии потребителям услуг (ПС, ТП, РП, ВЛ, КЛ) | M7: Перечень потребителей 1-й и 2-й категорий надежности, в отношении которых произошло полное ограничение режима потребления электрической энергии | N7: Перечень потребителей 1-й и 2-й категорий надежности, в отношении которых произошло частичное ограничение режима потребления электрической энергии | O7: Количество точек поставки потребителей услуг сетевой организации, в отношении которых произошел перерыв электроснабжения, шт., в том числе: | X7: Суммарный объем фактической нагрузки (мощности) на присоединениях потребителей услуг, по которым произошло прекращение передачи электрической энергии на момент возникновения такого события, кВт
O8: ВСЕГО | P8: в разделении категорий надежности потребителей электрической энергии | S8: в разделении уровней напряжения ЭПУ потребителя электрической энергии | W8: Смежные сетевые организации и производители электрической энергии | AA8: Номер и дата акта расследования технологического нарушения, записи в оперативном журнале | AB8: Код организационной причины аварии | AC8: Код технической причины повреждения оборудования
P9: 1-я категория надежности | Q9: 2-я категория надежности | R9: 3-я категория надежности | S9: ВН (110 кВ и выше) | T9: СН1 (35 кВ) | U9: СН2 (6-20 кВ) | V9: НН (0,22-1 кВ) | AE9: 0.041666667
A10: 1 | B10: 2 | C10: 3 | D10: 4 | E10: 5 | F10: 6 | G10: 7 | H10: 8 | I10: 9 | J10: 10 | K10: 11 | L10: 12 | M10: 13 | N10: 14 | O10: 15 | P10: 16 | Q10: 17 | R10: 18 | S10: 19 | T10: 20 | U10: 21 | V10: 22 | W10: 23 | X10: 24 | Y10: 25 | Z10: 26 | AA10: 27 | AB10: 28 | AC10: 29 | AD10: 30
A11: 1 | B11: Участок №2 | C11: ВЛ | D11: п/с Сабурово 110/10 кВ ф.7 | E11: 10 (10.5) | F11: 44489.332 | G11: 44489.384 | H11: В | I11: =(G11-F11)/$AE$9 -> 1.25 | J11: 2 | K11: 2 | L11: ВЛ-10кВ | M11: 0 | N11: 0 | O11: =R11 -> 99 | P11: 0 | Q11: 0 | R11: 99 | S11: 0 | T11: 0 | U11: 0 | V11: =R11 -> 99 | W11: 0 | X11: =0.22*V11 -> 21.78 | Z11: =X11*I11 -> 27.225 | AA11: №38 21.10.2021 | AB11: 3.4.13.2 | AC11: 4.12 | AD11: 1 | AF11: ЗТП-10 пробит разрядник
A12: 2 | B12: Участок №1 | C12: ВЛ | D12: ПС-Телебукино ТП-2478 КЛ-10кВ ф7 | E12: 10 (10.5) | F12: 44493.646 | G12: 44493.993 | H12: В | I12: =(G12-F12)/$AE$9 -> 8.3333333 | J12: 2 | K12: 2 | L12: ВЛ-10кВ | M12: 0 | N12: 0 | O12: =R12 -> 58 | P12: 0 | Q12: 0 | R12: 58 | S12: 0 | T12: 0 | U12: 0 | V12: =R12 -> 58 | W12: 0 | X12: =0.22*V12 -> 12.76 | Z12: =X12*I12 -> 106.33333 | AA12: №39 24.10.2022 | AB12: 3.4.8 | AC12: 4.4 | AD12: 0 | AF12: Порвали кабель 10кВ
A13: 3 | B13: Участок №1 | C13: ТП | D13: ПС110/35/10кВ-Шостье ф2 КТП-2445 | E13: 0.38 | F13: 44504.583 | G13: 44504.708 | H13: В | I13: =(G13-F13)/$AE$9 -> 3 | J13: 2 | K13: 2 | L13: МТП 2445 | M13: 0 | N13: 0 | O13: =R13 -> 49 | P13: 0 | Q13: 0 | R13: 49 | S13: 0 | T13: 0 | U13: 0 | V13: =R13 -> 49 | W13: 0 | X13: =0.22*V13 -> 10.78 | Z13: =X13*I13 -> 32.34 | AA13: №40 02.09.2021 | AB13: 3.4.9.1 | AC13: 4.13 | AD13: 0
A14: 4 | B14: Участок №1 | C14: ВЛ | D14: ПС Лашма ф5 ВЛ-10кВ | E14: 10 (10.5) | F14: 44531.008 | G14: 44531.062 | H14: В | I14: =(G14-F14)/$AE$9 -> 1.3166667 | J14: 2 | K14: 2 | L14: ВЛ 10кВ | M14: 0 | N14: 0 | O14: =R14 -> 252 | P14: 0 | Q14: 0 | R14: 252 | S14: 0 | T14: 0 | U14: 0 | V14: =R14 -> 252 | W14: 0 | X14: =0.22*V14 -> 55.44 | Z14: =X14*I14 -> 72.996 | AA14: №41 02.12.2021 | AB14: 3.4.11 | AC14: 4.4 | AD14: 1
A15: 5 | B15: Участок №1 | C15: ВЛ | D15: ПС Шостье ф2 ВЛ-10кВ | E15: 10 (10.5) | F15: 44531.021 | G15: 44531.5 | H15: В | I15: =(G15-F15)/$AE$9 -> 11.5 | J15: 2 | K15: 2 | L15: ВЛ 10кВ | M15: 0 | N15: 0 | O15: =R15 -> 68 | P15: 0 | Q15: 0 | R15: 68 | S15: 0 | T15: 0 | U15: 0 | V15: =R15 -> 68 | W15: 0 | X15: =0.22*V15 -> 14.96 | Z15: =X15*I15 -> 172.04 | AA15: №42 02.12.2021 | AB15: 3.4.9.1 | AC15: 4.21 | AD15: 0
A16: 6 | B16: Участок №1 | C16: КЛ | D16: ПС Телебукино ф7 ЗТП-2478 ф6 | E16: 10 (10.5) | F16: 44532.479 | G16: 44532.5 | H16: В | I16: =(G16-F16)/$AE$9 -> 0.5 | J16: 2 | K16: 2 | L16: КЛ 10кВ | M16: 0 | N16: 0 | O16: =R16 -> 98 | P16: 0 | Q16: 0 | R16: 98 | S16: 0 | T16: 0 | U16: 0 | V16: =R16 -> 98 | W16: 0 | X16: =0.22*V16 -> 21.56 | Z16: =X16*I16 -> 10.78 | AA16: №43 03.12.2021 | AB16: 3.4.9.3 | AC16: 4.13 | AD16: 0
A17: 7 | B17: Участок №1 | C17: ВЛ | D17: ПС Телебукино ф14 ВЛ-10кВ | E17: 10 (10.5) | F17: 44534.042 | G17: 44534.271 | H17: В | I17: =(G17-F17)/$AE$9 -> 5.5 | J17: 2 | K17: 2 | L17: ВЛ 10кВ | M17: 0 | N17: 0 | O17: =R17 -> 1 | P17: 0 | Q17: 0 | R17: 1 | S17: 0 | T17: 0 | U17: 0 | V17: =R17 -> 1 | W17: 0 | X17: 15 | Z17: =X17*I17 -> 82.5 | AA17: №44 05.12.2021 | AB17: 3.4.9.3 | AC17: 4.12 | AD17: 0
Z18: =SUM(Z11:Z17) -> 504.21433
