Workbook
Name _ftn1: июнь!#REF!
Name _ftnref1: июнь!$A$2
Name _Toc472327096: июнь!$A$2
Name ccc: #REF!
Name ccc: #REF!
Name ccc: #REF!
Name ccc: #REF!
Name ccc: #REF!
Name ccc: #REF!
Name ccc: #REF!
Name ccc: #REF!
Name ccc: #REF!
Name ccc: #REF!
Name ccc: #REF!
Name ccc: #REF!
Name ccc: #REF!
Name ccc: #REF!
Name ccc: #REF!
Name ccc: #REF!
Name ccc: #REF!
Name ccc: #REF!
Name ccc: #REF!
Name ccc: #REF!
Name ccc: #REF!
Name ccc: #REF!
Name ccc: #REF!
Name ccc: #REF!
Name ccc: #REF!
Name Print_Area: акт!$A$1:$E$87
Name sub_1007: акт!$B$70
Name sub_1012: акт!$B$9
Name sub_1025: акт!$B$36
Name sub_11000_1: #N/A
Name sub_11011_1: #N/A
Name sub_12000_2: #REF!
Name sub_12000_2: #REF!
Name sub_12000_2: #REF!
Name sub_12000_2: #REF!
Name sub_12000_2: #REF!
Name sub_12000_2: #REF!
Name sub_12000_2: #REF!
Name sub_12000_2: #REF!
Name sub_12000_2: #REF!
Name sub_12000_2: #REF!
Name sub_12000_2: #REF!
Name sub_12000_2: #REF!
Name sub_12000_2: #REF!
Name sub_12000_2: #REF!
Name sub_12000_2: #REF!
Name sub_12000_2: #REF!
Name sub_12000_2: #REF!
Name sub_12000_2: #REF!
Name sub_12000_2: #REF!
Name sub_12000_2: #REF!
Name sub_12000_2: #REF!
Name sub_12000_2: #REF!
Name sub_12000_2: #REF!
Name sub_12000_2: #REF!
Name sub_12000_2: #REF!
Name sub_1518: акт!$B$68

Sheet орг_прич
B2: N | C2: Организационные причины аварии | D2: Код организационных причин
B3: п/п
B4: 1. | C4: Ошибочные или неправильные действия оперативного и (или) диспетчерского персонала | D4: 3.4.1
B5: 2. | C5: Ошибочные или неправильные действия (или бездействие) персонала служб (подразделений) организации | D5: 3.4.2
B6: 3. | C6: Ошибочные или неправильные действия привлеченного персонала, выполняющего работу по договору | D6: 3.4.3
B7: 4. | C7: Ошибочные или неправильные действия собственного ремонтного или наладочного персонала организации | D7: 3.4.4
B8: 5. | C8: Ошибочные или неправильные действия (или бездействие) руководящего персонала | D8: 3.4.5
B9: 6. | C9: Неудовлетворительное качество производственных или должностных инструкций, других локальных актов документов организации | D9: 3.4.6
B10: 7. | C10: Несоблюдение сроков, невыполнение в требуемых объемах технического обслуживания или ремонта оборудования и устройств | D10: 3.4.7
B11: 43107 | C11: Несоблюдение сроков ТО и ремонта оборудования, устройств. | D11: 3.4.7.1
B12: 43138 | C12: Несоблюдение объемов ТО и ремонта оборудования, устройств | D12: 3.4.7.2
B13: 43166 | C13: Несвоевременное выявление и устранение дефектов | D13: 3.4.7.3
B14: 43197 | C14: Прочие нарушения | D14: 3.4.7.4
B15: 8. | C15: Воздействие посторонних лиц и организаций, не участвующих в технологическом процессе | D15: 3.4.8
B16: 43108 | C16: Производство несанкционированных строительных и погрузочно-разгрузочных работ в охранных зонах объектов электросетевого хозяйства | D16: 3.4.8.1
B17: 43139 | C17: Проезд крупногабаритной техники | D17: 3.4.8.2
B18: 43167 | C18: Несанкционированная рубка лесных насаждений | D18: 3.4.8.3
B19: 43198 | C19: Наброс посторонних предметов на ВЛ | D19: 3.4.8.4
B20: 43228 | C20: Прочие воздействия | D20: 3.4.8.5
B21: 9. | C21: Воздействие организаций, участвующих в технологическом процессе | D21: 3.4.9
B22: 43109 | C22: Отключение (повреждение) оборудования в смежной электрической сети | D22: 3.4.9.1
B23: 43140 | C23: Отключение (повреждение) оборудования на объекте генерации | D23: 3.4.9.2
B24: 43168 | C24: Отключение (повреждение) оборудования потребителей электрической энергии | D24: 3.4.9.3
B25: 10. | C25: Воздействие животных и птиц | D25: 3.4.10
B26: 11. | C26: Превышение параметров воздействия стихийных явлений относительно условий проекта | D26: 3.4.11
B27: 12. | C27: Воздействие повторяющихся стихийных явлений | D27: 3.4.12
B28: 43112 | C28: Гололедно-изморозевые отложения | D28: 3.4.12.1
B29: 43143 | C29: Ветровые нагрузки | D29: 3.4.12.2
B30: 43171 | C30: Атмосферные перенапряжения (гроза) | D30: 3.4.12.3
B31: 43202 | C31: Природные пожары | D31: 3.4.12.4
B32: 43232 | C32: Прочие воздействия неблагоприятных природных явлений | D32: 3.4.12.5
B33: 13. | C33: Дефекты (недостатки) проекта, конструкции, изготовления, монтажа | D33: 3.4.13
B34: 43113 | C34: Недостатки проекта | D34: 3.4.13.1
B35: 43144 | C35: Недостатки конструкции | D35: 3.4.13.2
B36: 43172 | C36: Дефекты изготовления | D36: 3.4.13.3
B37: 43203 | C37: Дефекты монтажа | D37: 3.4.13.4
B38: 14. | C38: Невыявленные причины | D38: 3.4.14

Sheet тех_прич
B2: Таблица 4. Классификационные признаки технических причин повреждений оборудования
B4: N | C4: Технические причины повреждений оборудования | D4: Код технических причин
B5: 1. | C5: Нарушение структуры материала | D5: 4.1
B6: 2. | C6: Механический износ, неудовлетворительная смазка | D6: 4.2
B7: 3. | C7: Нарушение механического соединения | D7: 4.3
B8: 4. | C8: Внешнее механическое воздействие | D8: 4.4
B9: 5. | C9: Золовой износ | D9: 4.5
B10: 6. | C10: Коррозионный, эрозионный износ | D10: 4.6
B11: 7. | C11: Нарушение герметичности | D11: 4.7
B12: 8. | C12: Нарушение нормального вибросостояния | D12: 4.8 | L12: ВЛ- 0,4кВ
B13: 9. | C13: Взрыв, загорание, пожар | D13: 4.9
B14: 10. | C14: Термическое повреждение, перегрев, пережог | D14: 4.10
B15: 11. | C15: Электродуговое повреждение | D15: 4.11
B16: 12. | C16: Нарушение электрической изоляции | D16: 4.12
B17: 13. | C17: Нарушение электрического контакта, размыкание, обрыв цепи | D17: 4.13
B18: 14. | C18: Механическое разрушение (повреждение), деформация, перекос | D18: 4.14
B19: 15. | C19: Разрушение фундамента, строительных конструкций, ослабление крепления оборудования к фундаменту | D19: 4.15
B20: 16. | C20: Исчерпание ресурса | D20: 4.16
B21: 17. | C21: Загрязнение, попадание инородных предметов | D21: 4.17
B22: 18. | C22: Дефект сварного соединения (шва) | D22: 4.18
B23: 19. | C23: Повышение давления, гидравлический удар | D23: 4.19
B24: 20. | C24: Сбой/дефект программного обеспечения | D24: 4.20
B25: 21. | C25: Невыявленные причины | D25: 4.21

Sheet январь
B1: Участок | D1: Диспетчерское наименование объекта электросетевого хозяйства сетевой организации, в результате отключения которой произошло прекращение передачи электроэнергии потребителям услуг | E1: Высший класс напряжения отключенного оборудования сетевой организации, кВ | F1: Время и дата начала прекращения передачи электрической энергии (часы, минуты, ГГГГ.ММ.ДД) | G1: Время и дата восстановления режима потребления электрической энергии потребителей услуг (часы, минуты, ГГГГ.ММ.ДД) | H1: Вид прекращения передачи электроэнергии (П-плановое, А-аварийное , В-внерегламентное (Аварийное)) | I1: Продолжительность прекращения передачи электрической энергии, час | J1: Перечень объектов электросетевого хозяйства, отключение которых привело к прекращению передачи электрической энергии потребителям услуг (ПС, ТП, РП, ВЛ, КЛ) | K1: Количество точек поставки потребителей услуг сетевой организации, в отношении которых произошел перерыв электроснабжения, шт.
M3: 0.041666667
B4: 2 | C4: 3 | D4: 4 | E4: 5 | F4: 6 | G4: 7 | H4: 8 | I4: 9 | J4: 10
B5: Участок №1 | C5: ВЛ | D5: ПС Лашма ф3, КТП 3 | F5: 44207.982 | G5: 44208.008 | H5: В | I5: =(G5-F5)/$M$3 -> 0.63333333 | J5: КТП3
B6: Участок №2 | C6: ВЛ | D6: ТП-2497,ТП-2494 ВЛ-10кВ Маяк | E6: 10 | F6: 44214.389 | G6: 44214.431 | H6: П | I6: =(G6-F6)/$M$3 -> 1 | J6: ВЛ-10кВ | L6: Повреждение в смежной сетевой организации
B7: Участок №1 | C7: ТП | D7: ф14 10кВ КТП2 | F7: 44220.243 | G7: 44220.493 | H7: П | I7: =(G7-F7)/$M$3 -> 6 | J7: КТП 2 | L7: Смена Проходных излляторов
B8: Участок №2 | C8: ВЛ | D8: ЦРП-10кВ Елатьма, ф.3 | E8: 10 | F8: 44220.951 | G8: 44220.99 | H8: В | I8: =(G8-F8)/$M$3 -> 0.91666667 | J8: ВЛ-10кВ | L8: Повреждение ВЛ-10кВ
B9: Участок №2 | C9: ВЛ | D9: ТП-2 ВЛ-10кВ Елатьма | E9: 10 | F9: 44220.951 | G9: 44220.983 | H9: В | I9: =(G9-F9)/$M$3 -> 0.75 | J9: ВЛ-10кВ | L9: Повреждение ВЛ-10кВ
B10: Участок №2 | C10: ВЛ | D10: ЦРП-10кВ Елатьма, ф.3 | E10: 10 | F10: 44223.431 | G10: 44223.446 | H10: В | I10: =(G10-F10)/$M$3 -> 0.35 | J10: ВЛ-10кВ | L10: Неисправность неопределена(мокрый снег)
B11: Участок №2 | C11: ВЛ | D11: ТП-2,6-14 ВЛ-10кВ Елатьма | E11: 10 | F11: 44225.417 | G11: 44225.5 | H11: П | I11: =(G11-F11)/$M$3 -> 2 | J11: ВЛ-10кВ | L11: Опиловка ВЛ-10кВ

Sheet февраль
B1: Участок | D1: Диспетчерское наименование объекта электросетевого хозяйства сетевой организации, в результате отключения которой произошло прекращение передачи электроэнергии потребителям услуг | E1: Высший класс напряжения отключенного оборудования сетевой организации, кВ | F1: Время и дата начала прекращения передачи электрической энергии (часы, минуты, ГГГГ.ММ.ДД) | G1: Время и дата восстановления режима потребления электрической энергии потребителей услуг (часы, минуты, ГГГГ.ММ.ДД) | H1: Вид прекращения передачи электроэнергии (П-плановое, А-аварийное , В-внерегламентное (Аварийное)) | I1: Продолжительность прекращения передачи электрической энергии, час | J1: Перечень объектов электросетевого хозяйства, отключение которых привело к прекращению передачи электрической энергии потребителям услуг (ПС, ТП, РП, ВЛ, КЛ) | K1: Количество точек поставки потребителей услуг сетевой организации, в отношении которых произошел перерыв электроснабжения, шт.
M3: 0.041666667
B4: 2 | C4: 3 | D4: 4 | E4: 5 | F4: 6 | G4: 7 | H4: 8 | I4: 9 | J4: 10
B5: Участок №2 | D5: ТП-8,9,10,11,12,13,14 ВЛ-10кВ | E5: 10 (10.5) | F5: 44229.417 | G5: 44229.5 | H5: П | I5: =(G5-F5)/$M$3 -> 2 | J5: ВЛ-10кВ | L5: Опиловка ВЛ-10кВ
B6: Участок №2 | D6: ЦРП-10кВ Елатьма ф.3 | E6: 10 (10.5) | F6: 44232.151 | G6: 44232.17 | H6: А | I6: =(G6-F6)/$M$3 -> 0.46666667 | J6: ВЛ-10кВ | L6: Повреждение ВЛ-10кВ
B7: Участок №2 | D7: ТП-8,9,10,11,12,13,14 ВЛ-10кВ | E7: 10 (10.5) | F7: 44232.417 | G7: 44232.5 | H7: П | I7: =(G7-F7)/$M$3 -> 2 | J7: ВЛ-10кВ | L7: Опиловка ВЛ-10кВ
B8: Участок №2 | D8: ВЛ №7 п/с Сабурово | E8: 10 (10.5) | F8: 44250.194 | G8: 44250.21 | H8: А | I8: =(G8-F8)/$M$3 -> 0.36666667 | J8: ВЛ-10кВ | L8: Обрыв провода ВЛ-10кВ на опоре №149
B9: Участок №2 | D9: ЦРП-10кВ Елатьма ВЛ№3 | E9: 10 (10.5) | F9: 44253.392 | G9: 44253.403 | H9: П | I9: =(G9-F9)/$M$3 -> 0.25 | J9: ВЛ-10кВ | L9: Замена вставки на ЗТП-2
B10: Участок №2 | D10: ЦРП-10кВ Елатьма ВЛ№3 | E10: 10 (10.5) | F10: 44253.648 | G10: 44253.663 | H10: П | I10: =(G10-F10)/$M$3 -> 0.36666667 | J10: ВЛ-10кВ
B11: Участок №2 | D11: ЦРП-10кВ Елатьма ВЛ№3 | E11: 10 (10.5) | F11: 44253.389 | G11: 44253.531 | H11: П | I11: =(G11-F11)/$M$3 -> 3.4166667 | J11: ВЛ-10кВ

Sheet март
A7: №пп | B7: Участок | C7: Участок | D7: Диспетчерское наименование объекта электросетевого хозяйства сетевой организации, в результате отключения которой произошло прекращение передачи электроэнергии потребителям услуг | E7: Высший класс напряжения отключенного оборудования сетевой организации, кВ | F7: Время и дата начала прекращения передачи электрической энергии (часы, минуты, ГГГГ.ММ.ДД) | G7: Время и дата восстановления режима потребления электрической энергии потребителей услуг (часы, минуты, ГГГГ.ММ.ДД) | H7: Вид прекращения передачи электроэнергии (П-плановое, А-аварийное , В-внерегламентное (Аварийное)) | I7: Продолжительность прекращения передачи электрической энергии, час | J7: Перечень объектов электросетевого хозяйства, отключение которых привело к прекращению передачи электрической энергии потребителям услуг (ПС, ТП, РП, ВЛ, КЛ) | K7: Количество точек поставки потребителей услуг сетевой организации, в отношении которых произошел перерыв электроснабжения, шт.
AD9: 0.041666667
A10: 1 | B10: 2 | C10: 3 | D10: 4 | E10: 5 | F10: 6 | G10: 7 | H10: 8 | I10: 9 | J10: 10 | K10: 11
B11: Участок №2 | D11: п/с Кольдюки 10кВ ф.4 | E11: 10 (10.5) | F11: 44258.524 | G11: 44258.549 | H11: В | I11: =(G11-F11)/$AD$9 -> 0.58333333 | J11: ВЛ-10кВ | AA11: 3.4.9.1 | AB11: 4.21 | AC11: 0 | AE11: Неисправность в смежной сет.организации
B12: Участок №1 | D12: п/с Телебукино ЗТП-2396 ф.12 | E12: 0.38 | F12: 44262.75 | G12: 44262.792 | H12: В | I12: =(G12-F12)/$AD$9 -> 1 | J12: ВЛ- 0,4кВ | AA12: 3.4.9.3 | AB12: 4.13 | AC12: 0 | AE12: Обрыв ввода п.Крутоярский д.59 кв.2
B13: Участок №1 | D13: п/с Лашма ТП-1 ф1 ВЛ 0,4№1 | E13: 0.38 | F13: 44264.583 | G13: 44264.667 | H13: В | I13: =(G13-F13)/$AD$9 -> 2 | J13: ВЛ 0,4кВ | AA13: 3.4.7.3 | AB13: 4.13 | AC13: 1 | AE13: Окисление контакта на опоре ВЛ-0,4кВ
B14: Участок №2 | D14: п/с Кольдюки 10кВ ф.4 ВЛ10кВ№4 | E14: 10 | F14: 44265.583 | G14: 44265.667 | H14: В | I14: =(G14-F14)/$AD$9 -> 2 | J14: ВЛ-10кВ | AA14: 3.4.9.1 | AB14: 4.21 | AC14: 0 | AE14: Неисправность в смежной сет.организации
B15: Участок №2 | D15: п/с Кольдюки 10кВ ф.4 ВЛ10кВ№4 | E15: 10 | F15: 44267.5 | G15: 44267.583 | H15: В | I15: =(G15-F15)/$AD$9 -> 2 | J15: ВЛ-10кВ | AA15: 3.4.9.1 | AB15: 4.21 | AC15: 0 | AE15: Неисправность в смежной сет.организации
B16: Участок №2 | D16: ТП-4,ф.3 ВЛ-0,4кВ Елатьма | E16: 0.38 | F16: 44270.417 | G16: 44270.476 | H16: П | I16: =(G16-F16)/$AD$9 -> 1.4166667 | J16: ВЛ 0,4кВ | AC16: 1 | AE16: Ремонт рубильника
B17: Участок №1 | D17: п/с Лашма 35/10кВ ф.5 | E17: 10 (10.5) | F17: 44270.396 | G17: 44270.542 | H17: П | I17: =(G17-F17)/$AD$9 -> 3.5 | J17: ВЛ-10кВ | AC17: 0 | AE17: Работа персонала РЭС
B18: Участок №1 | D18: п/с Затон 35/10 кВ ф2 | E18: 10(10.5) | F18: 44271.208 | G18: 44271.25 | H18: П | I18: =(G18-F18)/$AD$9 -> 1 | J18: ВЛ-10кВ | AC18: 0 | AE18: Работа персонала РЭС
B19: Участок №2 | D19: ТП-1,ф.4 ВЛ-0,4кВ Елатьма | E19: 0.38 | F19: 44271.396 | G19: 44271.472 | H19: П | I19: =(G19-F19)/$AD$9 -> 1.8333333 | J19: ВЛ 0,4кВ | AC19: 1 | AE19: Ремонт ВЛ-0,4кВ
B20: Участок №2 | D20: ТП-2179 ВЛ-10кВ Любовниково | E20: 10 | F20: 44272.458 | G20: 44272.625 | H20: П | I20: =(G20-F20)/$AD$9 -> 4 | J20: ВЛ-10кВ | AA20: 3.4.9.1 | AB20: 4.21 | AC20: 0 | AE20: Неисправность в смежной сет.организации
B21: Участок №2 | D21: ТП-8,9,10,11,12,13,14 ВЛ-10кВ | E21: 10 | F21: 44273.542 | G21: 44273.625 | H21: П | I21: =(G21-F21)/$AD$9 -> 2 | J21: ВЛ-10кВ | AC21: 1 | AE21: Опиловка ВЛ-10кВ
B22: Участок №1 | D22: п/с Лашма 35/10кВ ф.3 | E22: 10(10.5) | F22: 44273.417 | G22: 44273.542 | H22: П | I22: =(G22-F22)/$AD$9 -> 3 | J22: ВЛ-10кВ | AC22: 0 | AE22: Работа персонала РЭС
B23: Участок №1 | D23: п/с Касимов ТП-2588 ф3 | E23: 0.38 | F23: 44274.375 | G23: 44274.458 | H23: В | I23: =(G23-F23)/$AD$9 -> 2 | J23: ВЛ-0,4кВ | AA23: 3.4.9.3 | AB23: 4.13 | AC23: 0 | AE23: Обрыв ввода ул.Залесное д.11 Исаков А.Ф.
B24: Участок №1 | D24: п/с Зеленино 35/10кВ ф4, ф3 | E24: 10(10.5) | F24: 44277.417 | G24: 44277.5 | H24: П | I24: =(G24-F24)/$AD$9 -> 2 | J24: ВЛ-10кВ | AC24: 0 | AE24: Работа персонала РЭС
B25: Участок №1 | D25: п/с Лашма ТП-6 ф1, ТП-3 ф2 | E25: 0.38 | F25: 44281.417 | G25: 44281.542 | H25: П | I25: =(G25-F25)/$AD$9 -> 3 | J25: ВЛ-0,4кВ | AC25: 1 | AE25: Работа персонала МУ МПЖКХ (установка натяж-
AE26: ного устройства от оп.19 до оп.36)

Sheet апрель
A7: №пп | B7: Участок | C7: Участок | D7: Диспетчерское наименование объекта электросетевого хозяйства сетевой организации, в результате отключения которой произошло прекращение передачи электроэнергии потребителям услуг | E7: Высший класс напряжения отключенного оборудования сетевой организации, кВ | F7: Время и дата начала прекращения передачи электрической энергии (часы, минуты, ГГГГ.ММ.ДД) | G7: Время и дата восстановления режима потребления электрической энергии потребителей услуг (часы, минуты, ГГГГ.ММ.ДД) | H7: Вид прекращения передачи электроэнергии (П-плановое, А-аварийное , В-внерегламентное (Аварийное)) | I7: Продолжительность прекращения передачи электрической энергии, час | J7: Перечень объектов электросетевого хозяйства, отключение которых привело к прекращению передачи электрической энергии потребителям услуг (ПС, ТП, РП, ВЛ, КЛ) | K7: Количество точек поставки потребителей услуг сетевой организации, в отношении которых произошел перерыв электроснабжения, шт.
AD9: 0.041666667
A10: 1 | B10: 2 | C10: 3 | D10: 4 | E10: 5 | F10: 6 | G10: 7 | H10: 8 | I10: 9 | J10: 10 | K10: 11
B12: Участок №1 | D12: ВЛ-0,4кВ №4 КТП-14, ф.4 ЦРП 10кВ Елатьма | E12: 10 (10.5) | F12: 18,20 2021.04.02 | G12: 19,25 2021.04.02 | H12: В | I12: =(G12-F12)/$AD$9 -> #VALUE! | J12: ВЛ- 10кВ | AE12: Сгорели 3 выс.вставки,работа РЭС
B13: Участок №2 | D13: ЦРП-10кВ ф.3 Елатьма | E13: 10 (10.5) | F13: 21,45 2021.04.07 | G13: 22,03 2021.04.07 | H13: В | I13: =(G13-F13)/$AD$9 -> #VALUE! | J13: ВЛ 0,4кВ | AC13: 1 | AE13: Ремонт ВЛ-0,4кВ
B14: Участок №2 | D14: ВЛ №1 ТП-2445 ф.1.ПС110/35/10кВ ф.2 Шостье | E14: 10 (10.5) | F14: 01,00 2021.04.08 | G14: 14,00 2021.04.08 | H14: В | I14: =(G14-F14)/$AD$9 -> #VALUE! | J14: ВЛ-10кВ | AC14: 0 | AE14: Пробой опорного изолятора на вышке Мегафон
B15: Участок №2 | D15: ВЛ №1 ТП-2445 ф.1.ПС110/35/10кВ ф.2 Шостье | E15: 10 (10.5) | F15: 02,00 2021.04.21 | G15: 15,00 2021.04.21 | H15: В | I15: =(G15-F15)/$AD$9 -> #VALUE! | J15: ВЛ 0,4кВ | AC15: 1 | AE15: Ремонт ВЛ-0,4кВ
B16: Участок №1 | D16: п/с Сабурово 110/10 кВ ф.7 | E16: 10 (10.5) | F16: 15,19 2021.04.24 | G16: 20,08 2021.04.24 | H16: В | I16: =(G16-F16)/$AD$9 -> #VALUE! | J16: ВЛ 10кВ | AE16: Сгорели 2 выс.вставки,работа РЭС
B17: Участок №2 | D17: КТП-1а КЛ-10кВ | E17: 0.38 | F17: 21,45 2021.04.24 | G17: 22,10 2021.04.24 | H17: В | I17: =(G17-F17)/$AD$9 -> #VALUE! | J17: ВЛ 0,4кВ | AC17: 1 | AE17: Ремонт рубильника
B18: Участок №2 | D18: ВЛ-10кВ №2 п/с Затон 35/10 кВ ф2 | E18: 10 (10.5) | F18: 12,00 2021.04.25 | G18: 21,30 2021.04.25 | H18: В | I18: =(G18-F18)/$AD$9 -> #VALUE! | J18: ВЛ-10кВ | AC18: 1 | AE18: Пробой изолятора на оп.1 от ЗТП-1 ВЛ-10кВ
B19: Участок №2 | D19: ВЛ №2 ЗТП-8 ф.2. ПС35/10кВ ф.5 Лашма | E19: 10 (10.5) | F19: 15,30 2021.04.30 | G19: 19,00 2021.04.30 | H19: В | I19: =(G19-F19)/$AD$9 -> #VALUE! | J19: ВЛ-10кВ | AC19: 1 | AE19: Замена вставки 10 кВ
B20: Участок №1 | D20: п/с Затон 35/10 кВ ф2 | E20: 10 (10.5) | F20: 44311.5 | G20: 44311.896 | H20: в | I20: =(G20-F20)/$AD$9 -> 9.5 | J20: ВЛ-10кВ | AE20: Обрыв линейного провода,работа РЭС
B21: Участок №1 | D21: п/с Лашма 35/10 кВ ф5 | E21: 10 (10.5) | F21: 44315.417 | G21: 44315.542 | H21: П | I21: =(G21-F21)/$AD$9 -> 3 | J21: ВЛ-10кВ | AE21: Работа персонала РЭС
D27: Участок №2
D28: Участок №2
D29: Участок №2
D30: Участок №2
D31: Участок №2
D32: Участок №2

Sheet май
A7: №пп | B7: Участок | C7: Участок | D7: Диспетчерское наименование объекта электросетевого хозяйства сетевой организации, в результате отключения которой произошло прекращение передачи электроэнергии потребителям услуг | E7: Высший класс напряжения отключенного оборудования сетевой организации, кВ | F7: Время и дата начала прекращения передачи электрической энергии (часы, минуты, ГГГГ.ММ.ДД) | G7: Время и дата восстановления режима потребления электрической энергии потребителей услуг (часы, минуты, ГГГГ.ММ.ДД) | H7: Вид прекращения передачи электроэнергии (П-плановое, А-аварийное , В-внерегламентное (Аварийное)) | I7: Продолжительность прекращения передачи электрической энергии, час | J7: Перечень объектов электросетевого хозяйства, отключение которых привело к прекращению передачи электрической энергии потребителям услуг (ПС, ТП, РП, ВЛ, КЛ) | K7: Количество точек поставки потребителей услуг сетевой организации, в отношении которых произошел перерыв электроснабжения, шт.
AD9: 0.041666667
A10: 1 | B10: 2 | C10: 3 | D10: 4 | E10: 5 | F10: 6 | G10: 7 | H10: 8 | I10: 9 | J10: 10 | K10: 11
D12: КТП-11, ф.4 ВЛ-0,4кВ Елатьма | E12: 0.38 | F12: 44323.365 | G12: 44323.385 | H12: П | I12: =(G12-F12)/$AD$9 -> 0.5 | J12: ВЛ 0,4кВ | AE12: Сгорели 3 выс.вставки,работа РЭС
D13: ЦРП-10кВ ф.3 Елатьма | E13: 10 | F13: 44331.611 | G13: 44331.655 | H13: П | I13: =(G13-F13)/$AD$9 -> 1.05 | J13: ВЛ-10кВ | AC13: 1 | AE13: Ремонт ВЛ-0,4кВ
D14: КТП-6,8-14 ВЛ-10кВ Елатьма | E14: 10 | F14: 44331.611 | G14: 44331.775 | H14: П | I14: =(G14-F14)/$AD$9 -> 3.9333333 | J14: ВЛ-10кВ | AC14: 0 | AE14: Пробой опорного изолятора на вышке Мегафон
D15: ЗТП-10, ф.1 ВЛ-0,4кВ Елатьма | E15: 0.38 | F15: 44334.403 | G15: 44334.438 | H15: П | I15: =(G15-F15)/$AD$9 -> 0.83333333 | J15: ВЛ 0,4кВ | AC15: 1 | AE15: Ремонт ВЛ-0,4кВ
D16: ЦРП-10кВ ф.3 Елатьма | E16: 10 | F16: 44334.556 | G16: 44334.587 | H16: А | I16: =(G16-F16)/$AD$9 -> 0.75 | J16: ВЛ-10кВ | AE16: Сгорели 2 выс.вставки,работа РЭС
D17: ЗТП-3,ф.3 ВЛ-0,4кВ | E17: 0.38 | F17: 44334.615 | G17: 44334.733 | H17: П | I17: =(G17-F17)/$AD$9 -> 2.85 | J17: ВЛ 0,4кВ | AC17: 1 | AE17: Ремонт рубильника
D18: п/с Сабурово 110/10 кВ ф.7 | E18: 10 | F18: 44335.944 | G18: 44336.122 | H18: А | I18: =(G18-F18)/$AD$9 -> 4.25 | J18: ВЛ-10кВ | AC18: 1 | AE18: Пробой изолятора на оп.1 от ЗТП-1 ВЛ-10кВ
D27: Участок №2
D28: Участок №2
D29: Участок №2
D30: Участок №2
D31: Участок №2
D32: Участок №2

Sheet июнь
A2: Форма 8.1 - Журнал учёта данных первичной информации по всем прекращениям передачи электрической энергии, произошедших на объектах электросетевых организаций за | Q2: =F12 -> 44351.503 | R2: месяц | S2: 2021 | T2: года
A3: МУ МПЖКХ Гусь-Железный
A4: наименование электросетевой организации
A6: Данные о факте прекращения передачи электрической энергии | J6: Данные о масштабе прекращения передачи электрической энергии в сетевой организации | W6: Перечень смежных сетевых организаций, затронутых прекращением передачи электрической энергии | X6: Данные о причинах прекращения передачи электрической энергии и их расследовании | AA6: Учет в показателях надежности, в т.ч. индикативных показателях надежности (0 - нет, 1 - да)
A7: Номер прекращения передачи электрической энергии / Номер итоговой строки | B7: Наименование структурной единицы сетевой организации | C7: Вид объекта: КЛ, ВЛ, КВЛ, ПС, ТП, РП | D7: Диспетчерское наименование объекта электросетевого хозяйства сетевой организации, в результате отключения которой произошло прекращение передачи электроэнергии потребителям услуг | E7: Высший класс напряжения отключенного оборудования сетевой организации, кВ | F7: Время и дата начала прекращения передачи электрической энергии (часы, минуты, ГГГГ.ММ.ДД) | G7: Время и дата восстановления режима потребления электрической энергии потребителей услуг (часы, минуты, ГГГГ.ММ.ДД) | H7: Вид прекращения передачи электроэнергии (П, А, В) | I7: Продолжительность прекращения передачи электрической энергии, час | J7: Перечень объектов электросетевого хозяйства, отключение которых привело к прекращению передачи электрической энергии потребителям услуг (ПС, ТП, РП, ВЛ, КЛ) | K7: Перечень потребителей 1-й и 2-й категорий надежности, в отношении которых произошло полное ограничение режима потребления электрической энергии | L7: Перечень потребителей 1-й и 2-й категорий надежности, в отношении которых произошло частичное ограничение режима потребления электрической энергии | M7: Количество точек поставки потребителей услуг сетевой организации, в отношении которых произошел перерыв электроснабжения, шт., в том числе: | V7: Суммарный объем фактической нагрузки (мощности) на присоединениях потребителей услуг, по которым произошло прекращение передачи электрической энергии на момент возникновения такого события, кВт
M8: ВСЕГО | N8: в разделении категорий надежности потребителей электрической энергии | Q8: в разделении уровней напряжения ЭПУ потребителя электрической энергии | U8: Смежные сетевые организации и производители электрической энергии | X8: Номер и дата акта расследования технологического нарушения, записи в оперативном журнале | Y8: Код организационной причины аварии | Z8: Код технической причины повреждения оборудования
N9: 1-я категория надежности | O9: 2-я категория надежности | P9: 3-я категория надежности | Q9: ВН (110 кВ и выше) | R9: СН1 (35 кВ) | S9: СН2 (6-20 кВ) | T9: НН (0,22-1 кВ) | AD9: 0.041666667
A10: 1 | B10: 2 | C10: 3 | D10: 4 | E10: 5 | F10: 6 | G10: 7 | H10: 8 | I10: 9 | J10: 10 | K10: 11 | L10: 12 | M10: 13 | N10: 14 | O10: 15 | P10: 16 | Q10: 17 | R10: 18 | S10: 19 | T10: 20 | U10: 21 | V10: 22 | W10: 23 | X10: 24 | Y10: 25 | Z10: 26 | AA10: 27
A11: 1 | B11: Участок №1 | C11: ВЛ | D11: п. Лашма ТП-6 ВЛ-0,4 кВ ф2 | E11: 0.38 | F11: 44349.417 | G11: 44349.542 | H11: П | I11: =(G11-F11)/$AD$9 -> 3 | J11: ВЛ- 0,4кВ | K11: 0 | L11: 0 | M11: =P11 -> 88 | N11: 0 | O11: 0 | P11: 88 | Q11: 0 | R11: 0 | S11: 0 | T11: =P11 -> 88 | U11: 0 | V11: =0.22*T11 -> 19.36 | AA11: 1 | AC11: Замена траверс на ВЛ-0,4кВ
A12: 2 | B12: Участок №2 | C12: ВЛ | D12: ТП-2394,ф. 3,ВЛ-0,4кВ Подлипки | E12: 0.38 | F12: 44351.503 | G12: 44351.569 | H12: П | I12: =(G12-F12)/$AD$9 -> 1.5833333 | J12: ВЛ 0,4кВ | K12: 0 | L12: 0 | M12: =P12 -> 52 | N12: 0 | O12: 0 | P12: 52 | Q12: 0 | R12: 0 | S12: 0 | T12: =P12 -> 52 | U12: 0 | V12: =0.22*T12 -> 11.44 | AA12: 1 | AC12: Ремонт ВЛ-0,4кВ
A13: 3 | B13: Участок №2 | C13: ВЛ | D13: ЦРП-10кВ ф.3 Елатьма | E13: 10 (10.5) | F13: 44351.691 | G13: 44351.708 | H13: П | I13: =(G13-F13)/$AD$9 -> 0.41666667 | J13: ВЛ-10кВ | K13: 0 | L13: 0 | M13: =P13 -> 988 | N13: 0 | O13: 0 | P13: 988 | Q13: 0 | R13: 0 | S13: 0 | T13: =P13 -> 988 | U13: 0 | V13: =0.22*T13 -> 217.36 | AA13: 1 | AC13: Вырубка пролетов
A14: 4 | B14: Участок №2 | C14: ВЛ | D14: ТП-4,ф.3 ВЛ-0,4кВ Елатьма | E14: 0.38 | F14: 44354.417 | G14: 44354.5 | H14: П | I14: =(G14-F14)/$AD$9 -> 2 | J14: ВЛ 0,4кВ | K14: 0 | L14: 0 | M14: =P14 -> 21 | N14: 0 | O14: 0 | P14: 21 | Q14: 0 | R14: 0 | S14: 0 | T14: =P14 -> 21 | U14: 0 | V14: =0.22*T14 -> 4.62 | AA14: 1 | AC14: Ремонт ВЛ-0,4кВ
A15: 5 | B15: Участок №1 | C15: ВЛ | D15: д.Лощинино ТП-2588 ВЛ-0,4кВ ф1 | E15: 0.38 | F15: 44355.417 | G15: 44355.5 | H15: П | I15: =(G15-F15)/$AD$9 -> 2 | J15: ВЛ 0,4кВ | K15: 0 | L15: 0 | M15: =P15 -> 82 | N15: 0 | O15: 0 | P15: 82 | Q15: 0 | R15: 0 | S15: 0 | T15: =P15 -> 82 | U15: 0 | V15: =0.22*T15 -> 18.04 | AA15: 1 | AC15: Восстановление полнофазной сети
A16: 6 | B16: Участок №2 | C16: ВЛ | D16: ТП-6,11,12,13,14 ВЛ-10кВ | E16: 10 (10.5) | F16: 44357.375 | G16: 44357.458 | H16: П | I16: =(G16-F16)/$AD$9 -> 2 | J16: ВЛ-10кВ | K16: 0 | L16: 0 | M16: =P16 -> 544 | N16: 0 | O16: 0 | P16: 544 | Q16: 0 | R16: 0 | S16: 0 | T16: =P16 -> 544 | U16: 0 | V16: =0.22*T16 -> 119.68 | AA16: 1 | AC16: Ремонт ВЛ-10кВ на КТП-12
A17: 7 | B17: Участок №1 | C17: ВЛ | D17: п.Ташенка ЗТП-4 ВЛ-0,4кВ ф5 | E17: 0.38 | F17: 44357.417 | G17: 44357.542 | H17: П | I17: =(G17-F17)/$AD$9 -> 3 | J17: ВЛ-0,4кВ | K17: 0 | L17: 0 | M17: =P17 -> 35 | N17: 0 | O17: 0 | P17: 35 | Q17: 0 | R17: 0 | S17: 0 | T17: =P17 -> 35 | U17: 0 | V17: =0.22*T17 -> 7.7 | AA17: 1 | AC17: Монтаж ВЛ по опорам
A18: 8 | B18: Участок №2 | C18: ВЛ | D18: п/с Сабурово 110/10 кВ ф.7 | E18: 10 (10.5) | F18: 44358.63 | G18: 44358.65 | H18: В | I18: =(G18-F18)/$AD$9 -> 0.48333333 | J18: ВЛ-10кВ | K18: 0 | L18: 0 | M18: =P18 -> 1121 | N18: 0 | O18: 0 | P18: 1121 | Q18: 0 | R18: 0 | S18: 0 | T18: =P18 -> 1121 | U18: 0 | V18: =0.22*T18 -> 246.62 | X18: №19 07.06.2021 | Y18: =орг_прич!$D$30 -> 3.4.12.3 | Z18: 4.12 | AA18: 1 | AC18: Пробит изолятор на опоре 148 и151
A19: 10 | B19: Участок №2 | C19: ВЛ | D19: КТП-11, ф.4 ВЛ-0,4кВ Елатьма | E19: 0.38 | F19: 44360.639 | G19: 44360.733 | H19: П | I19: =(G19-F19)/$AD$9 -> 2.25 | J19: ВЛ 0,4кВ | K19: 0 | L19: 0 | M19: =P19 -> 29 | N19: 0 | O19: 0 | P19: 29 | Q19: 0 | R19: 0 | S19: 0 | T19: =P19 -> 29 | U19: 0 | V19: =0.22*T19 -> 6.38 | AA19: 1 | AC19: Замена пасынка на деревянной опоре
A20: 11 | B20: Участок №2 | C20: ВЛ | D20: ТП-6,11,12,13,14 ВЛ-10кВ | E20: 10 (10.5) | F20: 44364.375 | G20: 44364.458 | H20: П | I20: =(G20-F20)/$AD$9 -> 2 | J20: ВЛ-10кВ | K20: 0 | L20: 0 | M20: =P20 -> 544 | N20: 0 | O20: 0 | P20: 544 | Q20: 0 | R20: 0 | S20: 0 | T20: =P20 -> 544 | U20: 0 | V20: =0.22*T20 -> 119.68 | AA20: 1 | AC20: Ремонт ВЛ-10кВ на КТП-12
A21: 12 | B21: Участок №2 | C21: ВЛ | D21: п/с Сабурово 110/10 кВ ф.7 | E21: 10 (10.5) | F21: 44375.781 | G21: 44375.858 | H21: В | I21: =(G21-F21)/$AD$9 -> 1.8333333 | J21: ВЛ-10кВ | K21: 0 | L21: 0 | M21: =P21 -> 1121 | N21: 0 | O21: 0 | P21: 1121 | Q21: 0 | R21: 0 | S21: 0 | T21: =P21 -> 1121 | U21: 0 | V21: =0.22*T21 -> 246.62 | X21: №21 29.06.2021 | Y21: 3.4.12.3 | Z21: 4.21 | AA21: 1 | AC21: Грозовой фронт
A22: 13 | B22: Участок №2 | C22: ТП | D22: ЦРП-10кВ ф.3 Елатьма | E22: 10 (10.5) | F22: 44375.95 | G22: 44375.969 | H22: В | I22: =(G22-F22)/$AD$9 -> 0.45 | J22: ВЛ-10кВ | K22: 0 | L22: 0 | M22: =P22 -> 988 | N22: 0 | O22: 0 | P22: 988 | Q22: 0 | R22: 0 | S22: 0 | T22: =P22 -> 988 | U22: 0 | V22: =0.22*T22 -> 217.36 | X22: №22 29.06.2021 | Y22: 3.4.12.3 | Z22: 4.13 | AA22: 1 | AC22: Замена вставки на ЗТП-3
A23: 14 | B23: Участок №2 | C23: ВЛ | D23: ТП-2179 ВЛ-10кВ Любовниково | E23: 10 (10.5) | F23: 44376.472 | G23: 44376.604 | H23: В | I23: =(G23-F23)/$AD$9 -> 3.1666667 | J23: ВЛ-10кВ | K23: 0 | L23: 0 | M23: =P23 -> 12 | N23: 0 | O23: 0 | P23: 12 | Q23: 0 | R23: 0 | S23: 0 | T23: =P23 -> 12 | U23: 0 | V23: =0.22*T23 -> 2.64 | X23: №23 30.06.2021 | Y23: 3.4.12.3 | Z23: =тех_прич!$D$8 -> 4.4 | AA23: 1 | AC23: Ремонт ВЛ-10кВ

Sheet июль
A7: №пп | B7: Участок | C7: Участок | D7: Диспетчерское наименование объекта электросетевого хозяйства сетевой организации, в результате отключения которой произошло прекращение передачи электроэнергии потребителям услуг | E7: Высший класс напряжения отключенного оборудования сетевой организации, кВ | F7: Время и дата начала прекращения передачи электрической энергии (часы, минуты, ГГГГ.ММ.ДД) | G7: Время и дата восстановления режима потребления электрической энергии потребителей услуг (часы, минуты, ГГГГ.ММ.ДД) | H7: Вид прекращения передачи электроэнергии (П-плановое, А-аварийное , В-внерегламентное (Аварийное)) | I7: Продолжительность прекращения передачи электрической энергии, час | J7: Перечень объектов электросетевого хозяйства, отключение которых привело к прекращению передачи электрической энергии потребителям услуг (ПС, ТП, РП, ВЛ, КЛ) | K7: Количество точек поставки потребителей услуг сетевой организации, в отношении которых произошел перерыв электроснабжения, шт.
AD9: 0.041666667
A10: 1 | B10: 2 | C10: 3 | D10: 4 | E10: 5 | F10: 6 | G10: 7 | H10: 8 | I10: 9 | J10: 10 | K10: 11
B11: Участок №1 | D11: п.Ташенка ПС-Зеленино ВЛ-10 кВ ф4 | E11: 0.38 | F11: 44390.417 | G11: 44390.625 | H11: п | I11: =(G11-F11)/$AD$9 -> 5 | J11: ВЛ- 10кВ | L11: Ремонтные работы РЭС
B12: Участок №1 | D12: п.Ташенка ПС-Зеленино ВЛ-10кВ ф4 | E12: 0.38 | F12: 44392.417 | G12: 44392.583 | H12: п | I12: =(G12-F12)/$AD$9 -> 4 | J12: ВЛ 10кВ | L12: Ремонтные работы РЭС
B13: Участок №1 | D13: п.Малеевский карьер ПС-Телебукино ВЛ-10кВ ф14 | E13: 0.38 | F13: 44392.646 | G13: 44392.771 | H13: в | I13: =(G13-F13)/$AD$9 -> 3 | J13: ВЛ-10кВ | L13: Причина не выявлена | AA13: 3.4.9.1 | AB13: 4.21
B14: Участок №1 | D14: п.Малеевский карьер ПС-Телебукино ВЛ-10кВ ф14 | E14: 0.38 | F14: 44393.583 | G14: 44393.771 | H14: в | I14: =(G14-F14)/$AD$9 -> 4.5 | J14: ВЛ-10кВ | L14: Причина не выявлена | AA14: 3.4.9.1 | AB14: 4.21
B15: Участок №1 | D15: п.Лашма ТП-1 ВЛ-0,4кВ ф1 | E15: 0.38 | F15: 44396.812 | G15: 44396.896 | H15: в | I15: =(G15-F15)/$AD$9 -> 2 | J15: ВЛ-0,4кВ | L15: Перехлест проводов по вине абонента | AA15: 3.4.9.3 | AB15: 4.4
B16: Участок №1 | D16: д.Ташенка ПС-Зеленино ВЛ-10кВ ф3 | E16: 0.38 | F16: 44403.417 | G16: 44403.708 | H16: п | I16: =(G16-F16)/$AD$9 -> 7 | J16: ВЛ-10кВ | L16: Ремонтные работы РЭС
B17: Участок №1 | D17: ПС-Лашма ВЛ-10кВ ТП-8 ф5 | E17: 0.38 | F17: 44406.25 | G17: 44406.351 | H17: в | I17: =(G17-F17)/$AD$9 -> 2.4166667 | J17: ВЛ-10кВ | L17: Короткое замыкание (птица в РУ-10кВ). | AA17: 3.4.10 | AB17: 4.17
B18: Участок №2 | D18: ТП-4,ф.3 ВЛ-0,4кВ Елатьма | E18: 0.38 | F18: 44385.354 | G18: 44385.604 | H18: П | I18: =(G18-F18)/$AD$9 -> 6 | J18: ВЛ 0,4кВ | L18: Замена ВЛ-0,4кВ
B19: Участок №2 | D19: ЦРП-10кВ ф.3 Елатьма | E19: 10 | F19: 44392.479 | G19: 44392.493 | H19: А | I19: =(G19-F19)/$AD$9 -> 0.33333333 | J19: ВЛ-10кВ | L19: Грозовой фронт | AA19: 3.4.12.3 | AB19: 4.21
B20: Участок №2 | D20: п/с Сабурово 110/10 кВ ф.7 | E20: 10 | F20: 44392.559 | G20: 44392.669 | H20: А | I20: =(G20-F20)/$AD$9 -> 2.6333333 | J20: ВЛ-10кВ | L20: Грозовой фронт,неисправность не обнаружена | AA20: 3.4.9.1 | AB20: 4.21
B21: Участок №2 | D21: п/с Сабурово 110/10 кВ ф.7 | E21: 10 | F21: 44399.451 | G21: 44399.576 | H21: П | I21: =(G21-F21)/$AD$9 -> 3 | J21: ВЛ-10кВ | L21: Работы на п/с Сабурово 110/10 кВ
B22: Участок №2 | D22: ТП-4,ф.3 ВЛ-0,4кВ Елатьма | E22: 0.38 | F22: 44404.625 | G22: 44404.688 | H22: П | I22: =(G22-F22)/$AD$9 -> 1.5 | J22: ВЛ 0,4кВ | L22: Установка опор на ул.Егерева

Sheet план январь
A1: Информация о вводе в ремонт и выводе из ремонта электросетевых объектов
A2: за январь 2020 года
A4: Наименование объекта | B4: Дата ввода в ремонт | D4: Дата вывода из ремонта | F4: Примеча-ния
B5: План | C5: Факт | D5: План | E5: Факт
A6: =январь!D6 -> ТП-2497,ТП-2494 ВЛ-10кВ Маяк | B6: =IF(январь!H6="П",январь!F6,0) -> 44214.389 | C6: =IF(январь!H6="П",январь!G6,0) -> 44214.431 | D6: =B6 -> 44214.389 | E6: =C6 -> 44214.431 | G6: =январь!H6 -> П
A7: =январь!D7 -> ф14 10кВ КТП2 | B7: =IF(январь!H7="П",январь!F7,0) -> 44220.243 | C7: =IF(январь!H7="П",январь!G7,0) -> 44220.493 | D7: =B7 -> 44220.243 | E7: =C7 -> 44220.493 | G7: =январь!H7 -> П
A8: =январь!D11 -> ТП-2,6-14 ВЛ-10кВ Елатьма | B8: =IF(январь!H11="П",январь!F11,0) -> 44225.417 | C8: =IF(январь!H11="П",январь!G11,0) -> 44225.5 | D8: =B8 -> 44225.417 | E8: =C8 -> 44225.5 | G8: =январь!H11 -> П

Sheet план февраль
A1: Информация о вводе в ремонт и выводе из ремонта электросетевых объектов
A2: за январь 2020 года
A4: Наименование объекта | B4: Дата ввода в ремонт | D4: Дата вывода из ремонта | F4: Примеча-ния
B5: План | C5: Факт | D5: План | E5: Факт
A6: =январь!D6 -> ТП-2497,ТП-2494 ВЛ-10кВ Маяк | B6: =IF(январь!H6="П",январь!F6,0) -> 44214.389 | C6: =IF(январь!H6="П",январь!G6,0) -> 44214.431 | D6: =B6 -> 44214.389 | E6: =C6 -> 44214.431 | G6: =январь!H6 -> П
A7: =январь!D7 -> ф14 10кВ КТП2 | B7: =IF(январь!H7="П",январь!F7,0) -> 44220.243 | C7: =IF(январь!H7="П",январь!G7,0) -> 44220.493 | D7: =B7 -> 44220.243 | E7: =C7 -> 44220.493 | G7: =январь!H7 -> П
A8: =январь!D11 -> ТП-2,6-14 ВЛ-10кВ Елатьма | B8: =IF(январь!H11="П",январь!F11,0) -> 44225.417 | C8: =IF(январь!H11="П",январь!G11,0) -> 44225.5 | D8: =B8 -> 44225.417 | E8: =C8 -> 44225.5 | G8: =январь!H11 -> П

Sheet план март
A1: Информация о вводе в ремонт и выводе из ремонта электросетевых объектов
A2: за | B2: =B11 -> 44270.417 | C2: года
A4: Наименование объекта | B4: Дата ввода в ремонт | D4: Дата вывода из ремонта | F4: Примеча-ния
B5: План | C5: Факт | D5: План | E5: Факт
H6: =март!H11 -> В
H7: =март!H12 -> В
H8: =март!H13 -> В
H9: =март!H14 -> В
H10: =март!H15 -> В
A11: =март!D16 -> ТП-4,ф.3 ВЛ-0,4кВ Елатьма | B11: =IF(март!H16="П",март!F16,0) -> 44270.417 | C11: =IF(март!H16="П",март!G16,0) -> 44270.476 | D11: =B11 -> 44270.417 | E11: =C11 -> 44270.476 | H11: =март!H16 -> П
A12: =март!D17 -> п/с Лашма 35/10кВ ф.5 | B12: =IF(март!H17="П",март!F17,0) -> 44270.396 | C12: =IF(март!H17="П",март!G17,0) -> 44270.542 | D12: =B12 -> 44270.396 | E12: =C12 -> 44270.542 | H12: =март!H17 -> П
A13: =март!D18 -> п/с Затон 35/10 кВ ф2 | B13: =IF(март!H18="П",март!F18,0) -> 44271.208 | C13: =IF(март!H18="П",март!G18,0) -> 44271.25 | D13: =B13 -> 44271.208 | E13: =C13 -> 44271.25 | H13: =март!H18 -> П
A14: =март!D19 -> ТП-1,ф.4 ВЛ-0,4кВ Елатьма | B14: =IF(март!H19="П",март!F19,0) -> 44271.396 | C14: =IF(март!H19="П",март!G19,0) -> 44271.472 | D14: =B14 -> 44271.396 | E14: =C14 -> 44271.472 | H14: =март!H19 -> П
A15: =март!D20 -> ТП-2179 ВЛ-10кВ Любовниково | B15: =IF(март!H20="П",март!F20,0) -> 44272.458 | C15: =IF(март!H20="П",март!G20,0) -> 44272.625 | D15: =B15 -> 44272.458 | E15: =C15 -> 44272.625 | H15: =март!H20 -> П
A16: =март!D21 -> ТП-8,9,10,11,12,13,14 ВЛ-10кВ | B16: =IF(март!H21="П",март!F21,0) -> 44273.542 | C16: =IF(март!H21="П",март!G21,0) -> 44273.625 | D16: =B16 -> 44273.542 | E16: =C16 -> 44273.625 | H16: =март!H21 -> П
A17: =март!D22 -> п/с Лашма 35/10кВ ф.3 | B17: =IF(март!H22="П",март!F22,0) -> 44273.417 | C17: =IF(март!H22="П",март!G22,0) -> 44273.542 | D17: =B17 -> 44273.417 | E17: =C17 -> 44273.542 | H17: =март!H22 -> П
H18: =март!H23 -> В
A19: =март!D24 -> п/с Зеленино 35/10кВ ф4, ф3 | B19: =IF(март!H24="П",март!F24,0) -> 44277.417 | C19: =IF(март!H24="П",март!G24,0) -> 44277.5 | D19: =B19 -> 44277.417 | E19: =C19 -> 44277.5 | H19: =март!H24 -> П
A20: =март!D25 -> п/с Лашма ТП-6 ф1, ТП-3 ф2 | B20: =IF(март!H25="П",март!F25,0) -> 44281.417 | C20: =IF(март!H25="П",март!G25,0) -> 44281.542 | D20: =B20 -> 44281.417 | E20: =C20 -> 44281.542 | H20: =март!H25 -> П

Sheet план апре
A1: Информация о вводе в ремонт и выводе из ремонта электросетевых объектов
A2: за | B2: =B6 -> 0 | C2: года
A4: Наименование объекта | B4: Дата ввода в ремонт | D4: Дата вывода из ремонта | F4: Примеча-ния
B5: План | C5: Факт | D5: План | E5: Факт
A6: =апрель!D15 -> ВЛ №1 ТП-2445 ф.1.ПС110/35/10кВ ф.2 Шостье | B6: =IF(апрель!H15="П",апрель!F15,0) -> 0 | C6: =IF(апрель!H15="П",апрель!G15,0) -> 0 | D6: =B6 -> 0 | E6: =C6 -> 0 | H6: =апрель!H15 -> В
A7: =апрель!D17 -> КТП-1а КЛ-10кВ | B7: =IF(апрель!H17="П",апрель!F17,0) -> 0 | C7: =IF(апрель!H17="П",апрель!G17,0) -> 0 | D7: =B7 -> 0 | E7: =C7 -> 0 | H7: =апрель!H17 -> В
A8: =апрель!D21 -> п/с Лашма 35/10 кВ ф5 | B8: =IF(апрель!H21="П",апрель!F21,0) -> 44315.417 | C8: =IF(апрель!H21="П",апрель!G21,0) -> 44315.542 | D8: =B8 -> 44315.417 | E8: =C8 -> 44315.542 | H8: =апрель!H21 -> П

Sheet август
A7: №пп | B7: Участок | C7: Участок | D7: Диспетчерское наименование объекта электросетевого хозяйства сетевой организации, в результате отключения которой произошло прекращение передачи электроэнергии потребителям услуг | E7: Высший класс напряжения отключенного оборудования сетевой организации, кВ | F7: Время и дата начала прекращения передачи электрической энергии (часы, минуты, ГГГГ.ММ.ДД) | G7: Время и дата восстановления режима потребления электрической энергии потребителей услуг (часы, минуты, ГГГГ.ММ.ДД) | H7: Вид прекращения передачи электроэнергии (П-плановое, А-аварийное , В-внерегламентное (Аварийное)) | I7: Продолжительность прекращения передачи электрической энергии, час | J7: Перечень объектов электросетевого хозяйства, отключение которых привело к прекращению передачи электрической энергии потребителям услуг (ПС, ТП, РП, ВЛ, КЛ) | K7: Количество точек поставки потребителей услуг сетевой организации, в отношении которых произошел перерыв электроснабжения, шт.
AD9: 0.041666667
A10: 1 | B10: 2 | C10: 3 | D10: 4 | E10: 5 | F10: 6 | G10: 7 | H10: 8 | I10: 9 | J10: 10 | K10: 11
B11: Участок №1 | D11: д.Лощинино ПС-Касимов ТП-2591 | E11: 0.38 | F11: 44412.542 | G11: 44412.583 | H11: П | I11: =(G11-F11)/$AD$9 -> 1 | J11: ВЛ- 10кВ | AE11: Лабораторные испытания ТП
B12: Участок №1 | D12: д.Лощинино ПС-Касимов ТП-2281 | E12: 0.38 | F12: 44412.604 | G12: 44412.667 | H12: П | I12: =(G12-F12)/$AD$9 -> 1.5 | J12: ВЛ 10кВ | AE12: Лабораторные испытания ТП
B13: Участок №1 | D13: д.Лощинино ПС-Касимов ТП-2588 | E13: 0.38 | F13: 44412.688 | G13: 44412.75 | H13: П | I13: =(G13-F13)/$AD$9 -> 1.5 | J13: ВЛ-10кВ | AE13: Лабораторные испытания ТП
B14: Участок №1 | D14: п.Малеевский карьер ПС-Телебукино КТП-2 | E14: 0.38 | F14: 44413.458 | G14: 44413.5 | H14: П | I14: =(G14-F14)/$AD$9 -> 1 | J14: ВЛ-10кВ | AE14: Лабораторные испытания ТП
D15: п.Ташенка ПС-Зеленино ВЛ10кВ ф3 | E15: 10 (10.5) | F15: 44418.375 | G15: 44418.583 | H15: П | I15: =(G15-F15)/$AD$9 -> 5 | J15: ВЛ-0,4кВ | AE15: Ремонтные работы РЭС
D16: п.Лашма ТП-1 ВЛ 0,4кВ ВЛ-10кВ ф1 | E16: 10 (10.5) | F16: 44419.417 | G16: 44419.604 | H16: П | I16: =(G16-F16)/$AD$9 -> 4.5 | J16: ВЛ-10кВ | AE16: Замена деревянных опор 2шт., правка опоры
D17: ПС-Зеленино ВЛ-10кВ ф3 | E17: 10 (10.5) | F17: 44419.729 | G17: 44419.792 | H17: В | I17: =(G17-F17)/$AD$9 -> 1.5 | J17: ВЛ-10кВ | AD17: Отключения в смежной сетевой орг | AE17: Отключение по вине " Касимовнеруд"
D18: ПС-Телебукино ВЛ-10кВ ф14 | E18: 10 (10.5) | F18: 44423.25 | G18: 44423.396 | H18: В | I18: =(G18-F18)/$AD$9 -> 3.5 | J18: ВЛ-10кВ | AD18: Неисправн в сети потребителя | AE18: Сгорели две высоковольтные вставки на ТП СУ-2
D19: д.Лощинино ТП-2589 РУ-0,4кВ | E19: 0.38 | F19: 44429.854 | G19: 44429.938 | H19: В | I19: =(G19-F19)/$AD$9 -> 2 | J19: ТП-2589 РУ-0,4кВ | AE19: Выгорел авт.выключатель на ф3
D20: п.Крутоярский ТП-2478 РУ-0,4кВ | E20: 0.38 | F20: 44437.312 | G20: 44437.417 | H20: В | I20: =(G20-F20)/$AD$9 -> 2.5 | J20: РУ-0,4кВ ТП-2478 | AE20: сгорел предохранитель фаза С на рубильнике ф6
B21: Участок №2 | D21: КТП-11,ф.3 ВЛ-0,4кВ Елатьма | E21: 0.38 | F21: 44410.375 | G21: 44410.458 | H21: П | I21: =(G21-F21)/$AD$9 -> 2 | J21: ВЛ 0,4кВ | AE21: Опиловка ВЛ-0,4кВ
B22: Участок №2 | D22: ЗТП-9, ф.1 ВЛ-0,4кВ Елатьма | E22: 0.38 | F22: 44411.375 | G22: 44411.542 | H22: П | I22: =(G22-F22)/$AD$9 -> 4 | J22: ВЛ 0,4кВ | AE22: Замена опор ул.Октябрьская
B23: Участок №2 | D23: ЗТП-9, ф.1 ВЛ-0,4кВ Елатьма | E23: 0.38 | F23: 44413.375 | G23: 44413.5 | H23: П | I23: =(G23-F23)/$AD$9 -> 3 | J23: ВЛ 0,4кВ | AE23: Замена опор ул.Интернациональная
B24: Участок №2 | D24: ТП-2165,ф.2 ВЛ-0,4кВ Сосновка | E24: 0.38 | F24: 44414.375 | G24: 44414.5 | H24: П | I24: =(G24-F24)/$AD$9 -> 3 | J24: ВЛ 0,4кВ | AE24: Замена опоры
B25: Участок №2 | D25: ЗТП-9, ф.1 ВЛ-0,4кВ Елатьма | E25: 0.38 | F25: 44419.375 | G25: 44419.5 | H25: П | I25: =(G25-F25)/$AD$9 -> 3 | J25: ВЛ 0,4кВ | AE25: Замена опор ул.Интернациональная
B26: Участок №2 | D26: ТП-2165,ф.2 ВЛ-0,4кВ Сосновка | E26: 0.38 | F26: 44425.375 | G26: 44425.521 | H26: П | I26: =(G26-F26)/$AD$9 -> 3.5 | J26: ВЛ 0,4кВ | AE26: Замена опоры
B27: Участок №2 | D27: п/с Сабурово 110/10 кВ ф.7 | E27: 10 (10.5) | F27: 44427.754 | G27: 44427.805 | H27: В | I27: =(G27-F27)/$AD$9 -> 1.2166667 | J27: ВЛ- 10кВ | AD27: Отключения в смежной сетевой орг | AE27: Неисправность в смежной сетевой организации
B28: Участок №2 | D28: ТП-4,ф.3 ВЛ-0,4кВ Елатьма | E28: 0.38 | F28: 44432.375 | G28: 44432.479 | H28: П | I28: =(G28-F28)/$AD$9 -> 2.5 | J28: ВЛ 0,4кВ | AE28: Замена опоры ул.Егерева
B29: Участок №2 | D29: ТП-2179 ВЛ-10кВ Любовниково | E29: 10 (10.5) | F29: 44435.25 | G29: 44435.292 | H29: П | I29: =(G29-F29)/$AD$9 -> 1 | J29: ВЛ- 10кВ | AE29: Работы в смежной сетевой организации
B30: Участок №2 | D30: ТП-2497,ТП-2494 ВЛ-10кВ Маяк | E30: 10 (10.5) | F30: 44435.708 | G30: 44435.833 | H30: П | I30: =(G30-F30)/$AD$9 -> 3 | J30: ВЛ- 10кВ | AE30: Работы в смежной сетевой организации

Sheet сентябрь
A7: №пп | B7: Участок | C7: Участок | D7: Диспетчерское наименование объекта электросетевого хозяйства сетевой организации, в результате отключения которой произошло прекращение передачи электроэнергии потребителям услуг | E7: Высший класс напряжения отключенного оборудования сетевой организации, кВ | F7: Время и дата начала прекращения передачи электрической энергии (часы, минуты, ГГГГ.ММ.ДД) | G7: Время и дата восстановления режима потребления электрической энергии потребителей услуг (часы, минуты, ГГГГ.ММ.ДД) | H7: Вид прекращения передачи электроэнергии (П-плановое, А-аварийное , В-внерегламентное (Аварийное)) | I7: Продолжительность прекращения передачи электрической энергии, час | J7: Перечень объектов электросетевого хозяйства, отключение которых привело к прекращению передачи электрической энергии потребителям услуг (ПС, ТП, РП, ВЛ, КЛ) | K7: Количество точек поставки потребителей услуг сетевой организации, в отношении которых произошел перерыв электроснабжения, шт.
AD9: 0.041666667
A10: 1 | B10: 2 | C10: 3 | D10: 4 | E10: 5 | F10: 6 | G10: 7 | H10: 8 | I10: 9 | J10: 10 | K10: 11
B12: Участок №1 | C12: ВЛ | D12: ПС-Лашма ф5 ВЛ-10кВ | E12: 10 (10.5) | F12: 44440.486 | G12: 44440.604 | H12: В | I12: =(G12-F12)/$AD$9 -> 2.8333333 | J12: ВЛ- 10кВ | AE12: Причина не обнаружена
B13: Участок №1 | C13: ВЛ | D13: ПС-Касимов ф12 ВЛ-10кВ | E13: 10 (10.5) | F13: 44441.396 | G13: 44441.479 | H13: П | I13: =(G13-F13)/$AD$9 -> 2 | J13: ВЛ 10кВ | AE13: Замена ВТР на ТП-2281 д.Лощинино
B14: Участок №1 | C14: ТП | D14: д.Лощинино ТП-2589 | E14: 10 (10.5) | F14: 44442.417 | G14: 44442.583 | H14: П | I14: =(G14-F14)/$AD$9 -> 4 | J14: ВЛ-10кВ | AE14: Ревизия ТП-2589
B15: Участок №1 | C15: ВЛ | D15: ПС-Телебукино ф11 ВЛ-10кВ | E15: 10 (10.5) | F15: 44443.417 | G15: 44443.542 | H15: В | I15: =(G15-F15)/$AD$9 -> 3 | J15: ВЛ-10кВ | AE15: Упало дерево на ВЛ-10кВ
B16: Участок №2 | C16: ВЛ | D16: ЦРП-10кВ ф.3 Елатьма | E16: 10 (10.5) | F16: 44446.375 | G16: 44446.392 | H16: П | I16: =(G16-F16)/$AD$9 -> 0.41666667 | J16: ВЛ- 10кВ | AE16: Ремонт ВЛ-10кВ
B17: Участок №2 | C17: ВЛ | D17: п/с Кольдюки 10кВ ф.4 | E17: 10 (10.5) | F17: 44448.396 | G17: 44448.542 | H17: П | I17: =(G17-F17)/$AD$9 -> 3.5 | J17: ВЛ- 10кВ | AE17: Работы в смежной сетевой организации
B18: Участок №2 | C18: ТП | D18: ТП-2494 ВЛ-0,4кВ Маяк | E18: 0.38 | F18: 44449.354 | G18: 44449.479 | H18: П | I18: =(G18-F18)/$AD$9 -> 3 | J18: ВЛ 0,4кВ | AE18: Ремонт ВЛ-0,4кВ
B19: Участок №2 | C19: ТП | D19: ТП-2494 ВЛ-0,4кВ Маяк | E19: 0.38 | F19: 44454.354 | G19: 44454.479 | H19: П | I19: =(G19-F19)/$AD$9 -> 3 | J19: ВЛ 0,4кВ | AE19: Замена опоры
B20: Участок №2 | C20: ТП | D20: ЦРП-10кВ ф.3 Елатьма | E20: 10 | F20: 44455.396 | G20: 44455.438 | H20: П | I20: =(G20-F20)/$AD$9 -> 1 | J20: ВЛ- 10кВ | AE20: Ремонт ВЛ-10кВ
B21: Участок №1 | C21: ВЛ | D21: п.Ташенка ТП-5 РУ-0,4кВ ф4 | E21: 0.38 | F21: 44460.833 | G21: 44461.021 | H21: В | I21: =(G21-F21)/$AD$9 -> 4.5 | J21: ВЛ-0,4кВ | AE21: Выгорел авт.выключатель
B22: Участок №1 | C22: ВЛ | D22: д.Лощинино ТП-2589 | E22: 10 (10.5) | F22: 44461.375 | G22: 44461.417 | H22: П | I22: =(G22-F22)/$AD$9 -> 1 | J22: ВЛ-10кВ | AE22: Лабораторные испытания ТП
B23: Участок №1 | C23: ВЛ | D23: п.Лашма ТП-1 | E23: 10 (10.5) | F23: 44461.458 | G23: 44461.5 | H23: П | I23: =(G23-F23)/$AD$9 -> 1 | J23: ВЛ-10кВ | AE23: Лабораторные испытания ТП
B24: Участок №1 | C24: ВЛ | D24: п.Лашма ТП-2 | E24: 10 (10.5) | F24: 44461.521 | G24: 44461.569 | H24: П | I24: =(G24-F24)/$AD$9 -> 1.1666667 | J24: ВЛ-10кВ | AE24: Лабораторные испытания ТП
B25: Участок №1 | C25: ВЛ | D25: п.Лашма ТП-6 | E25: 10 (10.5) | F25: 44461.583 | G25: 44461.625 | H25: П | I25: =(G25-F25)/$AD$9 -> 1 | J25: ВЛ-10кВ | AE25: Лабораторные испытания ТП
B26: Участок №1 | C26: ВЛ | D26: ПС-Телебукино ф14 ВЛ-10кВ | E26: 10 (10.5) | F26: 44462.417 | G26: 44462.542 | H26: П | I26: =(G26-F26)/$AD$9 -> 3 | J26: ВЛ-10кВ | AE26: Работы РЭС
B27: Участок №2 | C27: ВЛ | D27: ТП-3,ф.1 ВЛ-0,4кВ Елатьма | E27: 0.38 | F27: 44467.438 | G27: 44467.583 | H27: П | I27: =(G27-F27)/$AD$9 -> 3.5 | J27: ВЛ 0,4кВ | AE27: Установка опор ул.Володарского
E39: 0.38
E40: 10 (10.5)

Sheet октябрь
A2: Форма 8.1 - Журнал учёта данных первичной информации по всем прекращениям передачи электрической энергии, произошедших на объектах электросетевых организаций за | S2: =F12 -> 44474.417 | T2: месяц | U2: 2021 | V2: года
A3: МУ МПЖКХ Гусь-Железный
A4: наименование электросетевой организации
A6: Данные о факте прекращения передачи электрической энергии | J6: Данные о масштабе прекращения передачи электрической энергии в сетевой организации | W6: Перечень смежных сетевых организаций, затронутых прекращением передачи электрической энергии | X6: Данные о причинах прекращения передачи электрической энергии и их расследовании | AA6: Учет в показателях надежности, в т.ч. индикативных показателях надежности (0 - нет, 1 - да)
A7: Номер прекращения передачи электрической энергии / Номер итоговой строки | B7: Наименование структурной единицы сетевой организации | C7: Вид объекта: КЛ, ВЛ, КВЛ, ПС, ТП, РП | D7: Диспетчерское наименование объекта электросетевого хозяйства сетевой организации, в результате отключения которой произошло прекращение передачи электроэнергии потребителям услуг | E7: Высший класс напряжения отключенного оборудования сетевой организации, кВ | F7: Время и дата начала прекращения передачи электрической энергии (часы, минуты, ГГГГ.ММ.ДД) | G7: Время и дата восстановления режима потребления электрической энергии потребителей услуг (часы, минуты, ГГГГ.ММ.ДД) | H7: Вид прекращения передачи электроэнергии (П, А, В) | I7: Продолжительность прекращения передачи электрической энергии, час | J7: Перечень объектов электросетевого хозяйства, отключение которых привело к прекращению передачи электрической энергии потребителям услуг (ПС, ТП, РП, ВЛ, КЛ) | K7: Перечень потребителей 1-й и 2-й категорий надежности, в отношении которых произошло полное ограничение режима потребления электрической энергии | L7: Перечень потребителей 1-й и 2-й категорий надежности, в отношении которых произошло частичное ограничение режима потребления электрической энергии | M7: Количество точек поставки потребителей услуг сетевой организации, в отношении которых произошел перерыв электроснабжения, шт., в том числе: | V7: Суммарный объем фактической нагрузки (мощности) на присоединениях потребителей услуг, по которым произошло прекращение передачи электрической энергии на момент возникновения такого события, кВт
M8: ВСЕГО | N8: в разделении категорий надежности потребителей электрической энергии | Q8: в разделении уровней напряжения ЭПУ потребителя электрической энергии | U8: Смежные сетевые организации и производители электрической энергии | X8: Номер и дата акта расследования технологического нарушения, записи в оперативном журнале | Y8: Код организационной причины аварии | Z8: Код технической причины повреждения оборудования
N9: 1-я категория надежности | O9: 2-я категория надежности | P9: 3-я категория надежности | Q9: ВН (110 кВ и выше) | R9: СН1 (35 кВ) | S9: СН2 (6-20 кВ) | T9: НН (0,22-1 кВ) | AD9: 0.041666667
A10: 1 | B10: 2 | C10: 3 | D10: 4 | E10: 5 | F10: 6 | G10: 7 | H10: 8 | I10: 9 | J10: 10 | K10: 11 | L10: 12 | M10: 13 | N10: 14 | O10: 15 | P10: 16 | Q10: 17 | R10: 18 | S10: 19 | T10: 20 | U10: 21 | V10: 22 | W10: 23 | X10: 24 | Y10: 25 | Z10: 26 | AA10: 27
A11: 1 | B11: Участок №2 | C11: ВЛ | D11: ТП-2165,ф.1 ВЛ-0,4кВ Сосновка | E11: 0.38 | F11: 44470.417 | G11: 44470.5 | H11: П | I11: =(G11-F11)/$AD$9 -> 2 | J11: ВЛ 0,4кВ | K11: 0 | L11: 0 | M11: =P11 -> 38 | N11: 0 | O11: 0 | P11: 38 | Q11: 0 | R11: 0 | S11: 0 | T11: =P11 -> 38 | U11: 0 | V11: =0.22*T11 -> 8.36 | AA11: 1
A12: 2 | B12: Участок №2 | C12: ВЛ | D12: КТП-12, ВЛ-0,4кВ Елатьма | E12: 0.38 | F12: 44474.417 | G12: 44474.583 | H12: П | I12: =(G12-F12)/$AD$9 -> 4 | J12: ВЛ 0,4кВ | K12: 0 | L12: 0 | M12: =P12 -> 123 | N12: 0 | O12: 0 | P12: 123 | Q12: 0 | R12: 0 | S12: 0 | T12: =P12 -> 123 | U12: 0 | V12: =0.22*T12 -> 27.06 | AA12: 1
A13: 3 | B13: Участок №2 | C13: ВЛ | D13: ТП-2497 ВЛ-0,4кВ п.Ласинский | E13: 0.38 | F13: 44475.417 | G13: 44475.646 | H13: П | I13: =(G13-F13)/$AD$9 -> 5.5 | J13: ВЛ 0,4кВ | K13: 0 | L13: 0 | M13: =P13 -> 34 | N13: 0 | O13: 0 | P13: 34 | Q13: 0 | R13: 0 | S13: 0 | T13: =P13 -> 34 | U13: 0 | V13: =0.22*T13 -> 7.48 | AA13: 1
A14: 4 | B14: Участок №2 | C14: ВЛ | D14: ЗТП-3,ф.1 ВЛ-0,4кВ Елатьма | E14: 0.38 | F14: 44477.417 | G14: 44477.583 | H14: П | I14: =(G14-F14)/$AD$9 -> 4 | J14: ВЛ 0,4кВ | K14: 0 | L14: 0 | M14: =P14 -> 28 | N14: 0 | O14: 0 | P14: 28 | Q14: 0 | R14: 0 | S14: 0 | T14: =P14 -> 28 | U14: 0 | V14: =0.22*T14 -> 6.16 | AA14: 1
A15: 5 | B15: Участок №2 | C15: ВЛ | D15: ЗТП-3,ф.1 ВЛ-0,4кВ Елатьма | E15: 0.38 | F15: 44480.375 | G15: 44480.458 | H15: П | I15: =(G15-F15)/$AD$9 -> 2 | J15: ВЛ 0,4кВ | K15: 0 | L15: 0 | M15: =P15 -> 28 | N15: 0 | O15: 0 | P15: 28 | Q15: 0 | R15: 0 | S15: 0 | T15: =P15 -> 28 | U15: 0 | V15: =0.22*T15 -> 6.16 | AA15: 1
A16: 6 | B16: Участок №2 | C16: ВЛ | D16: ЗТП-1,ф.3 ВЛ-0,4кВ Елатьма | E16: 0.38 | F16: 44480.5 | G16: 44480.583 | H16: П | I16: =(G16-F16)/$AD$9 -> 2 | J16: ВЛ 0,4кВ | K16: 0 | L16: 0 | M16: =P16 -> 35 | N16: 0 | O16: 0 | P16: 35 | Q16: 0 | R16: 0 | S16: 0 | T16: =P16 -> 35 | U16: 0 | V16: =0.22*T16 -> 7.7 | AA16: 1
A17: 7 | B17: Участок №1 | C17: ВЛ | D17: ПС-Лашма ф3 ВЛ-10кВ | E17: 10 (10.5) | F17: 44484.625 | G17: 44484.708 | H17: П | I17: =(G17-F17)/$AD$9 -> 2 | J17: ВЛ- 10кВ | K17: 0 | L17: 0 | M17: =P17 -> 562 | N17: 0 | O17: 0 | P17: 562 | Q17: 0 | R17: 0 | S17: 0 | T17: =P17 -> 562 | U17: 0 | V17: =0.22*T17 -> 123.64 | AA17: 1
A18: 8 | B18: Участок №2 | C18: ВЛ | D18: ТП-5,ф.1 ВЛ-0,4кВ Елатьма | E18: 0.38 | F18: 44487.375 | G18: 44487.5 | H18: П | I18: =(G18-F18)/$AD$9 -> 3 | J18: ВЛ 0,4кВ | K18: 0 | L18: 0 | M18: =P18 -> 42 | N18: 0 | O18: 0 | P18: 42 | Q18: 0 | R18: 0 | S18: 0 | T18: =P18 -> 42 | U18: 0 | V18: =0.22*T18 -> 9.24 | AA18: 1
A19: 9 | B19: Участок №1 | C19: ТП | D19: п.Лашма ТП-1 | E19: 0.38 | F19: 44487.583 | G19: 44487.625 | H19: П | I19: =(G19-F19)/$AD$9 -> 1 | J19: ТП1 | K19: 0 | L19: 0 | M19: =P19 -> 51 | N19: 0 | O19: 0 | P19: 51 | Q19: 0 | R19: 0 | S19: 0 | T19: =P19 -> 51 | U19: 0 | V19: =0.22*T19 -> 11.22 | AA19: 1
A20: 10 | B20: Участок №1 | C20: ТП | D20: п.Лашма ТП-6 | E20: 0.38 | F20: 44487.646 | G20: 44487.688 | H20: П | I20: =(G20-F20)/$AD$9 -> 1 | J20: ТП6 | K20: 0 | L20: 0 | M20: =P20 -> 49 | N20: 0 | O20: 0 | P20: 49 | Q20: 0 | R20: 0 | S20: 0 | T20: =P20 -> 49 | U20: 0 | V20: =0.22*T20 -> 10.78 | AA20: 1
A21: 11 | B21: Участок №2 | C21: ВЛ | D21: ЗТП-1,ф.3 ВЛ-0,4кВ Елатьма | E21: 0.38 | F21: 44488.417 | G21: 44488.458 | H21: П | I21: =(G21-F21)/$AD$9 -> 1 | J21: ВЛ 0,4кВ | K21: 0 | L21: 0 | M21: =P21 -> 35 | N21: 0 | O21: 0 | P21: 35 | Q21: 0 | R21: 0 | S21: 0 | T21: =P21 -> 35 | U21: 0 | V21: =0.22*T21 -> 7.7 | AA21: 1
A22: 12 | B22: Участок №2 | C22: ВЛ | D22: п/с Сабурово 110/10 кВ ф.7 | E22: 10 (10.5) | F22: 44489.332 | G22: 44489.384 | H22: В | I22: =(G22-F22)/$AD$9 -> 1.25 | J22: ВЛ-10кВ | K22: 0 | L22: 0 | M22: =P22 -> 99 | N22: 0 | O22: 0 | P22: 99 | Q22: 0 | R22: 0 | S22: 0 | T22: =P22 -> 99 | U22: 0 | V22: =0.22*T22 -> 21.78 | X22: №38 21.10.2021 | Y22: 3.4.13.2 | Z22: 4.12 | AA22: 1
A23: 13 | B23: Участок №1 | C23: ВЛ | D23: ПС-Телебукино ТП-2478 КЛ-10кВ ф7 | E23: 10 (10.5) | F23: 44493.646 | G23: 44493.993 | H23: В | I23: =(G23-F23)/$AD$9 -> 8.3333333 | J23: ВЛ-10кВ | K23: 0 | L23: 0 | M23: =P23 -> 58 | N23: 0 | O23: 0 | P23: 58 | Q23: 0 | R23: 0 | S23: 0 | T23: =P23 -> 58 | U23: 0 | V23: =0.22*T23 -> 12.76 | X23: №39 24.10.2022 | Y23: 3.4.8 | Z23: 4.4 | AA23: 0

Sheet ноябрь
A7: №пп | B7: Участок | C7: Участок | D7: Диспетчерское наименование объекта электросетевого хозяйства сетевой организации, в результате отключения которой произошло прекращение передачи электроэнергии потребителям услуг | E7: Высший класс напряжения отключенного оборудования сетевой организации, кВ | F7: Время и дата начала прекращения передачи электрической энергии (часы, минуты, ГГГГ.ММ.ДД) | G7: Время и дата восстановления режима потребления электрической энергии потребителей услуг (часы, минуты, ГГГГ.ММ.ДД) | H7: Вид прекращения передачи электроэнергии (П-плановое, А-аварийное , В-внерегламентное (Аварийное)) | I7: Продолжительность прекращения передачи электрической энергии, час | J7: Перечень объектов электросетевого хозяйства, отключение которых привело к прекращению передачи электрической энергии потребителям услуг (ПС, ТП, РП, ВЛ, КЛ) | K7: Количество точек поставки потребителей услуг сетевой организации, в отношении которых произошел перерыв электроснабжения, шт.
AD9: 0.041666667
A10: 1 | B10: 2 | C10: 3 | D10: 4 | E10: 5 | F10: 6 | G10: 7 | H10: 8 | I10: 9 | J10: 10 | K10: 11
B11: Участок №1 | C11: ТП | D11: ПС-Шостье ф2 КТП-2445 | E11: 0.38 | F11: 44504.583 | G11: 44504.708 | H11: В | I11: =(G11-F11)/$AD$9 -> 3 | J11: МТП 2445 | K11: 0 | L11: 0 | M11: =P11 -> 49 | N11: 0 | O11: 0 | P11: 49 | Q11: 0 | R11: 0 | S11: 0 | T11: =P11 -> 49 | U11: 0 | V11: =0.22*T11 -> 10.78 | X11: №40 02.09.2021 | Y11: 3.4.9.1 | Z11: 4.13 | AA11: 0 | AD11: Отгорела фаза А от ТР-Р до гл./руб. | AJ11: Отгорела фаза А от ТР-Р до гл./руб.
B12: Участок №1 | D12: ПС-Лашма ф5 ВЛ-10кВ | E12: 10 (10.5) | F12: 44512.583 | G12: 44512.625 | H12: П | I12: =(G12-F12)/$AD$9 -> 1 | J12: ВЛ- 10кВ | AD12: Работа на ВЛ-0,4 кВ персоналом ООО "Т2 Мобайл" | AJ12: Работа на ВЛ-0,4 кВ персоналом ООО "Т2 Мобайл"
B13: Участок №2 | D13: ЗТП-2,ф.1 ВЛ-0,4кВ Елатьма | E13: 0.38 | F13: 44512.604 | G13: 44512.646 | H13: П | I13: =(G13-F13)/$AD$9 -> 1 | J13: ВЛ 0,4кВ | AD13: Ремонт ВЛ-0,4кВ ул.Полевая | AJ13: Ремонт ВЛ-0,4кВ ул.Полевая
B14: Участок №2 | D14: ЦРП-10кВ ф.3 Елатьма | E14: 10 (10.5) | F14: 44519.604 | G14: 44519.632 | H14: П | I14: =(G14-F14)/$AD$9 -> 0.66666667 | J14: ВЛ- 10кВ | AD14: Ремонт ВЛ-10кВ ул.Володарского | AJ14: Ремонт ВЛ-10кВ ул.Володарского
B15: Участок №1 | D15: ПС Лашма ЗТП 8 ТР-2 | E15: 0.38 | F15: 44524.604 | G15: 44524.646 | H15: П | I15: =(G15-F15)/$AD$9 -> 1 | J15: ВЛ 10кВ | AD15: Перевод анцапфы с 3 в 1 положение на тр-ре | AJ15: Перевод анцапфы с 3 в 1 положение на тр-ре
B16: Участок №2 | D16: ЗТП-9, ф.1 ВЛ-0,4кВ Елатьма | E16: 0.38 | F16: 44526.396 | G16: 44526.521 | H16: П | I16: =(G16-F16)/$AD$9 -> 3 | J16: ВЛ 0,4кВ | AD16: Ремонт ВЛ-0,4кВ ул.Интернациональная | AJ16: Ремонт ВЛ-0,4кВ ул.Интернациональная
E38: 0.38
E39: 10 (10.5)

Sheet декабрь
A7: №пп | B7: Участок | C7: Участок | D7: Диспетчерское наименование объекта электросетевого хозяйства сетевой организации, в результате отключения которой произошло прекращение передачи электроэнергии потребителям услуг | E7: Высший класс напряжения отключенного оборудования сетевой организации, кВ | F7: Время и дата начала прекращения передачи электрической энергии (часы, минуты, ГГГГ.ММ.ДД) | G7: Время и дата восстановления режима потребления электрической энергии потребителей услуг (часы, минуты, ГГГГ.ММ.ДД) | H7: Вид прекращения передачи электроэнергии (П-плановое, А-аварийное , В-внерегламентное (Аварийное)) | I7: Продолжительность прекращения передачи электрической энергии, час | J7: Перечень объектов электросетевого хозяйства, отключение которых привело к прекращению передачи электрической энергии потребителям услуг (ПС, ТП, РП, ВЛ, КЛ) | K7: Количество точек поставки потребителей услуг сетевой организации, в отношении которых произошел перерыв электроснабжения, шт.
AD9: 0.041666667
A10: 1 | B10: 2 | C10: 3 | D10: 4 | E10: 5 | F10: 6 | G10: 7 | H10: 8 | I10: 9 | J10: 10 | K10: 11
B11: Участок №1 | D11: ПС Лашма ф5 ВЛ-10кВ | E11: 10(10.5) | F11: 44531 | G11: 44531.062 | H11: В | I11: =(G11-F11)/$AD$9 -> 1.5 | J11: ВЛ 10кВ | AE11: Упало дерево на ВЛ-10кВ(ЖКХ).
B12: Участок №1 | D12: ПС Шостье ф2 ВЛ-10кВ | E12: 10(10.5) | F12: 44531.021 | G12: 44531.5 | H12: В | I12: =(G12-F12)/$AD$9 -> 11.5 | J12: ВЛ 10кВ | AE12: Работы РЭС
B13: Участок №1 | D13: ПС Телебукино ф7 ЗТП-2478 ф6 | E13: 10(10.5) | F13: 44532.479 | G13: 44532.5 | H13: В | I13: =(G13-F13)/$AD$9 -> 0.5 | J13: ВЛ 0,4кВ | AE13: Отгорела фаза С Крутоярсервис
B14: Участок №1 | D14: ПС Телебукино ф14 ВЛ-10кВ | E14: 10(10.5) | F14: 44534.042 | G14: 44534.271 | H14: В | I14: =(G14-F14)/$AD$9 -> 5.5 | J14: ВЛ 10кВ | AE14: Пробило проходные изоляторы СУ-2
B15: Участок №2 | D15: ЗТП-9,ф.2 ВЛ-0,4кВ Елатьма | E15: 0.38 | F15: 44531.375 | G15: 44531.417 | H15: П | I15: =(G15-F15)/[1]Отчет!$AD$9 -> 1 | J15: ВЛ 0,4кВ
B16: Участок №2 | D16: ТП-2494 ВЛ-0,4кВ Маяк | E16: 0.38 | F16: 44532.365 | G16: 44532.444 | H16: П | I16: =(G16-F16)/[1]Отчет!$AD$9 -> 1.9166667 | J16: ВЛ 0,4кВ
B17: Участок №2 | D17: ТП-2165,ф.2 ВЛ-0,4кВ Сосновка | E17: 0.38 | F17: 44533.385 | G17: 44533.5 | H17: П | I17: =(G17-F17)/[1]Отчет!$AD$9 -> 2.75 | J17: ВЛ 0,4кВ
B18: Участок №2 | D18: ЗТП-9,ф.1 ВЛ-0,4кВ Елатьма | E18: 0.38 | F18: 44538.396 | G18: 44538.438 | H18: П | I18: =(G18-F18)/[1]Отчет!$AD$9 -> 1 | J18: ВЛ 0,4кВ
E36: 0.38
E37: 10 (10.5)

Sheet план май
A1: Информация о вводе в ремонт и выводе из ремонта электросетевых объектов
A2: за | B2: =#REF! -> #REF! | C2: года
A4: Наименование объекта | B4: Дата ввода в ремонт | D4: Дата вывода из ремонта | F4: Примеча-ния
B5: План | C5: Факт | D5: План | E5: Факт
A6: =май!D12 -> КТП-11, ф.4 ВЛ-0,4кВ Елатьма | B6: =IF(май!H12="П",май!F12,0) -> 44323.365 | C6: =IF(май!H12="П",май!G12,0) -> 44323.385 | D6: =B6 -> 44323.365 | E6: =C6 -> 44323.385 | H6: =май!H12 -> П
A7: =май!D13 -> ЦРП-10кВ ф.3 Елатьма | B7: =IF(май!H13="П",май!F13,0) -> 44331.611 | C7: =IF(май!H13="П",май!G13,0) -> 44331.655 | D7: =B7 -> 44331.611 | E7: =C7 -> 44331.655 | H7: =май!H13 -> П
