Workbook

Sheet Баланс эл.энергии 2021
B3: Баланс электрической энергии по сетям ВН, СН1, СН2 и НН | G3: Таблица № 1.4.
G4: тыс.кВтч.
A5: п.п. | B5: Показатели | C5: 2021план | H5: 2021факт
C6: Всего | D6: ВН | E6: СН1 | F6: СН2 | G6: НН | H6: Всего | I6: ВН | J6: СН1 | K6: СН2 | L6: НН
A7: 1. | B7: Поступление эл.энергии в сеть , ВСЕГО | D7: =D19+D17+E9+F9+G9 -> 0 | E7: =E19+E17+F10+G10 -> 0 | F7: =F19+F17+G11 -> 29166 | G7: =G19+G17 -> 18216.314 | I7: =I19+I17+J9+K9+L9 -> 0 | J7: =J19+J17+K10+L10 -> 0 | K7: =K19+K17+L11 -> 30003.012 | L7: =L19+L17 -> 20165.111
A8: 1.1. | B8: из собственной смежной сети, всего, в т.ч. из сети | D8: х | E8: =E7-E12-E13 -> 0 | F8: =F7-F12-F13 -> 0 | G8: =G7-G12-G13 -> 18216.314 | I8: х | J8: =J7-J12-J13 -> 0 | K8: =K7-K12-K13 -> 0 | L8: =L7-L12-L13 -> 20165.111
B9: ВН | D9: х | E9: =E8 -> 0 | I9: х | J9: =J8 -> 0
B10: СН1 | D10: х | E10: х | F10: =F8-F9 -> 0 | I10: х | J10: х | K10: =K8-K9 -> 0
B11: СН2 | D11: х | E11: х | F11: х | G11: =G8-G9-G10 -> 18216.314 | I11: х | J11: х | K11: х | L11: =L8-L9-L10 -> 20165.111
A12: 1.2. | B12: от электростанций | C12: =D12+E12+F12+G12 -> 0 | H12: =I12+J12+K12+L12 -> 0
A13: 1.3. | B13: от сетевых организаций (указать): | C13: =D13+E13+F13+G13 -> 29166 | D13: =D14+D15+D16 -> 0 | E13: =E14+E15+E16 -> 0 | F13: =F14+F15+F16 -> 29166 | G13: =G14+G15+G16 -> 0 | H13: =I13+J13+K13+L13 -> 30003.012 | I13: =I14+I15+I16 -> 0 | J13: =J14+J15+J16 -> 0 | K13: =K14+K15+K16 -> 30003.012 | L13: =L14+L15+L16 -> 0
A14: 1.3.1. | B14: ОАО "ФСК ЕЭС" | C14: =D14+E14+F14+G14 -> 0 | H14: =I14+J14+K14+L14 -> 0
A15: 1.3.2. | B15: от филиала "Рязаньэнерго" ОАО "МРСК Центра и Приволжья" | C15: =D15+E15+F15+G15 -> 23721 | F15: 23721 | H15: =I15+J15+K15+L15 -> 24818.511 | K15: =SUM('[1]ИА 2021'!$B$122:$D$122)/1000 -> 24818.511
A16: 1.3.3. | B16: от других сетевых организаций | C16: =D16+E16+F16+G16 -> 5445 | F16: 5445 | H16: =I16+J16+K16+L16 -> 5184.5011 | K16: =SUM('[1]ИА 2021'!$C$123:$D$127)/1000 -> 5184.5011
A17: 2. | B17: Потери электроэнергии в сети | C17: =D17+E17+F17+G17 -> 5731 | F17: 2193.6864 | G17: 3537.3136 | H17: =I17+J17+K17+L17 -> 7863.669 | K17: 2250.2259 | L17: 5613.4431
B18: то же в % (п.2/п.1) | C18: =IF(C7=0,"",C17/C7) | D18: =IF(D7=0,0,D17/D7) -> 0 | E18: =IF(E7=0,0,E17/E7) -> 0 | F18: =IF(F7=0,0,F17/F7) -> 0.075213826 | G18: =IF(G7=0,0,G17/G7) -> 0.19418383 | H18: =IF(H7=0,"",H17/H7) | I18: =IF(I7=0,0,I17/I7) -> 0 | J18: =IF(J7=0,0,J17/J7) -> 0 | K18: =IF(K7=0,0,K17/K7) -> 0.075 | L18: =IF(L7=0,0,L17/L7) -> 0.27837402
A19: 3. | B19: Полезный отпуск из сети | C19: =D19+E19+F19+G19 -> 23435 | D19: =D20+D24+D28+D29 -> 0 | E19: =E20+E24+E28+E29 -> 0 | F19: =F20+F24+F28+F29 -> 8756 | G19: =G20+G24+G28+G29 -> 14679 | H19: =I19+J19+K19+L19 -> 22139.343 | I19: =I20+I24+I28+I29 -> 0 | J19: =J20+J24+J28+J29 -> 0 | K19: =K20+K24+K28+K29 -> 7587.675 | L19: =L20+L24+L28+L29 -> 14551.668
A20: 3.1. | B20: в т.ч. потребителям сбытовых компаний розничного рынка (указать по сбытовым компаниям): | C20: =D20+E20+F20+G20 -> 23435 | D20: =D21+D22+D23 -> 0 | E20: =E21+E22+E23 -> 0 | F20: =F21+F22+F23 -> 8756 | G20: =G21+G22+G23 -> 14679 | H20: =I20+J20+K20+L20 -> 22139.343 | I20: =I21+I22+I23 -> 0 | J20: =J21+J22+J23 -> 0 | K20: =K21+K22+K23 -> 7587.675 | L20: =L21+L22+L23 -> 14551.668
A21: 3.1.1. | B21: ОАО "РЭСК" | C21: =D21+E21+F21+G21 -> 23435 | F21: ='[2]Информация о согл. объемах'!E73*1000 -> 8756 | G21: ='[2]Информация о согл. объемах'!E76*1000 -> 14679 | H21: =I21+J21+K21+L21 -> 22139.343 | K21: =[1]СВ2021!$G$134*1000 -> 7587.675 | L21: =[1]СВ2021!$H$134*1000 -> 14551.668
A22: 3.1.2. | B22: ООО РГМЭК | C22: =D22+E22+F22+G22 -> 0 | H22: =I22+J22+K22+L22 -> 0
A23: 3.1.3. | B23: ОАО "Оборонэнергосбыт" | C23: =D23+E23+F23+G23 -> 0 | H23: =I23+J23+K23+L23 -> 0
A24: 3.2. | B24: потребителям оптового рынка (указать): | C24: =D24+E24+F24+G24 -> 0 | D24: =D25+D26+D27 -> 0 | E24: =E25+E26+E27 -> 0 | F24: =F25+F26+F27 -> 0 | G24: =G25+G26+G27 -> 0 | H24: =I24+J24+K24+L24 -> 0 | I24: =I25+I26+I27 -> 0 | J24: =J25+J26+J27 -> 0 | K24: =K25+K26+K27 -> 0 | L24: =L25+L26+L27 -> 0
A25: 3.2.1. | C25: =D25+E25+F25+G25 -> 0 | H25: =I25+J25+K25+L25 -> 0
A26: 3.2.2. | C26: =D26+E26+F26+G26 -> 0 | H26: =I26+J26+K26+L26 -> 0
A27: 3.2.3. | C27: =D27+E27+F27+G27 -> 0 | H27: =I27+J27+K27+L27 -> 0
A28: 3.3. | B28: расход электроэнергии на собственные производственные и хозяйственные нужды | C28: =D28+E28+F28+G28 -> 0 | F28: 0 | H28: =I28+J28+K28+L28 -> 0 | K28: 0
A29: 3.4. | B29: сальдо переток в другие сетевые организации (транзит, указать организации): | C29: =D29+E29+F29+G29 -> 0 | D29: =D30+D31+D32 -> 0 | E29: =E30+E31+E32 -> 0 | F29: =F30+F31+F32 -> 0 | G29: =G30+G31+G32 -> 0 | H29: =I29+J29+K29+L29 -> 0 | I29: =I30+I31+I32 -> 0 | J29: =J30+J31+J32 -> 0 | K29: =K30+K31+K32 -> 0 | L29: =L30+L31+L32 -> 0
A30: 3.4.1. | C30: =D30+E30+F30+G30 -> 0 | H30: =I30+J30+K30+L30 -> 0
A31: 3.4.2. | C31: =D31+E31+F31+G31 -> 0 | H31: =I31+J31+K31+L31 -> 0
A32: 3.4.3. | C32: =D32+E32+F32+G32 -> 0 | H32: =I32+J32+K32+L32 -> 0
A34: 4.1. | B34: Расчетное поступление в сеть для сторонних потребителей | C34: =SUM(D34:G34) -> 27684.448 | D34: =D35+D36 -> 0 | E34: =E35+E36 -> 0 | F34: =F35+F36 -> 9468.1346 | G34: =G35+G36 -> 18216.314 | H34: =SUM(I34:L34) -> 28368.003 | I34: =I35+I36 -> 0 | J34: =J35+J36 -> 0 | K34: =K35+K36 -> 8202.8919 | L34: =L35+L36 -> 20165.111
A35: 4.2. | B35: Потери, отнесенные на сторонних потребителей | C35: =SUM(D35:G35) -> 4249.4482 | D35: =IF((D7-D17)=0,0,D17/(D7-D17)*D36) -> 0 | E35: =IF((E7-E17)=0,0,E17/(E7-E17)*E36) -> 0 | F35: =IF((F7-F17)=0,0,F17/(F7-F17)*F36) -> 712.13463 | G35: =IF((G7-G17)=0,0,G17/(G7-G17)*G36) -> 3537.3136 | H35: =SUM(I35:L35) -> 6228.66 | I35: =IF((I7-I17)=0,0,I17/(I7-I17)*I36) -> 0 | J35: =IF((J7-J17)=0,0,J17/(J7-J17)*J36) -> 0 | K35: =IF((K7-K17)=0,0,K17/(K7-K17)*K36) -> 615.21689 | L35: =IF((L7-L17)=0,0,L17/(L7-L17)*L36) -> 5613.4431
A36: 4.3. | B36: Суммарный полезный отпуск на сторону | C36: =SUM(D36:G36) -> 23435 | D36: =D29+D24+D20 -> 0 | E36: =E29+E24+E20 -> 0 | F36: =F29+F24+F20 -> 8756 | G36: =G29+G24+G20 -> 14679 | H36: =SUM(I36:L36) -> 22139.343 | I36: =I29+I24+I20 -> 0 | J36: =J29+J24+J20 -> 0 | K36: =K29+K24+K20 -> 7587.675 | L36: =L29+L24+L20 -> 14551.668
B39: Расшифровка п. 1.3.3.(Поступление от других сетевых организаций)
A40: № | B40: Наименование других сетевых организаций | C40: Всего | D40: ВН | E40: СН1 | F40: СН2 | G40: НН | H40: Всего | I40: ВН | J40: СН1 | K40: СН2 | L40: НН
B41: Центральный филиал ООО "Газпром энерго" | C41: =SUM(D41:G41) -> 2157 | E41: ='[2]Информация о согл. объемах'!G31*1000 -> 2157 | H41: =SUM(I41:L41) -> 2441.2874 | J41: 2441.2874
B42: АО "РОЭК" Центральный исполнительный аппарат | C42: =SUM(D42:G42) -> 2834 | F42: ='[2]Информация о согл. объемах'!I31*1000 -> 2834 | H42: =SUM(I42:L42) -> 2240.5 | K42: 2240.5
B43: Московская дирекция по энергообеспечению Трансэнерго - филиал ОАО "РЖД" | C43: =SUM(D43:G43) -> 0 | H43: =SUM(I43:L43) -> 208.89 | K43: 208.89
B44: Прочие | C44: =SUM(D44:G44) -> 454 | F44: 454 | H44: =SUM(I44:L44) -> 293.82372 | K44: 293.82372 | N44: =F43+F44 -> 454
B45: Итого | C45: =SUM(C41:C44) -> 5445 | D45: =SUM(D41:D44) -> 0 | E45: =SUM(E41:E44) -> 2157 | F45: =SUM(F41:F44) -> 3288 | G45: =SUM(G41:G44) -> 0 | H45: =SUM(H41:H44) -> 5184.5011 | I45: =SUM(I41:I44) -> 0 | J45: =SUM(J41:J44) -> 2441.2874 | ... L45: =SUM(L41:L44) -> 0
G48: 5 | L48: 5
B49: Расшифровка п.3. 4. (Полезный отпуск - переток в другие сетевые организации)
A50: № | B50: Наименование других сетевых организаций | C50: Всего | D50: ВН | E50: СН1 | F50: СН2 | G50: НН | H50: Всего | I50: ВН | J50: СН1 | K50: СН2 | L50: НН
C51: =SUM(D51:G51) -> 0 | H51: =SUM(I51:L51) -> 0
C52: =SUM(D52:G52) -> 0 | H52: =SUM(I52:L52) -> 0
C53: =SUM(D53:G53) -> 0 | H53: =SUM(I53:L53) -> 0
B55: Итого | C55: =SUM(C51:C53) -> 0 | D55: =SUM(D51:D53) -> 0 | E55: =SUM(E51:E53) -> 0 | F55: =SUM(F51:F53) -> 0 | G55: =SUM(G51:G53) -> 0 | H55: =SUM(H51:H53) -> 0 | I55: =SUM(I51:I53) -> 0 | J55: =SUM(J51:J53) -> 0 | ... L55: =SUM(L51:L53) -> 0
B58: Расшифровка п. 3.1 (Полезный отпуск потребителям, присоединенным к сети)
A59: № | B59: Наименование сбытовых организаций | C59: Всего | D59: ВН | E59: СН1 | F59: СН2 | G59: НН | H59: Всего | I59: ВН | J59: СН1 | K59: СН2 | L59: НН
A60: 1. | B60: ОАО "РЭСК" всего, в том числе: | C60: =D60+E60+F60+G60 -> 23435 | D60: =D61+D62 -> 0 | E60: =E61+E62 -> 0 | F60: =F61+F62 -> 8745.9484 | G60: =G61+G62 -> 14689.052 | H60: =I60+J60+K60+L60 -> 22139.343 | I60: =I61+I62 -> 0 | J60: =J61+J62 -> 0 | K60: =K61+K62 -> 7587.675 | L60: =L61+L62 -> 14551.668
A61: 1.1. | B61: прочие потребители | C61: =D61+E61+F61+G61 -> 11713.739 | F61: 8745.9484 | G61: 2967.7905 | H61: =I61+J61+K61+L61 -> 10281.445 | K61: 7587.675 | L61: 2693.77
A62: 1.2. | B62: население | C62: =D62+E62+F62+G62 -> 11721.261 | G62: 11721.261 | H62: =I62+J62+K62+L62 -> 11857.898 | L62: 11857.898
A63: 2. | B63: ООО "РГМЭК" всего, в том числе: | C63: =D63+E63+F63+G63 -> 0 | D63: =D64+D65 -> 0 | E63: =E64+E65 -> 0 | F63: =F64+F65 -> 0 | G63: =G64+G65 -> 0 | H63: =I63+J63+K63+L63 -> 0 | I63: =I64+I65 -> 0 | J63: =J64+J65 -> 0 | K63: =K64+K65 -> 0 | L63: =L64+L65 -> 0
A64: 2.1. | B64: прочие потребители | C64: =D64+E64+F64+G64 -> 0 | H64: =I64+J64+K64+L64 -> 0
A65: 2.2. | B65: население | C65: =D65+E65+F65+G65 -> 0 | H65: =I65+J65+K65+L65 -> 0
A66: 3. | B66: ОАО "Оборонэнергосбыт" | C66: =D66+E66+F66+G66 -> 0 | D66: =D67+D68 -> 0 | E66: =E67+E68 -> 0 | F66: =F67+F68 -> 0 | G66: =G67+G68 -> 0 | H66: =I66+J66+K66+L66 -> 0 | I66: =I67+I68 -> 0 | J66: =J67+J68 -> 0 | K66: =K67+K68 -> 0 | L66: =L67+L68 -> 0
A67: 3.1. | B67: прочие потребители | C67: =D67+E67+F67+G67 -> 0 | H67: =I67+J67+K67+L67 -> 0
A68: 3.2. | B68: население | C68: =D68+E68+F68+G68 -> 0 | H68: =I68+J68+K68+L68 -> 0
A69: 4. | B69: ПРОЧИЕ | C69: =D69+E69+F69+G69 -> 0 | D69: =D70+D71 -> 0 | E69: =E70+E71 -> 0 | F69: =F70+F71 -> 0 | G69: =G70+G71 -> 0 | H69: =I69+J69+K69+L69 -> 0 | I69: =I70+I71 -> 0 | J69: =J70+J71 -> 0 | K69: =K70+K71 -> 0 | L69: =L70+L71 -> 0
A70: 4.1. | B70: прочие потребители | C70: =D70+E70+F70+G70 -> 0 | H70: =I70+J70+K70+L70 -> 0
A71: 4.2. | B71: население | C71: =D71+E71+F71+G71 -> 0 | H71: =I71+J71+K71+L71 -> 0
B73: Итого всего, в том числе: | C73: =D73+E73+F73+G73 -> 23435 | D73: =D74+D75 -> 0 | E73: =E74+E75 -> 0 | F73: =F74+F75 -> 8745.9484 | G73: =G74+G75 -> 14689.052 | H73: =I73+J73+K73+L73 -> 22139.343 | I73: =I74+I75 -> 0 | J73: =J74+J75 -> 0 | K73: =K74+K75 -> 7587.675 | L73: =L74+L75 -> 14551.668
B74: прочие потребители | C74: =D74+E74+F74+G74 -> 11713.739 | D74: =D61+D64+D67+D70 -> 0 | E74: =E61+E64+E67+E70 -> 0 | F74: =F61+F64+F67+F70 -> 8745.9484 | G74: =G61+G64+G67+G70 -> 2967.7905 | H74: =I74+J74+K74+L74 -> 10281.445 | I74: =I61+I64+I67+I70 -> 0 | J74: =J61+J64+J67+J70 -> 0 | K74: =K61+K64+K67+K70 -> 7587.675 | L74: =L61+L64+L67+L70 -> 2693.77
B75: население | C75: =D75+E75+F75+G75 -> 11721.261 | D75: =D62+D65+D68+D71 -> 0 | E75: =E62+E65+E68+E71 -> 0 | F75: =F62+F65+F68+F71 -> 0 | G75: =G62+G65+G68+G71 -> 11721.261 | H75: =I75+J75+K75+L75 -> 11857.898 | I75: =I62+I65+I68+I71 -> 0 | J75: =J62+J65+J68+J71 -> 0 | K75: =K62+K65+K68+K71 -> 0 | L75: =L62+L65+L68+L71 -> 11857.898

Sheet Баланс мощности 2021
B3: Баланс электрической мощности по ВН, СН1, СН2 и НН | G3: Таблица № 1.5. | L3: Таблица № 1.5.
G4: тыс.кВт | L4: тыс.кВт
A5: п.п. | B5: Показатели | C5: 2021 план | H5: 2021 план
C6: Всего | D6: ВН | E6: СН1 | F6: СН2 | G6: НН | H6: Всего | I6: ВН | J6: СН1 | K6: СН2 | L6: НН
A7: 1. | B7: Поступление мощности в сеть , ВСЕГО | D7: 0 | E7: 0 | F7: 5.3029091 | G7: 3.312057 | I7: =I19+I17+J9+K9+L9 -> 0 | J7: =J19+J17+K10+L10 -> 0 | K7: =K19+K17+L11 -> 5.4550931 | L7: =L19+L17 -> 3.6663838
A8: 1.1. | B8: из собственной смежной сети, всего, в т.ч. из сети | D8: х | E8: 0 | F8: 0 | G8: 3.312057 | I8: х | J8: =J7-J12-J13 -> 0 | K8: =K7-K12-K13 -> 0 | L8: =L7-L12-L13 -> 3.6663838
B9: ВН | D9: х | E9: 0 | I9: х | J9: =J8 -> 0
B10: СН1 | D10: х | E10: х | F10: 0 | I10: х | J10: х | K10: =K8-K9 -> 0
B11: СН2 | D11: х | E11: х | F11: х | G11: 3.312057 | I11: х | J11: х | K11: х | L11: =L8-L9-L10 -> 3.6663838
A12: 1.2. | B12: от электростанций | C12: 0 | H12: =I12+J12+K12+L12 -> 0
A13: 1.3. | B13: от сетевых организаций (указать): | C13: 5.3029091 | D13: 0 | E13: 0 | F13: 5.3029091 | G13: 0 | H13: =I13+J13+K13+L13 -> 5.4550931 | I13: =I14+I15+I16 -> 0 | J13: =J14+J15+J16 -> 0 | K13: =K14+K15+K16 -> 5.4550931 | L13: =L14+L15+L16 -> 0
A14: 1.3.1. | B14: ОАО "ФСК ЕЭС" | C14: 0 | H14: =I14+J14+K14+L14 -> 0
A15: 1.3.2. | B15: от филиала "Рязаньэнерго" ОАО "МРСК Центра и Приволжья" | C15: 4.3129091 | F15: 4.3129091 | H15: =I15+J15+K15+L15 -> 4.5124565 | K15: ='Баланс эл.энергии 2021'!K15/5500 -> 4.5124565
A16: 1.3.3. | B16: от других сетевых организаций | C16: 0.99 | F16: 0.99 | H16: =I16+J16+K16+L16 -> 0.94263657 | K16: ='Баланс эл.энергии 2021'!K16/5500 -> 0.94263657
A17: 2. | B17: Потери в сети | C17: 1.042 | F17: 0.39885208 | G17: 0.64314792 | H17: =I17+J17+K17+L17 -> 1.429758 | K17: ='Баланс эл.энергии 2021'!K17/5500 -> 0.40913198 | L17: ='Баланс эл.энергии 2021'!L17/5500 -> 1.020626
B18: то же в % (п.2/п.1) | D18: 0 | E18: 0 | F18: 0.075213826 | G18: 0.19418383 | H18: =IF(H7=0,"",H17/H7) | I18: =IF(I7=0,0,I17/I7) -> 0 | J18: =IF(J7=0,0,J17/J7) -> 0 | K18: =IF(K7=0,0,K17/K7) -> 0.075 | L18: =IF(L7=0,0,L17/L7) -> 0.27837402
A19: 3. | B19: Полезный отпуск мощности из сети | C19: 4.2609091 | D19: 0 | E19: 0 | F19: 1.592 | G19: 2.6689091 | H19: =I19+J19+K19+L19 -> 4.0253351 | I19: =I20+I24+I28+I29 -> 0 | J19: =J20+J24+J28+J29 -> 0 | K19: =K20+K24+K28+K29 -> 1.3795773 | L19: =L20+L24+L28+L29 -> 2.6457578
A20: 3.1. | B20: в т.ч. заявленная (расчетная) мощность потребителей сбытовых компаний розничного рынка (указать по сбытовым компаниям): | C20: 4.2609091 | D20: 0 | E20: 0 | F20: 1.592 | G20: 2.6689091 | H20: =I20+J20+K20+L20 -> 4.0253351 | I20: =I21+I22+I23 -> 0 | J20: =J21+J22+J23 -> 0 | K20: =K21+K22+K23 -> 1.3795773 | L20: =L21+L22+L23 -> 2.6457578
A21: 3.1.1. | B21: ОАО "РЭСК" | C21: 4.2609091 | F21: 1.592 | G21: 2.6689091 | H21: =I21+J21+K21+L21 -> 4.0253351 | K21: ='Баланс эл.энергии 2021'!K21/5500 -> 1.3795773 | L21: ='Баланс эл.энергии 2021'!L21/5500 -> 2.6457578
A22: 3.1.2. | B22: ООО РГМЭК | C22: 0 | H22: =I22+J22+K22+L22 -> 0
A23: 3.1.3. | C23: 0 | H23: =I23+J23+K23+L23 -> 0
A24: 3.2. | B24: заявленная (расчетная) мощность потребителей оптового рынка (указать): | C24: 0 | D24: 0 | E24: 0 | F24: 0 | G24: 0 | H24: =I24+J24+K24+L24 -> 0 | I24: =I25+I26+I27 -> 0 | J24: =J25+J26+J27 -> 0 | K24: =K25+K26+K27 -> 0 | L24: =L25+L26+L27 -> 0
A25: 3.2.1. | C25: 0 | H25: =I25+J25+K25+L25 -> 0
A26: 3.2.2. | C26: 0 | H26: =I26+J26+K26+L26 -> 0
A27: 3.2.3. | C27: 0 | H27: =I27+J27+K27+L27 -> 0
A28: 3.3. | B28: мощность на собственные производственные и хозяйственные нужды | C28: 0 | H28: =I28+J28+K28+L28 -> 0
A29: 3.4. | B29: в другие сетевые организации (транзит, указать организации): | C29: 0 | D29: 0 | E29: 0 | F29: 0 | G29: 0 | H29: =I29+J29+K29+L29 -> 0 | I29: =I30+I31+I32 -> 0 | J29: =J30+J31+J32 -> 0 | K29: =K30+K31+K32 -> 0 | L29: =L30+L31+L32 -> 0
A30: 3.4.1. | C30: 0 | H30: =I30+J30+K30+L30 -> 0
A31: 3.4.2. | C31: 0 | H31: =I31+J31+K31+L31 -> 0
A32: 3.4.3. | C32: 0 | H32: =I32+J32+K32+L32 -> 0
A34: 4.1. | B34: Расчетное поступление мощности для сторонних потребителей | C34: 5.033536 | D34: 0 | E34: 0 | F34: 1.721479 | G34: 3.312057 | H34: =SUM(I34:L34) -> 5.1578187 | I34: =I35+I36 -> 0 | J34: =J35+J36 -> 0 | K34: =K35+K36 -> 1.4914349 | L34: =L35+L36 -> 3.6663838
A35: 4.2. | B35: Потери, отнесенные на сторонних потребителей | C35: 0.77262694 | D35: 0 | E35: 0 | F35: 0.12947902 | G35: 0.64314792 | H35: =SUM(I35:L35) -> 1.1324836 | I35: =IF((I7-I17)=0,0,I17/(I7-I17)*I36) -> 0 | J35: =IF((J7-J17)=0,0,J17/(J7-J17)*J36) -> 0 | K35: =IF((K7-K17)=0,0,K17/(K7-K17)*K36) -> 0.11185762 | L35: =IF((L7-L17)=0,0,L17/(L7-L17)*L36) -> 1.020626
A36: 4.3. | B36: Суммарная мощность на сторону | C36: 4.2609091 | D36: 0 | E36: 0 | F36: 1.592 | G36: 2.6689091 | H36: =SUM(I36:L36) -> 4.0253351 | I36: =I29+I24+I20 -> 0 | J36: =J29+J24+J20 -> 0 | K36: =K29+K24+K20 -> 1.3795773 | L36: =L29+L24+L20 -> 2.6457578
B39: Расшифровка п. 1.3.3 (Поступление от других сетевых организаций)
A40: № | B40: Наименование других сетевых организаций | C40: Всего | D40: ВН | E40: СН1 | F40: СН2 | G40: НН | H40: Всего | I40: ВН | J40: СН1 | K40: СН2 | L40: НН
B41: ='Баланс эл.энергии 2021'!B41 -> Центральный филиал ООО "Газпром энерго" | C41: =D41+E41+F41+G41 -> 0.39218182 | E41: 0.39218182 | H41: =I41+J41+K41+L41 -> 0.44387044 | J41: ='Баланс эл.энергии 2021'!J41/5500 -> 0.44387044
B42: ='Баланс эл.энергии 2021'!B42 -> АО "РОЭК" Центральный исполнительный аппарат | C42: =D42+E42+F42+G42 -> 0.51527273 | F42: 0.51527273 | H42: =I42+J42+K42+L42 -> 0.40736364 | K42: ='Баланс эл.энергии 2021'!K42/5500 -> 0.40736364
B43: ='Баланс эл.энергии 2021'!B43 -> Московская дирекция по энергообеспечению Трансэнерго - филиал ОАО "РЖД" | C43: =D43+E43+F43+G43 -> 0.046545455 | F43: 0.046545455 | H43: =I43+J43+K43+L43 -> 0.03798 | K43: ='Баланс эл.энергии 2021'!K43/5500 -> 0.03798
B44: ='Баланс эл.энергии 2021'!B44 -> Прочие | C44: =D44+E44+F44+G44 -> 0 | H44: =I44+J44+K44+L44 -> 0.053422495 | K44: ='Баланс эл.энергии 2021'!K44/5500 -> 0.053422495
B45: ='Баланс эл.энергии 2021'!B45 -> Итого | C45: =D45+E45+F45+G45 -> 0.954 | D45: =SUM(D41:D44) -> 0 | E45: =SUM(E41:E44) -> 0.39218182 | F45: =SUM(F41:F44) -> 0.56181818 | G45: =SUM(G41:G44) -> 0 | H45: =I45+J45+K45+L45 -> 0.94263657 | I45: =SUM(I41:I44) -> 0 | J45: =SUM(J41:J44) -> 0.44387044 | K45: =SUM(K41:K44) -> 0.49876613 | L45: =SUM(L41:L44) -> 0
B49: Расшифровка п. 3.4. (Полезный отпуск - переток в другие сетевые организации)
A50: № | B50: Наименование других сетевых организаций | C50: Всего | D50: ВН | E50: СН1 | F50: СН2 | G50: НН | H50: Всего | I50: ВН | J50: СН1 | K50: СН2 | L50: НН
C51: 0 | H51: =SUM(I51:L51) -> 0
C52: 0 | H52: =SUM(I52:L52) -> 0
C53: 0 | H53: =SUM(I53:L53) -> 0
B55: Итого | C55: 0 | D55: 0 | E55: 0 | F55: 0 | G55: 0 | H55: =SUM(H51:H53) -> 0 | I55: =SUM(I51:I53) -> 0 | J55: =SUM(J51:J53) -> 0 | K55: =SUM(K51:K53) -> 0 | L55: =SUM(L51:L53) -> 0
A58: Расшифровка п. 3.1 (Полезный отпуск потребителям, присоединенным к сети)
A59: № | B59: Наименование сбытовых организаций | C59: Всего | D59: ВН | E59: СН1 | F59: СН2 | G59: НН | H59: Всего | I59: ВН | J59: СН1 | K59: СН2 | L59: НН
A60: 1. | B60: ОАО "РЭСК"всего, в том числе: | C60: 4.2609091 | D60: 0 | E60: 0 | F60: 1.5901724 | G60: 2.6707366 | H60: =I60+J60+K60+L60 -> 4.0253351 | I60: =I61+I62 -> 0 | J60: =J61+J62 -> 0 | K60: =K61+K62 -> 1.3795773 | L60: =L61+L62 -> 2.6457578
A61: 1.1. | B61: прочие потребители | C61: 2.1297707 | F61: 1.5901724 | G61: 0.53959827 | H61: =I61+J61+K61+L61 -> 1.8693536 | K61: ='Баланс эл.энергии 2021'!K61/5500 -> 1.3795773 | L61: ='Баланс эл.энергии 2021'!L61/5500 -> 0.48977636
A62: 1.2. | B62: население | C62: 2.1311384 | G62: 2.1311384 | H62: =I62+J62+K62+L62 -> 2.1559815 | L62: ='Баланс эл.энергии 2021'!L62/5500 -> 2.1559815
A63: 2. | B63: ООО "РГМЭК"всего, в том числе: | C63: 0 | D63: 0 | E63: 0 | F63: 0 | G63: 0 | H63: =I63+J63+K63+L63 -> 0 | I63: =I64+I65 -> 0 | J63: =J64+J65 -> 0 | K63: =K64+K65 -> 0 | L63: =L64+L65 -> 0
A64: 2.1. | B64: прочие потребители | C64: 0 | H64: =I64+J64+K64+L64 -> 0
A65: 2.2. | B65: население | C65: 0 | H65: =I65+J65+K65+L65 -> 0
A66: 3. | B66: ОАО "Оборонэнергосбыт" | C66: 0 | D66: 0 | E66: 0 | F66: 0 | G66: 0 | H66: =I66+J66+K66+L66 -> 0 | I66: =I67+I68 -> 0 | J66: =J67+J68 -> 0 | K66: =K67+K68 -> 0 | L66: =L67+L68 -> 0
A67: 3.1. | B67: прочие потребители | C67: 0 | H67: =I67+J67+K67+L67 -> 0
A68: 3.2. | B68: население | C68: 0 | H68: =I68+J68+K68+L68 -> 0
A69: 4. | B69: ПРОЧИЕ | C69: 0 | D69: 0 | E69: 0 | F69: 0 | G69: 0 | H69: =I69+J69+K69+L69 -> 0 | I69: =I70+I71 -> 0 | J69: =J70+J71 -> 0 | K69: =K70+K71 -> 0 | L69: =L70+L71 -> 0
A70: 4.1. | B70: прочие потребители | C70: 0 | F70: 0 | G70: 0 | H70: =I70+J70+K70+L70 -> 0 | K70: ='[2]1.4'!AE70/5499 -> 0 | L70: ='[2]1.4'!AF70/5499 -> 0
A71: 4.2. | B71: население | C71: 0 | H71: =I71+J71+K71+L71 -> 0
B73: Итого всего, в том числе: | C73: 4.2609091 | D73: 0 | E73: 0 | F73: 1.5901724 | G73: 2.6707366 | H73: =I73+J73+K73+L73 -> 4.0253351 | I73: =I74+I75 -> 0 | J73: =J74+J75 -> 0 | K73: =K74+K75 -> 1.3795773 | L73: =L74+L75 -> 2.6457578
B74: прочие потребители | C74: 2.1297707 | D74: 0 | E74: 0 | F74: 1.5901724 | G74: 0.53959827 | H74: =I74+J74+K74+L74 -> 1.8693536 | I74: =I61+I64+I67+I70 -> 0 | J74: =J61+J64+J67+J70 -> 0 | K74: =K61+K64+K67+K70 -> 1.3795773 | L74: =L61+L64+L67+L70 -> 0.48977636
B75: население | C75: 2.1311384 | D75: 0 | E75: 0 | F75: 0 | G75: 2.1311384 | H75: =I75+J75+K75+L75 -> 2.1559815 | I75: =I62+I65+I68+I71 -> 0 | J75: =J62+J65+J68+J71 -> 0 | K75: =K62+K65+K68+K71 -> 0 | L75: =L62+L65+L68+L71 -> 2.1559815
