Workbook

Sheet Лист1
A1: Информация о вводе в ремонт и выводе из ремонта электросетевых объектов
A2: за | B2: =B6 -> 44623.375 | C2: года
A4: Наименование объекта | B4: Дата ввода в ремонт | D4: Дата вывода из ремонта | F4: Примечания
B5: План | C5: Факт | D5: План | E5: Факт
A6: =[1]март!D11 -> ЗТП-2369 ВЛ-0,4кВ ф14 | B6: =[1]март!F11 -> 44623.375 | C6: =B6 -> 44623.375 | D6: =[1]март!G11 -> 44623.458 | E6: =D6 -> 44623.458
A7: =[1]март!D13 -> п Лашма ТП-6 | B7: =[1]март!F13 -> 44635.625 | C7: =B7 -> 44635.625 | D7: =[1]март!G13 -> 44635.646 | E7: =D7 -> 44635.646
A8: =[1]март!D15 -> ТП-11,ф.3 ВЛ-0,4кВ Елатьма | B8: =[1]март!F15 -> 44641.403 | C8: =B8 -> 44641.403 | D8: =[1]март!G15 -> 44641.431 | E8: =D8 -> 44641.431
A9: =[1]март!D16 -> ТП-11,12,13,14 ВЛ-10кВ Елатьма | B9: =[1]март!F16 -> 44642.375 | C9: =B9 -> 44642.375 | D9: =[1]март!G16 -> 44642.458 | E9: =D9 -> 44642.458
A10: =[1]март!D17 -> п Лашма ТП-1 Ф-1 ВЛ 0,4кВ | B10: =[1]март!F17 -> 44643.438 | C10: =B10 -> 44643.438 | D10: =[1]март!G17 -> 44643.625 | E10: =D10 -> 44643.625
A11: =[1]март!D18 -> ЗТП-9, ВЛ-0,4кВ Елатьма | B11: =[1]март!F18 -> 44644.375 | C11: =B11 -> 44644.375 | D11: =[1]март!G18 -> 44644.583 | E11: =D11 -> 44644.583
