Workbook

Sheet Лист1
A2: Форма 8.1 - Журнал учёта данных первичной информации по всем прекращениям передачи электрической энергии, произошедших на объектах электросетевых организаций за | S2: I | T2: квартал | U2: 2022 | V2: года
A3: МУ МПЖКХ Гусь-Железный
A4: наименование электросетевой организации
A6: Данные о факте прекращения передачи электрической энергии | J6: Данные о масштабе прекращения передачи электрической энергии в сетевой организации | W6: Перечень смежных сетевых организаций, затронутых прекращением передачи электрической энергии | X6: Объем недопоставленной в результате аварийных отключений электроэнергии , кВт | Y6: Данные о причинах прекращения передачи электрической энергии и их расследовании | AB6: Учет в показателях надежности, в т.ч. индикативных показателях надежности (0 - нет, 1 - да)
A7: Номер прекращения передачи электрической энергии / Номер итоговой строки | B7: Наименование структурной единицы сетевой организации | C7: Вид объекта: КЛ, ВЛ, КВЛ, ПС, ТП, РП | D7: Диспетчерское наименование объекта электросетевого хозяйства сетевой организации, в результате отключения которой произошло прекращение передачи электроэнергии потребителям услуг | E7: Высший класс напряжения отключенного оборудования сетевой организации, кВ | F7: Время и дата начала прекращения передачи электрической энергии (часы, минуты, ГГГГ.ММ.ДД) | G7: Время и дата восстановления режима потребления электрической энергии потребителей услуг (часы, минуты, ГГГГ.ММ.ДД) | H7: Вид прекращения передачи электроэнергии (П, А, В) | I7: Продолжительность прекращения передачи электрической энергии, час | J7: Перечень объектов электросетевого хозяйства, отключение которых привело к прекращению передачи электрической энергии потребителям услуг (ПС, ТП, РП, ВЛ, КЛ) | K7: Перечень потребителей 1-й и 2-й категорий надежности, в отношении которых произошло полное ограничение режима потребления электрической энергии | L7: Перечень потребителей 1-й и 2-й категорий надежности, в отношении которых произошло частичное ограничение режима потребления электрической энергии | M7: Количество точек поставки потребителей услуг сетевой организации, в отношении которых произошел перерыв электроснабжения, шт., в том числе: | V7: Суммарный объем фактической нагрузки (мощности) на присоединениях потребителей услуг, по которым произошло прекращение передачи электрической энергии на момент возникновения такого события, кВт
M8: ВСЕГО | N8: в разделении категорий надежности потребителей электрической энергии | Q8: в разделении уровней напряжения ЭПУ потребителя электрической энергии | U8: Смежные сетевые организации и производители электрической энергии | Y8: Номер и дата акта расследования технологического нарушения, записи в оперативном журнале | Z8: Код организационной причины аварии | AA8: Код технической причины повреждения оборудования
N9: 1-я категория надежности | O9: 2-я категория надежности | P9: 3-я категория надежности | Q9: ВН (110 кВ и выше) | R9: СН1 (35 кВ) | S9: СН2 (6-20 кВ) | T9: НН (0,22-1 кВ)
A10: 1 | B10: 2 | C10: 3 | D10: 4 | E10: 5 | F10: 6 | G10: 7 | H10: 8 | I10: 9 | J10: 10 | K10: 11 | L10: 12 | M10: 13 | N10: 14 | O10: 15 | P10: 16 | Q10: 17 | R10: 18 | S10: 19 | T10: 20 | U10: 21 | V10: 22 | W10: 23 | X10: 24 | Y10: 25 | Z10: 26 | AA10: 27 | AB10: 28
A11: =[1]январь!A11 -> 1 | B11: =[1]январь!B11 -> Участок №1 | C11: =[1]январь!C11 -> ТП | D11: =[1]январь!D11 -> ПС-Лашма ф 5 ЗТП 8 ф1 | E11: =[1]январь!E11 -> 0.38 | F11: =[1]январь!F11 -> 44565.417 | G11: =[1]январь!G11 -> 44565.479 | H11: =[1]январь!H11 -> В | I11: =[1]январь!I11 -> 1.5 | J11: =[1]январь!L11 -> ТП8, ф1 | K11: =[1]январь!M11 -> 0 | L11: =[1]январь!N11 -> 0 | M11: =[1]январь!O11 -> 18 | N11: =[1]январь!P11 -> 0 | O11: =[1]январь!Q11 -> 0 | P11: =[1]январь!R11 -> 18 | Q11: =[1]январь!S11 -> 0 | ... W11: =[1]январь!Y11 -> 0 | X11: =V11*I11 -> 5.94 | Y11: =[1]январь!Z11 -> №1 05.01.22 | Z11: =[1]январь!AA11 -> 3.4.9.3 | AA11: =[1]январь!AB11 -> 4.10 | AB11: =[1]январь!AC11 -> 0
A12: =[1]январь!A12 -> 2 | B12: =[1]январь!B12 -> Участок №1 | C12: =[1]январь!C12 -> ВЛ | D12: =[1]январь!D12 -> ПС-Телебукино ф14 КТП2 ф1 | E12: =[1]январь!E12 -> 0.38 | F12: =[1]январь!F12 -> 44568.417 | G12: =[1]январь!G12 -> 44568.458 | H12: =[1]январь!H12 -> В | I12: =[1]январь!I12 -> 1 | J12: =[1]январь!L12 -> ВЛ- 0,4кВ №1 | K12: =[1]январь!M12 -> 0 | L12: =[1]январь!N12 -> 0 | M12: =[1]январь!O12 -> 1 | N12: =[1]январь!P12 -> 0 | O12: =[1]январь!Q12 -> 0 | P12: =[1]январь!R12 -> 1 | Q12: =[1]январь!S12 -> 0 | ... W12: =[1]январь!Y12 -> 0 | X12: =V12*I12 -> 0.22 | Y12: =[1]январь!Z12 -> №2 10.01.22 | Z12: =[1]январь!AA12 -> 3.4.9.3 | AA12: =[1]январь!AB12 -> 4.13 | AB12: =[1]январь!AC12 -> 0
A13: =[1]январь!A13 -> 3 | B13: =[1]январь!B13 -> Участок №2 | C13: =[1]январь!C13 -> ВЛ | D13: =[1]январь!D13 -> ТП-2561 ф 2, ВЛ 0,4кВ Сосновка | E13: =[1]январь!E13 -> 0.38 | F13: =[1]январь!F13 -> 44572.403 | G13: =[1]январь!G13 -> 44572.458 | H13: =[1]январь!H13 -> П | I13: =[1]январь!I13 -> 1.3333333 | J13: =[1]январь!L13 -> ВЛ- 0,4кВ №2 | K13: =[1]январь!M13 -> 0 | L13: =[1]январь!N13 -> 0 | M13: =[1]январь!O13 -> 31 | N13: =[1]январь!P13 -> 0 | O13: =[1]январь!Q13 -> 0 | P13: =[1]январь!R13 -> 31 | Q13: =[1]январь!S13 -> 0 | ... W13: =[1]январь!Y13 -> 0 | X13: =V13*I13 -> 9.0933333 | Y13: =[1]январь!Z13 -> 0 | Z13: =[1]январь!AA13 -> 0 | AA13: =[1]январь!AB13 -> 0 | AB13: =[1]январь!AC13 -> 1
A14: =[1]январь!A14 -> 4 | B14: =[1]январь!B14 -> Участок №2 | C14: =[1]январь!C14 -> ВЛ | D14: =[1]январь!D14 -> ЗТП-2,ф.2 ВЛ-0,4кВ Елатьма | E14: =[1]январь!E14 -> 0.38 | F14: =[1]январь!F14 -> 44574.396 | G14: =[1]январь!G14 -> 44574.448 | H14: =[1]январь!H14 -> П | I14: =[1]январь!I14 -> 1.25 | J14: =[1]январь!L14 -> ВЛ- 0,4кВ №2 | K14: =[1]январь!M14 -> 0 | L14: =[1]январь!N14 -> 0 | M14: =[1]январь!O14 -> 22 | N14: =[1]январь!P14 -> 0 | O14: =[1]январь!Q14 -> 0 | P14: =[1]январь!R14 -> 22 | Q14: =[1]январь!S14 -> 0 | ... W14: =[1]январь!Y14 -> 0 | X14: =V14*I14 -> 6.05 | Y14: =[1]январь!Z14 -> 0 | Z14: =[1]январь!AA14 -> 0 | AA14: =[1]январь!AB14 -> 0 | AB14: =[1]январь!AC14 -> 1
A15: =[1]январь!A15 -> 5 | B15: =[1]январь!B15 -> Участок №1 | C15: =[1]январь!C15 -> ТП | D15: =[1]январь!D15 -> ПС Лашма ф3 ТП3 | E15: =[1]январь!E15 -> 10 (10.5) | F15: =[1]январь!F15 -> 44579.417 | G15: =[1]январь!G15 -> 44579.521 | H15: =[1]январь!H15 -> П | I15: =[1]январь!I15 -> 2.5 | J15: =[1]январь!L15 -> ТП3 | K15: =[1]январь!M15 -> 0 | L15: =[1]январь!N15 -> 0 | M15: =[1]январь!O15 -> 42 | N15: =[1]январь!P15 -> 0 | O15: =[1]январь!Q15 -> 0 | P15: =[1]январь!R15 -> 42 | Q15: =[1]январь!S15 -> 0 | ... W15: =[1]январь!Y15 -> 0 | X15: =V15*I15 -> 23.1 | Y15: =[1]январь!Z15 -> 0 | Z15: =[1]январь!AA15 -> 0 | AA15: =[1]январь!AB15 -> 0 | AB15: =[1]январь!AC15 -> 1
A16: =[1]январь!A16 -> 6 | B16: =[1]январь!B16 -> Участок №1 | C16: =[1]январь!C16 -> ТП | D16: =[1]январь!D16 -> ПС Зеленино ф3 ЗТП 5 | E16: =[1]январь!E16 -> 0.38 | F16: =[1]январь!F16 -> 44580.625 | G16: =[1]январь!G16 -> 44580.688 | H16: =[1]январь!H16 -> В | I16: =[1]январь!I16 -> 1.5 | J16: =[1]январь!L16 -> ЗТП 5 ф3 | K16: =[1]январь!M16 -> 0 | L16: =[1]январь!N16 -> 0 | M16: =[1]январь!O16 -> 21 | N16: =[1]январь!P16 -> 0 | O16: =[1]январь!Q16 -> 0 | P16: =[1]январь!R16 -> 21 | Q16: =[1]январь!S16 -> 0 | ... W16: =[1]январь!Y16 -> 0 | X16: =V16*I16 -> 6.93 | Y16: =[1]январь!Z16 -> №3 20.01.22 | Z16: =[1]январь!AA16 -> 3.4.7.3 | AA16: =[1]январь!AB16 -> 4.10 | AB16: =[1]январь!AC16 -> 1
A17: =[1]январь!A17 -> 7 | B17: =[1]январь!B17 -> Участок №1 | C17: =[1]январь!C17 -> ТП | D17: =[1]январь!D17 -> ПС Зеленино ф3 ЗТП 5 | E17: =[1]январь!E17 -> 0.38 | F17: =[1]январь!F17 -> 44581.583 | G17: =[1]январь!G17 -> 44581.667 | H17: =[1]январь!H17 -> П | I17: =[1]январь!I17 -> 2 | J17: =[1]январь!L17 -> ЗТП 5 ф3 | K17: =[1]январь!M17 -> 0 | L17: =[1]январь!N17 -> 0 | M17: =[1]январь!O17 -> 45 | N17: =[1]январь!P17 -> 0 | O17: =[1]январь!Q17 -> 0 | P17: =[1]январь!R17 -> 45 | Q17: =[1]январь!S17 -> 0 | ... W17: =[1]январь!Y17 -> 0 | X17: =V17*I17 -> 19.8 | Y17: =[1]январь!Z17 -> 0 | Z17: =[1]январь!AA17 -> 0 | AA17: =[1]январь!AB17 -> 0 | AB17: =[1]январь!AC17 -> 1
A18: =[1]январь!A18 -> 8 | B18: =[1]январь!B18 -> Участок №2 | C18: =[1]январь!C18 -> ВЛ | D18: =[1]январь!D18 -> ТП-5,ф.3 ВЛ-0,4кВ Елатьма | E18: =[1]январь!E18 -> 0.38 | F18: =[1]январь!F18 -> 44585.375 | G18: =[1]январь!G18 -> 44585.458 | H18: =[1]январь!H18 -> П | I18: =[1]январь!I18 -> 2 | J18: =[1]январь!L18 -> ВЛ- 0,4кВ №3 | K18: =[1]январь!M18 -> 0 | L18: =[1]январь!N18 -> 0 | M18: =[1]январь!O18 -> 27 | N18: =[1]январь!P18 -> 0 | O18: =[1]январь!Q18 -> 0 | P18: =[1]январь!R18 -> 27 | Q18: =[1]январь!S18 -> 0 | ... W18: =[1]январь!Y18 -> 0 | X18: =V18*I18 -> 11.88 | Y18: =[1]январь!Z18 -> 0 | Z18: =[1]январь!AA18 -> 0 | AA18: =[1]январь!AB18 -> 0 | AB18: =[1]январь!AC18 -> 1
A19: =[1]февраль!A11 -> 1 | B19: =[1]февраль!B11 -> Участок №2 | C19: =[1]февраль!C11 -> ВЛ | D19: =[1]февраль!D11 -> КТП-11,ф.3 ВЛ-0,4кВ№3 Елатьма | E19: =[1]февраль!E11 -> 0.38 | F19: =[1]февраль!F11 -> 44593.427 | G19: =[1]февраль!G11 -> 44593.51 | H19: =[1]февраль!H11 -> П | I19: =[1]февраль!I11 -> 2 | J19: =[1]февраль!L11 -> ВЛ 0,4кВ | K19: =[1]февраль!M11 -> 0 | L19: =[1]февраль!N11 -> 0 | M19: =[1]февраль!O11 -> 17 | N19: =[1]февраль!P11 -> 0 | O19: =[1]февраль!Q11 -> 0 | P19: =[1]февраль!R11 -> 17 | Q19: =[1]февраль!S11 -> 0 | ... W19: =[1]февраль!Y11 -> 0 | X19: =V19*I19 -> 7.48 | Y19: =[1]февраль!Z11 -> 0 | Z19: =[1]февраль!AA11 -> 0 | AA19: =[1]февраль!AB11 -> 0 | AB19: =[1]февраль!AC11 -> 1
A20: =[1]февраль!A12 -> 2 | B20: =[1]февраль!B12 -> Участок №1 | C20: =[1]февраль!C12 -> ТП | D20: =[1]февраль!D12 -> ПС-Лашма ф 5 ЗТП 8 | E20: =[1]февраль!E12 -> 0.38 | F20: =[1]февраль!F12 -> 44594.812 | G20: =[1]февраль!G12 -> 44594.854 | H20: =[1]февраль!H12 -> В | I20: =[1]февраль!I12 -> 1 | J20: =[1]февраль!L12 -> ВЛ- 0,4кВ | K20: =[1]февраль!M12 -> 0 | L20: =[1]февраль!N12 -> 0 | M20: =[1]февраль!O12 -> 18 | N20: =[1]февраль!P12 -> 0 | O20: =[1]февраль!Q12 -> 0 | P20: =[1]февраль!R12 -> 18 | Q20: =[1]февраль!S12 -> 0 | ... W20: =[1]февраль!Y12 -> 0 | X20: =V20*I20 -> 3.96 | Y20: =[1]февраль!Z12 -> №2 10.01.22 | Z20: =[1]февраль!AA12 -> 3.4.9.3 | AA20: =[1]февраль!AB12 -> 4.13 | AB20: =[1]февраль!AC12 -> 1
A21: =[1]февраль!A13 -> 3 | B21: =[1]февраль!B13 -> Участок №1 | C21: =[1]февраль!C13 -> ТП | D21: =[1]февраль!D13 -> ПС-Касимов ф12 ТП-2589 ф3 | E21: =[1]февраль!E13 -> 0.38 | F21: =[1]февраль!F13 -> 44596.396 | G21: =[1]февраль!G13 -> 44596.438 | H21: =[1]февраль!H13 -> П | I21: =[1]февраль!I13 -> 1 | J21: =[1]февраль!L13 -> ТП 2589 | K21: =[1]февраль!M13 -> 0 | L21: =[1]февраль!N13 -> 0 | M21: =[1]февраль!O13 -> 21 | N21: =[1]февраль!P13 -> 0 | O21: =[1]февраль!Q13 -> 0 | P21: =[1]февраль!R13 -> 21 | Q21: =[1]февраль!S13 -> 0 | ... W21: =[1]февраль!Y13 -> 0 | X21: =V21*I21 -> 4.62 | Y21: =[1]февраль!Z13 -> 0 | Z21: =[1]февраль!AA13 -> 0 | AA21: =[1]февраль!AB13 -> 0 | AB21: =[1]февраль!AC13 -> 1
A22: =[1]февраль!A14 -> 4 | B22: =[1]февраль!B14 -> Участок №2 | C22: =[1]февраль!C14 -> ВЛ | D22: =[1]февраль!D14 -> ТП-2561 ф 2, ВЛ 0,4кВ Сосновка | E22: =[1]февраль!E14 -> 0.38 | F22: =[1]февраль!F14 -> 44601.396 | G22: =[1]февраль!G14 -> 44601.458 | H22: =[1]февраль!H14 -> П | I22: =[1]февраль!I14 -> 1.5 | J22: =[1]февраль!L14 -> ВЛ 0,4кВ | K22: =[1]февраль!M14 -> 0 | L22: =[1]февраль!N14 -> 0 | M22: =[1]февраль!O14 -> 33 | N22: =[1]февраль!P14 -> 0 | O22: =[1]февраль!Q14 -> 0 | P22: =[1]февраль!R14 -> 33 | Q22: =[1]февраль!S14 -> 0 | ... W22: =[1]февраль!Y14 -> 0 | X22: =V22*I22 -> 10.89 | Y22: =[1]февраль!Z14 -> 0 | Z22: =[1]февраль!AA14 -> 0 | AA22: =[1]февраль!AB14 -> 0 | AB22: =[1]февраль!AC14 -> 1
A23: =[1]февраль!A15 -> 5 | B23: =[1]февраль!B15 -> Участок №1 | C23: =[1]февраль!C15 -> ВЛ | D23: =[1]февраль!D15 -> ПС Касимов ф12 ТП-2588 ф3 ВЛ№3 | E23: =[1]февраль!E15 -> 0.38 | F23: =[1]февраль!F15 -> 44607.396 | G23: =[1]февраль!G15 -> 44607.479 | H23: =[1]февраль!H15 -> П | I23: =[1]февраль!I15 -> 2 | J23: =[1]февраль!L15 -> ВЛ 0,4кВ | K23: =[1]февраль!M15 -> 0 | L23: =[1]февраль!N15 -> 0 | M23: =[1]февраль!O15 -> 32 | N23: =[1]февраль!P15 -> 0 | O23: =[1]февраль!Q15 -> 0 | P23: =[1]февраль!R15 -> 32 | Q23: =[1]февраль!S15 -> 0 | ... W23: =[1]февраль!Y15 -> 0 | X23: =V23*I23 -> 14.08 | Y23: =[1]февраль!Z15 -> 0 | Z23: =[1]февраль!AA15 -> 0 | AA23: =[1]февраль!AB15 -> 0 | AB23: =[1]февраль!AC15 -> 1
A24: =[1]февраль!A16 -> 6 | B24: =[1]февраль!B16 -> Участок №1 | C24: =[1]февраль!C16 -> ВЛ | D24: =[1]февраль!D16 -> ПС Касимов ф12 ТП-2588 ф1 ВЛ№1 | E24: =[1]февраль!E16 -> 0.38 | F24: =[1]февраль!F16 -> 44609.625 | G24: =[1]февраль!G16 -> 44609.688 | H24: =[1]февраль!H16 -> П | I24: =[1]февраль!I16 -> 1.5 | J24: =[1]февраль!L16 -> ВЛ-0,4кВ | K24: =[1]февраль!M16 -> 0 | L24: =[1]февраль!N16 -> 0 | M24: =[1]февраль!O16 -> 29 | N24: =[1]февраль!P16 -> 0 | O24: =[1]февраль!Q16 -> 0 | P24: =[1]февраль!R16 -> 29 | Q24: =[1]февраль!S16 -> 0 | ... W24: =[1]февраль!Y16 -> 0 | X24: =V24*I24 -> 9.57 | Y24: =[1]февраль!Z16 -> 0 | Z24: =[1]февраль!AA16 -> 0 | AA24: =[1]февраль!AB16 -> 0 | AB24: =[1]февраль!AC16 -> 1
A25: =[1]февраль!A17 -> 7 | B25: =[1]февраль!B17 -> Участок №1 | C25: =[1]февраль!C17 -> ВЛ | D25: =[1]февраль!D17 -> ПС Телебукино ВЛ №11 | E25: =[1]февраль!E17 -> 10 (10.5) | F25: =[1]февраль!F17 -> 44610.354 | G25: =[1]февраль!G17 -> 44610.451 | H25: =[1]февраль!H17 -> П | I25: =[1]февраль!I17 -> 2.3333333 | J25: =[1]февраль!L17 -> ВЛ11-10кВ | K25: =[1]февраль!M17 -> 0 | L25: =[1]февраль!N17 -> 0 | M25: =[1]февраль!O17 -> 285 | N25: =[1]февраль!P17 -> 0 | O25: =[1]февраль!Q17 -> 0 | P25: =[1]февраль!R17 -> 285 | Q25: =[1]февраль!S17 -> 0 | ... W25: =[1]февраль!Y17 -> 0 | X25: =V25*I25 -> 146.3 | Y25: =[1]февраль!Z17 -> 0 | Z25: =[1]февраль!AA17 -> 0 | AA25: =[1]февраль!AB17 -> 0 | AB25: =[1]февраль!AC17 -> 1
A26: =[1]февраль!A18 -> 8 | B26: =[1]февраль!B18 -> Участок №2 | C26: =[1]февраль!C18 -> ВЛ | D26: =[1]февраль!D18 -> ТП-10,ф.2 ВЛ№2-0,4кВ Елатьма | E26: =[1]февраль!E18 -> 0.38 | F26: =[1]февраль!F18 -> 44610.385 | G26: =[1]февраль!G18 -> 44610.472 | H26: =[1]февраль!H18 -> П | I26: =[1]февраль!I18 -> 2.0833333 | J26: =[1]февраль!L18 -> ВЛ-0.4кВ | K26: =[1]февраль!M18 -> 0 | L26: =[1]февраль!N18 -> 0 | M26: =[1]февраль!O18 -> 34 | N26: =[1]февраль!P18 -> 0 | O26: =[1]февраль!Q18 -> 0 | P26: =[1]февраль!R18 -> 34 | Q26: =[1]февраль!S18 -> 0 | ... W26: =[1]февраль!Y18 -> 0 | X26: =V26*I26 -> 15.583333 | Y26: =[1]февраль!Z18 -> 0 | Z26: =[1]февраль!AA18 -> 0 | AA26: =[1]февраль!AB18 -> 0 | AB26: =[1]февраль!AC18 -> 1
A27: =[1]февраль!A19 -> 9 | B27: =[1]февраль!B19 -> Участок №1 | C27: =[1]февраль!C19 -> ТП | D27: =[1]февраль!D19 -> ПС Телебукино ф11 ЗТП-2369,2479,2396 | E27: =[1]февраль!E19 -> 10 (10.5) | F27: =[1]февраль!F19 -> 44613.625 | G27: =[1]февраль!G19 -> 44613.646 | H27: =[1]февраль!H19 -> П | I27: =[1]февраль!I19 -> 0.5 | J27: =[1]февраль!L19 -> ВЛ 10кВ | K27: =[1]февраль!M19 -> 0 | L27: =[1]февраль!N19 -> 0 | M27: =[1]февраль!O19 -> 285 | N27: =[1]февраль!P19 -> 0 | O27: =[1]февраль!Q19 -> 0 | P27: =[1]февраль!R19 -> 285 | Q27: =[1]февраль!S19 -> 0 | ... W27: =[1]февраль!Y19 -> 0 | X27: =V27*I27 -> 31.35 | Y27: =[1]февраль!Z19 -> 0 | Z27: =[1]февраль!AA19 -> 0 | AA27: =[1]февраль!AB19 -> 0 | AB27: =[1]февраль!AC19 -> 1
A28: =[1]февраль!A20 -> 10 | B28: =[1]февраль!B20 -> Участок №1 | C28: =[1]февраль!C20 -> ТП | D28: =[1]февраль!D20 -> ПС Телебукино ф7 ЗТП-2478 | E28: =[1]февраль!E20 -> 10 (10.5) | F28: =[1]февраль!F20 -> 44614.417 | G28: =[1]февраль!G20 -> 44614.5 | H28: =[1]февраль!H20 -> П | I28: =[1]февраль!I20 -> 2 | J28: =[1]февраль!L20 -> ТП 2478 | K28: =[1]февраль!M20 -> 0 | L28: =[1]февраль!N20 -> 0 | M28: =[1]февраль!O20 -> 42 | N28: =[1]февраль!P20 -> 0 | O28: =[1]февраль!Q20 -> 0 | P28: =[1]февраль!R20 -> 42 | Q28: =[1]февраль!S20 -> 0 | ... W28: =[1]февраль!Y20 -> 0 | X28: =V28*I28 -> 18.48 | Y28: =[1]февраль!Z20 -> 0 | Z28: =[1]февраль!AA20 -> 0 | AA28: =[1]февраль!AB20 -> 0 | AB28: =[1]февраль!AC20 -> 1
A29: =[1]февраль!A21 -> 11 | B29: =[1]февраль!B21 -> Участок №1 | C29: =[1]февраль!C21 -> ВЛ | D29: =[1]февраль!D21 -> ПС Телебукино ф14 КТП-2, ЗТП-1 | E29: =[1]февраль!E21 -> 10 (10.5) | F29: =[1]февраль!F21 -> 44616.417 | G29: =[1]февраль!G21 -> 44616.5 | H29: =[1]февраль!H21 -> П | I29: =[1]февраль!I21 -> 2 | J29: =[1]февраль!L21 -> ВЛ14 10кВ | K29: =[1]февраль!M21 -> 0 | L29: =[1]февраль!N21 -> 0 | M29: =[1]февраль!O21 -> 41 | N29: =[1]февраль!P21 -> 0 | O29: =[1]февраль!Q21 -> 0 | P29: =[1]февраль!R21 -> 41 | Q29: =[1]февраль!S21 -> 0 | ... W29: =[1]февраль!Y21 -> 0 | X29: =V29*I29 -> 18.04 | Y29: =[1]февраль!Z21 -> 0 | Z29: =[1]февраль!AA21 -> 0 | AA29: =[1]февраль!AB21 -> 0 | AB29: =[1]февраль!AC21 -> 1
A30: =[1]март!A11 -> 1 | B30: =[1]март!B11 -> Участок №1 | C30: =[1]март!C11 -> ВЛ | D30: =[1]март!D11 -> ЗТП-2369 ВЛ-0,4кВ ф14 | E30: =[1]март!E11 -> 0.38 | F30: =[1]март!F11 -> 44623.375 | G30: =[1]март!G11 -> 44623.458 | H30: =[1]март!H11 -> В | I30: =[1]март!I11 -> 2 | J30: =[1]март!L11 -> ВЛ- 0,4кВ | K30: =[1]март!M11 -> 0 | L30: =[1]март!N11 -> 0 | M30: =[1]март!O11 -> 18 | N30: =[1]март!P11 -> 0 | O30: =[1]март!Q11 -> 0 | P30: =[1]март!R11 -> 18 | Q30: =[1]март!S11 -> 0 | ... W30: =[1]март!Y11 -> 0 | X30: =V30*I30 -> 7.92 | Y30: =[1]март!Z11 -> №5 04.03.22 | Z30: =[1]март!AA11 -> 3.4.7.3 | AA30: =[1]март!AB11 -> 4.11 | AB30: =[1]март!AC11 -> 1
A31: =[1]март!A12 -> 2 | B31: =[1]март!B12 -> Участок №1 | C31: =[1]март!C12 -> ТП | D31: =[1]март!D12 -> ТП-1 п Лашма | E31: =[1]март!E12 -> 10 (10.5) | F31: =[1]март!F12 -> 44635.583 | G31: =[1]март!G12 -> 44635.625 | H31: =[1]март!H12 -> П | I31: =[1]март!I12 -> 1 | J31: =[1]март!L12 -> ТП1 | K31: =[1]март!M12 -> 0 | L31: =[1]март!N12 -> 0 | M31: =[1]март!O12 -> 64 | N31: =[1]март!P12 -> 0 | O31: =[1]март!Q12 -> 0 | P31: =[1]март!R12 -> 64 | Q31: =[1]март!S12 -> 0 | ... W31: =[1]март!Y12 -> 0 | X31: =V31*I31 -> 14.08 | Y31: =[1]март!Z12 -> 0 | Z31: =[1]март!AA12 -> 0 | AA31: =[1]март!AB12 -> 0 | AB31: =[1]март!AC12 -> 1
A32: =[1]март!A13 -> 3 | B32: =[1]март!B13 -> Участок №1 | C32: =[1]март!C13 -> ТП | D32: =[1]март!D13 -> п Лашма ТП-6 | E32: =[1]март!E13 -> 10 (10.5) | F32: =[1]март!F13 -> 44635.625 | G32: =[1]март!G13 -> 44635.646 | H32: =[1]март!H13 -> П | I32: =[1]март!I13 -> 0.5 | J32: =[1]март!L13 -> ТП6 | K32: =[1]март!M13 -> 0 | L32: =[1]март!N13 -> 0 | M32: =[1]март!O13 -> 31 | N32: =[1]март!P13 -> 0 | O32: =[1]март!Q13 -> 0 | P32: =[1]март!R13 -> 31 | Q32: =[1]март!S13 -> 0 | ... W32: =[1]март!Y13 -> 0 | X32: =V32*I32 -> 3.41 | Y32: =[1]март!Z13 -> 0 | Z32: =[1]март!AA13 -> 0 | AA32: =[1]март!AB13 -> 0 | AB32: =[1]март!AC13 -> 1
A33: =[1]март!A14 -> 4 | B33: =[1]март!B14 -> Участок №2 | C33: =[1]март!C14 -> ВЛ | D33: =[1]март!D14 -> КТП-12,ф.4 ВЛ-0,4кВ Елатьма | E33: =[1]март!E14 -> 0.38 | F33: =[1]март!F14 -> 44637.868 | G33: =[1]март!G14 -> 44637.903 | H33: =[1]март!H14 -> В | I33: =[1]март!I14 -> 0.83333333 | J33: =[1]март!L14 -> ВЛ- 0,4кВ | K33: =[1]март!M14 -> 0 | L33: =[1]март!N14 -> 0 | M33: =[1]март!O14 -> 26 | N33: =[1]март!P14 -> 0 | O33: =[1]март!Q14 -> 0 | P33: =[1]март!R14 -> 26 | Q33: =[1]март!S14 -> 0 | ... W33: =[1]март!Y14 -> 0 | X33: =V33*I33 -> 4.7666667 | Y33: =[1]март!Z14 -> №6 18.03.22 | Z33: =[1]март!AA14 -> 3.4.9.3 | AA33: =[1]март!AB14 -> 4.11 | AB33: =[1]март!AC14 -> 0
A34: =[1]март!A15 -> 5 | B34: =[1]март!B15 -> Участок №2 | C34: =[1]март!C15 -> ВЛ | D34: =[1]март!D15 -> ТП-11,ф.3 ВЛ-0,4кВ Елатьма | E34: =[1]март!E15 -> 0.38 | F34: =[1]март!F15 -> 44641.403 | G34: =[1]март!G15 -> 44641.431 | H34: =[1]март!H15 -> П | I34: =[1]март!I15 -> 0.66666667 | J34: =[1]март!L15 -> ВЛ- 0,4кВ | K34: =[1]март!M15 -> 0 | L34: =[1]март!N15 -> 0 | M34: =[1]март!O15 -> 14 | N34: =[1]март!P15 -> 0 | O34: =[1]март!Q15 -> 0 | P34: =[1]март!R15 -> 14 | Q34: =[1]март!S15 -> 0 | ... W34: =[1]март!Y15 -> 0 | X34: =V34*I34 -> 2.0533333 | Y34: =[1]март!Z15 -> 0 | Z34: =[1]март!AA15 -> 0 | AA34: =[1]март!AB15 -> 0 | AB34: =[1]март!AC15 -> 1
A35: =[1]март!A16 -> 6 | B35: =[1]март!B16 -> Участок №2 | C35: =[1]март!C16 -> ВЛ | D35: =[1]март!D16 -> ТП-11,12,13,14 ВЛ-10кВ Елатьма | E35: =[1]март!E16 -> 10 (10.5) | F35: =[1]март!F16 -> 44642.375 | G35: =[1]март!G16 -> 44642.458 | H35: =[1]март!H16 -> П | I35: =[1]март!I16 -> 2 | J35: =[1]март!L16 -> ВЛ- 0,4кВ | K35: =[1]март!M16 -> 0 | L35: =[1]март!N16 -> 0 | M35: =[1]март!O16 -> 256 | N35: =[1]март!P16 -> 0 | O35: =[1]март!Q16 -> 0 | P35: =[1]март!R16 -> 256 | Q35: =[1]март!S16 -> 0 | ... W35: =[1]март!Y16 -> 0 | X35: =V35*I35 -> 112.64 | Y35: =[1]март!Z16 -> 0 | Z35: =[1]март!AA16 -> 0 | AA35: =[1]март!AB16 -> 0 | AB35: =[1]март!AC16 -> 1
A36: =[1]март!A17 -> 7 | B36: =[1]март!B17 -> Участок №1 | C36: =[1]март!C17 -> ВЛ | D36: =[1]март!D17 -> п Лашма ТП-1 Ф-1 ВЛ 0,4кВ | E36: =[1]март!E17 -> 0.38 | F36: =[1]март!F17 -> 44643.438 | G36: =[1]март!G17 -> 44643.625 | H36: =[1]март!H17 -> П | I36: =[1]март!I17 -> 4.5 | J36: =[1]март!L17 -> ВЛ- 0,4кВ | K36: =[1]март!M17 -> 0 | L36: =[1]март!N17 -> 0 | M36: =[1]март!O17 -> 33 | N36: =[1]март!P17 -> 0 | O36: =[1]март!Q17 -> 0 | P36: =[1]март!R17 -> 33 | Q36: =[1]март!S17 -> 0 | ... W36: =[1]март!Y17 -> 0 | X36: =V36*I36 -> 32.67 | Y36: =[1]март!Z17 -> 0 | Z36: =[1]март!AA17 -> 0 | AA36: =[1]март!AB17 -> 0 | AB36: =[1]март!AC17 -> 1
A37: =[1]март!A18 -> 8 | B37: =[1]март!B18 -> Участок №2 | C37: =[1]март!C18 -> ВЛ | D37: =[1]март!D18 -> ЗТП-9, ВЛ-0,4кВ Елатьма | E37: =[1]март!E18 -> 0.38 | F37: =[1]март!F18 -> 44644.375 | G37: =[1]март!G18 -> 44644.583 | H37: =[1]март!H18 -> П | I37: =[1]март!I18 -> 5 | J37: =[1]март!L18 -> ВЛ- 0,4кВ | K37: =[1]март!M18 -> 0 | L37: =[1]март!N18 -> 0 | M37: =[1]март!O18 -> 33 | N37: =[1]март!P18 -> 0 | O37: =[1]март!Q18 -> 0 | P37: =[1]март!R18 -> 33 | Q37: =[1]март!S18 -> 0 | ... W37: =[1]март!Y18 -> 0 | X37: =V37*I37 -> 36.3 | Y37: =[1]март!Z18 -> 0 | Z37: =[1]март!AA18 -> 0 | AA37: =[1]март!AB18 -> 0 | AB37: =[1]март!AC18 -> 1
A38: =[1]март!A19 -> 9 | B38: =[1]март!B19 -> Участок №1 | C38: =[1]март!C19 -> ВЛ | D38: =[1]март!D19 -> ПС Касимов ф-12 ВЛ 10кВ | E38: =[1]март!E19 -> 10 (10.5) | F38: =[1]март!F19 -> 44646.646 | G38: =[1]март!G19 -> 44646.729 | H38: =[1]март!H19 -> В | I38: =[1]март!I19 -> 2 | J38: =[1]март!L19 -> ВЛ 10кВ | K38: =[1]март!M19 -> 0 | L38: =[1]март!N19 -> 0 | M38: =[1]март!O19 -> 248 | N38: =[1]март!P19 -> 0 | O38: =[1]март!Q19 -> 0 | P38: =[1]март!R19 -> 248 | Q38: =[1]март!S19 -> 0 | ... W38: =[1]март!Y19 -> 0 | X38: =V38*I38 -> 109.12 | Y38: =[1]март!Z19 -> №7 28.03.22 | Z38: =[1]март!AA19 -> 3.4.9.1 | AA38: =[1]март!AB19 -> 4.13 | AB38: =[1]март!AC19 -> 0
A39: =[1]март!A20 -> 10 | B39: =[1]март!B20 -> Участок №1 | C39: =[1]март!C20 -> ВЛ | D39: =[1]март!D20 -> ТП-2588 ф-3 ВЛ 0,4кВ | E39: =[1]март!E20 -> 0.38 | F39: =[1]март!F20 -> 44648.667 | G39: =[1]март!G20 -> 44648.729 | H39: =[1]март!H20 -> В | I39: =[1]март!I20 -> 1.5 | J39: =[1]март!L20 -> ВЛ- 0,4кВ | K39: =[1]март!M20 -> 0 | L39: =[1]март!N20 -> 0 | M39: =[1]март!O20 -> 1 | N39: =[1]март!P20 -> 0 | O39: =[1]март!Q20 -> 0 | P39: =[1]март!R20 -> 1 | Q39: =[1]март!S20 -> 0 | ... W39: =[1]март!Y20 -> 0 | X39: =V39*I39 -> 0.33 | Y39: =[1]март!Z20 -> №8 29.03.22 | Z39: =[1]март!AA20 -> 3.4.9.3 | AA39: =[1]март!AB20 -> 4.13 | AB39: =[1]март!AC20 -> 0
V40: =SUM(V11:V39) -> 388.96 | X40: =SUM(X11:X39) -> 686.65667
