Workbook

Sheet Лист1
A1: Информация о вводе в ремонт и выводе из ремонта электросетевых объектов
A2: за | B2: 44682 | C2: года
A4: Наименование объекта | B4: Дата ввода в ремонт | D4: Дата вывода из ремонта | F4: Примечания
B5: План | C5: Факт | D5: План | E5: Факт
A6: =[1]май!D11 -> ПС -Лашма ф5 ТП-7 ф1 ВЛ 0,4кВ | B6: =[1]май!F11 -> 11,00 2022.05.04 | C6: =B6 -> 11,00 2022.05.04 | D6: =[1]май!G11 -> 13,00 2022.05.04 | E6: =D6 -> 13,00 2022.05.04
A7: =[1]май!D12 -> ПС-Касимов ф12 ТП-2591 ф3 | B7: =[1]май!F12 -> 09,00 2022.05.06 | C7: =B7 -> 09,00 2022.05.06 | D7: =[1]май!G12 -> 13,00 2022.05.06 | E7: =D7 -> 13,00 2022.05.06
A8: =[1]май!D14 -> ЗТП-9,ф.2 ВЛ-0,4кВ Елатьма | B8: =[1]май!F14 -> 09,00 2022.05.13 | C8: =B8 -> 09,00 2022.05.13 | D8: =[1]май!G14 -> 13,00 2022.05.13 | E8: =D8 -> 13,00 2022.05.13
A9: =[1]май!D15 -> ЗТП-9,ф.2 ВЛ-0,4кВ Елатьма | B9: =[1]май!F15 -> 09,00 2022.05.19 | C9: =B9 -> 09,00 2022.05.19 | D9: =[1]май!G15 -> 14,00 2022.05.19 | E9: =D9 -> 14,00 2022.05.19
A10: =[1]май!D16 -> ТП-2309,ф.2 ВЛ-0,4кВ Подлипки | B10: =[1]май!F16 -> 09,40 2022.05.20 | C10: =B10 -> 09,40 2022.05.20 | D10: =[1]май!G16 -> 11,40 2022.05.20 | E10: =D10 -> 11,40 2022.05.20
A11: =[1]май!D17 -> ЗТП-9,ф.2 ВЛ-0,4кВ Елатьма | B11: =[1]май!F17 -> 09,00 2022.05.25 | C11: =B11 -> 09,00 2022.05.25 | D11: =[1]май!G17 -> 12,00 2022.05.25 | E11: =D11 -> 12,00 2022.05.25
A12: =[1]май!D18 -> ПС-Лашма ф3 ТП-1 ф1 ВЛ-0,4кВ | B12: =[1]май!F18 -> 10,00 2022.05.26 | C12: =B12 -> 10,00 2022.05.26 | D12: =[1]май!G18 -> 15,00 2022.05.26 | E12: =D12 -> 15,00 2022.05.26
