Workbook
Name _ftn1: август!#REF!
Name _ftn1: апрель!#REF!
Name _ftn1: декабрь!#REF!
Name _ftn1: июль!#REF!
Name _ftn1: май!#REF!
Name _ftn1: ноябрь!#REF!
Name _ftn1: октябрь!#REF!
Name _ftn1: сентябрь!#REF!
Name _ftnref1: август!$A$2
Name _ftnref1: апрель!$A$2
Name _ftnref1: декабрь!$A$2
Name _ftnref1: июль!$A$2
Name _ftnref1: май!$A$2
Name _ftnref1: ноябрь!$A$2
Name _ftnref1: октябрь!$A$2
Name _ftnref1: сентябрь!$A$2
Name _Toc472327096: август!$A$2
Name _Toc472327096: апрель!$A$2
Name _Toc472327096: декабрь!$A$2
Name _Toc472327096: июль!$A$2
Name _Toc472327096: май!$A$2
Name _Toc472327096: ноябрь!$A$2
Name _Toc472327096: октябрь!$A$2
Name _Toc472327096: сентябрь!$A$2
Name ccc: #REF!
Name ccc: #REF!
Name ccc: #REF!
Name ccc: #REF!
Name ccc: #REF!
Name ccc: #REF!
Name ccc: #REF!
Name ccc: #REF!
Name ccc: #REF!
Name ccc: #REF!
Name ccc: #REF!
Name ccc: #REF!
Name ccc: #REF!
Name ccc: #REF!
Name ccc: #REF!
Name ccc: #REF!
Name sub_11000_1: #N/A
Name sub_11011_1: #N/A
Name sub_12000_2: #REF!
Name sub_12000_2: #REF!
Name sub_12000_2: #REF!
Name sub_12000_2: #REF!
Name sub_12000_2: #REF!
Name sub_12000_2: #REF!
Name sub_12000_2: #REF!
Name sub_12000_2: #REF!
Name sub_12000_2: #REF!
Name sub_12000_2: #REF!
Name sub_12000_2: #REF!
Name sub_12000_2: #REF!
Name sub_12000_2: #REF!
Name sub_12000_2: #REF!
Name sub_12000_2: #REF!
Name sub_12000_2: #REF!
Name авг: #REF!
Name авг: #REF!

Sheet 1 кв.2023
A2: Форма 8.1 - Журнал учёта данных первичной информации по всем прекращениям передачи электрической энергии, произошедших на объектах электросетевых организаций за | U2: 1 квартал | W2: 2023 | X2: года
A3: МУ МПЖКХ Гусь-Железный
A4: наименование электросетевой организации
A6: Данные о факте прекращения передачи электрической энергии | J6: Признак АПВ (1 - Успешно/0 - Не успешно/2 - Отсутствует/3 - не работала (по принципу действия или выведена по режиму)) | K6: Признак АВР (1 - Успешно/0 - Не успешно/2 - Отсутствует/3 - не работала (по принципу действия или выведена по режиму)) | L6: Данные о масштабе прекращения передачи электрической энергии в сетевой организации | Y6: Перечень смежных сетевых организаций, затронутых прекращением передачи электрической энергии | Z6: Данные о причинах прекращения передачи электрической энергии и их расследовании | AC6: Учет в показателях надежности, в т.ч. индикативных показателях надежности (0 - нет, 1 - да) | AD6: Объем недопоставленной в результате аварийных отключений электроэнергии , кВт
A7: Номер прекращения передачи электрической энергии / Номер итоговой строки | B7: Наименование структурной единицы сетевой организации | C7: Вид объекта: КЛ, ВЛ, КВЛ, ПС, ТП, РП | D7: Диспетчерское наименование объекта электросетевого хозяйства сетевой организации, в результате отключения которой произошло прекращение передачи электроэнергии потребителям услуг | E7: Высший класс напряжения отключенного оборудования сетевой организации, кВ | F7: Время и дата начала прекращения передачи электрической энергии (часы, минуты, ГГГГ.ММ.ДД) | G7: Время и дата восстановления режима потребления электрической энергии потребителей услуг (часы, минуты, ГГГГ.ММ.ДД) | H7: Вид прекращения передачи электроэнергии (П, А, В) | I7: Продолжительность прекращения передачи электрической энергии, час | L7: Перечень объектов электросетевого хозяйства, отключение которых привело к прекращению передачи электрической энергии потребителям услуг (ПС, ТП, РП, ВЛ, КЛ) | M7: Перечень потребителей 1-й и 2-й категорий надежности, в отношении которых произошло полное ограничение режима потребления электрической энергии | N7: Перечень потребителей 1-й и 2-й категорий надежности, в отношении которых произошло частичное ограничение режима потребления электрической энергии | O7: Количество точек поставки потребителей услуг сетевой организации, в отношении которых произошел перерыв электроснабжения, шт., в том числе: | X7: Суммарный объем фактической нагрузки (мощности) на присоединениях потребителей услуг, по которым произошло прекращение передачи электрической энергии на момент возникновения такого события, кВт
O8: ВСЕГО | P8: в разделении категорий надежности потребителей электрической энергии | S8: в разделении уровней напряжения ЭПУ потребителя электрической энергии | W8: Смежные сетевые организации и производители электрической энергии | Z8: Номер и дата акта расследования технологического нарушения, записи в оперативном журнале | AA8: Код организационной причины аварии | AB8: Код технической причины повреждения оборудования
P9: 1-я категория надежности | Q9: 2-я категория надежности | R9: 3-я категория надежности | S9: ВН (110 кВ и выше) | T9: СН1 (35 кВ) | U9: СН2 (6-20 кВ) | V9: НН (0,22-1 кВ) | AE9: 0.041666667
A10: 1 | B10: 2 | C10: 3 | D10: 4 | E10: 5 | F10: 6 | G10: 7 | H10: 8 | I10: 9 | J10: 10 | K10: 11 | L10: 10 | M10: 11 | N10: 12 | O10: 13 | P10: 14 | Q10: 15 | R10: 16 | S10: 17 | T10: 18 | U10: 19 | V10: 20 | W10: 21 | X10: 22 | Y10: 23 | Z10: 24 | AA10: 25 | AB10: 26 | AC10: 27 | AD10: 28
A11: 1 | B11: Участок №2 | C11: ВЛ | D11: ТП-8,ф.1 ВЛ-0,4кВ Елатьма | E11: 0.38 | F11: 44935.417 | G11: 44935.562 | H11: П | I11: =(G11-F11)/AE9 -> 3.5 | J11: 2 | K11: 2 | L11: ВЛ 0,4кВ | M11: 0 | N11: 0 | O11: =SUM(P11:R11) -> 24 | P11: 0 | Q11: 0 | R11: 24 | S11: 0 | T11: 0 | U11: 0 | V11: =R11 -> 24 | W11: 0 | X11: =0.15*R11 -> 3.6 | AC11: 1 | AD11: =I11*X11 -> 12.6
A12: 2 | B12: Участок №1 | C12: ВЛ | D12: ПС Телебукино Ф 11 | E12: 10 (10.5) | F12: 44932.562 | G12: 44932.604 | H12: В | I12: =(G12-F12)/AE9 -> 1 | J12: 2 | K12: 2 | L12: ВЛ- 10кВ | M12: 0 | N12: 0 | O12: =SUM(P12:R12) -> 641 | P12: 0 | Q12: 0 | R12: 641 | S12: 0 | T12: 0 | U12: 0 | V12: =R12 -> 641 | W12: 0 | X12: =0.22*V12 -> 141.02 | Z12: №1 09.01.2023 | AA12: 3.4.8.5 | AB12: 4.21 | AC12: 1 | AD12: =I12*X12 -> 141.02
A13: 3 | B13: Участок №1 | C13: ВЛ | D13: ПС Телебукино ф11 | E13: 10 (10.5) | F13: 44939.417 | G13: 44939.49 | H13: П | I13: =(G13-F13)/AE9 -> 1.75 | J13: 2 | K13: 2 | L13: ВЛ- 10кВ | M13: 0 | N13: 0 | O13: =SUM(P13:R13) -> 641 | P13: 0 | Q13: 0 | R13: 641 | S13: 0 | T13: 0 | U13: 0 | V13: =R13 -> 641 | W13: 0 | X13: =0.22*V13 -> 141.02 | AC13: 1 | AD13: =I13*X13 -> 246.785
A14: 4 | B14: Участок №2 | C14: ВЛ | D14: ЗТП-10,ф.2 ВЛ-0,4кВ Елатьма | E14: 0.38 | F14: 44945.375 | G14: 44945.5 | H14: П | I14: =(G14-F14)/AE9 -> 3 | J14: 2 | K14: 2 | L14: ВЛ 0,4кВ | M14: 0 | N14: 0 | O14: =SUM(P14:R14) -> 22 | P14: 0 | Q14: 0 | R14: 22 | S14: 0 | T14: 0 | U14: 0 | V14: =R14 -> 22 | W14: 0 | X14: =0.22*V14 -> 4.84 | AC14: 1 | AD14: =I14*X14 -> 14.52
A15: 5 | B15: Участок №1 | C15: ВЛ | D15: ПС Лашма ф3 ТП6 Ф2 | E15: 0.38 | F15: 44945.417 | G15: 44945.667 | H15: П | I15: =(G15-F15)/AE9 -> 6 | J15: 2 | K15: 2 | L15: ВЛ- 0,4кВ | M15: 0 | N15: 0 | O15: =SUM(P15:R15) -> 24 | P15: 0 | Q15: 0 | R15: 24 | S15: 0 | T15: 0 | U15: 0 | V15: =R15 -> 24 | W15: 0 | X15: =0.22*V15 -> 5.28 | AC15: 1 | AD15: =I15*X15 -> 31.68
A16: 6 | B16: Участок №2 | C16: ВЛ | D16: ТП-8,ф.4 ВЛ-0,4кВ Елатьма | E16: 0.38 | F16: 44949.396 | G16: 44949.583 | H16: П | I16: =(G16-F16)/AE9 -> 4.5 | J16: 2 | K16: 2 | L16: ВЛ-0.4кВ | M16: 0 | N16: 0 | O16: =SUM(P16:R16) -> 17 | P16: 0 | Q16: 0 | R16: 17 | S16: 0 | T16: 0 | U16: 0 | V16: =R16 -> 17 | W16: 0 | X16: =0.22*V16 -> 3.74 | AC16: 1 | AD16: =I16*X16 -> 16.83
A17: 7 | B17: Участок №2 | C17: ВЛ | D17: ЗТП-10,ф.3 ВЛ-0,4кВ Елатьма | E17: 0.38 | F17: 44951.417 | G17: 44951.542 | H17: П | I17: =(G17-F17)/AE9 -> 3 | J17: 2 | K17: 2 | L17: ВЛ-0.4кВ | M17: 0 | N17: 0 | O17: =SUM(P17:R17) -> 20 | P17: 0 | Q17: 0 | R17: 20 | S17: 0 | T17: 0 | U17: 0 | V17: =R17 -> 20 | W17: 0 | X17: =0.22*V17 -> 4.4 | AC17: 1 | AD17: =I17*X17 -> 13.2
A18: 8 | B18: Участок №1 | C18: ВЛ | D18: ПС Телебукино ф7 ЗТП2369 Ф14 | E18: 0.38 | F18: 44953.542 | G18: 44953.667 | H18: П | I18: =(G18-F18)/AE9 -> 3 | J18: 2 | K18: 2 | L18: ВЛ- 0,4кВ | M18: 0 | N18: 0 | O18: =SUM(P18:R18) -> 41 | P18: 0 | Q18: 0 | R18: 41 | S18: 0 | T18: 0 | U18: 0 | V18: =R18 -> 41 | W18: 0 | X18: =0.22*V18 -> 9.02 | AC18: 1 | AD18: =I18*X18 -> 27.06
A19: 9 | B19: Участок №1 | C19: ВЛ | D19: ПС Касимов ф12 | E19: 10 (10.5) | F19: 44959.375 | G19: 44959.667 | H19: П | I19: =(G19-F19)/AE9 -> 7 | J19: 2 | K19: 2 | L19: ВЛ- 10кВ | M19: 0 | N19: 0 | O19: =SUM(P19:R19) -> 448 | P19: 0 | Q19: 0 | R19: 448 | S19: 0 | T19: 0 | U19: 0 | V19: =R19 -> 448 | W19: 1 | X19: =0.22*V19 -> 98.56 | AC19: 1 | AD19: =I19*X19 -> 689.92
A20: 10 | B20: Участок №2 | C20: ВЛ | D20: ТП-8,ф.4 ВЛ-0,4кВ Елатьма | E20: 0.38 | F20: 44963.375 | G20: 44963.5 | H20: П | I20: =(G20-F20)/AE9 -> 3 | J20: 2 | K20: 2 | L20: ВЛ 0,4кВ | M20: 0 | N20: 0 | O20: =SUM(P20:R20) -> 24 | P20: 0 | Q20: 0 | R20: 24 | S20: 0 | T20: 0 | U20: 0 | V20: =R20 -> 24 | W20: 2 | X20: =0.22*V20 -> 5.28 | AC20: 1 | AD20: =I20*X20 -> 15.84
A21: 11 | B21: Участок №1 | C21: ВЛ | D21: ПС Телебукино Ф 11 ЗТП 2369 Ф14 | E21: 0.38 | F21: 44964.542 | G21: 44964.625 | H21: П | I21: =(G21-F21)/AE9 -> 2 | J21: 2 | K21: 2 | L21: ВЛ- 0,4кВ | M21: 0 | N21: 0 | O21: =SUM(P21:R21) -> 17 | P21: 0 | Q21: 0 | R21: 17 | S21: 0 | T21: 0 | U21: 0 | V21: =R21 -> 17 | W21: 3 | X21: =0.22*V21 -> 3.74 | AC21: 1 | AD21: =I21*X21 -> 7.48
A22: 12 | B22: Участок №1 | C22: ВЛ | D22: ПС Телебукино Ф.11 ЗТП2479, Ф9 ВЛ 0,4кВ№9 | E22: 0.38 | F22: 44986.639 | G22: 44986.694 | H22: В | I22: =(G22-F22)/AE9 -> 1.3333333 | J22: 2 | K22: 2 | L22: ВЛ- 0,4кВ | M22: 0 | N22: 0 | O22: =SUM(P22:R22) -> 35 | P22: 0 | Q22: 0 | R22: 35 | S22: 0 | T22: 0 | U22: 0 | V22: =R22 -> 35 | W22: 0 | X22: =0.22*V22 -> 7.7 | Z22: №3 02.03.23 | AA22: 3.4.9.3 | AB22: 4.13 | AC22: 0 | AD22: =I22*X22 -> 10.266667
A23: 13 | B23: Участок №1 | C23: ВЛ | D23: ПС Телебукино Ф.14 КТП 2 Ф1 | E23: 0.38 | F23: 44987.417 | G23: 44987.583 | H23: П | I23: =(G23-F23)/AE9 -> 4 | J23: 2 | K23: 2 | L23: ВЛ- 0,4кВ | M23: 0 | N23: 0 | O23: =SUM(P23:R23) -> 33 | P23: 0 | Q23: 0 | R23: 33 | S23: 0 | T23: 0 | U23: 0 | V23: =R23 -> 33 | W23: 0 | X23: =0.22*V23 -> 7.26 | AC23: 1 | AD23: =I23*X23 -> 29.04
A24: 14 | B24: Участок №1 | C24: ВЛ | D24: ПС Телебукино Ф.14 КТП 2 Ф1 | E24: 0.38 | F24: 44994.375 | G24: 44994.625 | H24: П | I24: =(G24-F24)/AE9 -> 6 | J24: 2 | K24: 2 | L24: ВЛ- 0,4кВ | M24: 0 | N24: 0 | O24: =SUM(P24:R24) -> 33 | P24: 0 | Q24: 0 | R24: 33 | S24: 0 | T24: 0 | U24: 0 | V24: =R24 -> 33 | W24: 0 | X24: =0.22*V24 -> 7.26 | AC24: 1 | AD24: =I24*X24 -> 43.56
A25: 15 | B25: Участок №2 | C25: ВЛ | D25: ТП-2165,ф.1 ВЛ-0,4кВ Сосновка | E25: 0.38 | F25: 44994.396 | G25: 44994.479 | H25: П | I25: =(G25-F25)/AE9 -> 2 | J25: 2 | K25: 2 | L25: ВЛ- 0,4кВ №1 | M25: 0 | N25: 0 | O25: =SUM(P25:R25) -> 19 | P25: 0 | Q25: 0 | R25: 19 | S25: 0 | T25: 0 | U25: 0 | V25: =R25 -> 19 | W25: 0 | X25: =0.22*V25 -> 4.18 | AC25: 1 | AD25: =I25*X25 -> 8.36
A26: 16 | B26: Участок №1 | C26: ВЛ | D26: ПС Телебукино Ф.11 ТП 2479 | E26: 10 (10.5) | F26: 44995.438 | G26: 44995.562 | H26: В | I26: =(G26-F26)/AE9 -> 3 | J26: 2 | K26: 2 | L26: ЗТП2479 | M26: 0 | N26: 0 | O26: =SUM(P26:R26) -> 248 | P26: 0 | Q26: 0 | R26: 248 | S26: 0 | T26: 0 | U26: 0 | V26: =R26 -> 248 | W26: 0 | X26: =0.22*V26 -> 54.56 | Z26: №3 13.03.23 | AA26: 3.4.7.3 | AB26: 4.13 | AC26: 1 | AD26: =I26*X26 -> 163.68
A27: 17 | B27: Участок №2 | C27: ВЛ | D27: ТП-2165,ф.2 ВЛ-0,4кВ Сосновка | E27: 0.38 | F27: 44998.417 | G27: 44998.583 | H27: П | I27: =(G27-F27)/AE9 -> 4 | J27: 2 | K27: 2 | L27: ВЛ- 0,4кВ №2 | M27: 0 | N27: 0 | O27: =SUM(P27:R27) -> 32 | P27: 0 | Q27: 0 | R27: 32 | S27: 0 | T27: 0 | U27: 0 | V27: =R27 -> 32 | W27: 0 | X27: =0.22*V27 -> 7.04 | AC27: 1 | AD27: =I27*X27 -> 28.16
A28: 18 | B28: Участок №2 | C28: ВЛ | D28: ТП-2497,ф.1 ВЛ-0,4кВ Ласинский | E28: 0.38 | F28: 45007.396 | G28: 45007.521 | H28: П | I28: =(G28-F28)/AE9 -> 3 | J28: 2 | K28: 2 | L28: ВЛ- 0,4кВ №1 | M28: 0 | N28: 0 | O28: =SUM(P28:R28) -> 21 | P28: 0 | Q28: 0 | R28: 21 | S28: 0 | T28: 0 | U28: 0 | V28: =R28 -> 21 | W28: 0 | X28: =0.22*V28 -> 4.62 | AC28: 1 | AD28: =I28*X28 -> 13.86
A29: 19 | B29: Участок №2 | C29: ВЛ | D29: ТП-8,ф.1 ВЛ-0,4кВ Елатьма | E29: 0.38 | F29: 45008.417 | G29: 45008.5 | H29: П | I29: =(G29-F29)/AE9 -> 2 | J29: 2 | K29: 2 | L29: ВЛ- 0,4кВ №1 | M29: 0 | N29: 0 | O29: =SUM(P29:R29) -> 16 | P29: 0 | Q29: 0 | R29: 16 | S29: 0 | T29: 0 | U29: 0 | V29: =R29 -> 16 | W29: 0 | X29: =0.22*V29 -> 3.52 | AC29: 1 | AD29: =I29*X29 -> 7.04
A30: 20 | B30: Участок №2 | C30: ВЛ | D30: ЗТП-10,ф.1 ВЛ-0,4кВ Елатьма | E30: 0.38 | F30: 45012.417 | G30: 45012.604 | H30: П | I30: =(G30-F30)/AE9 -> 4.5 | J30: 2 | K30: 2 | L30: ВЛ- 0,4кВ №1 | M30: 0 | N30: 0 | O30: =SUM(P30:R30) -> 18 | P30: 0 | Q30: 0 | R30: 18 | S30: 0 | T30: 0 | U30: 0 | V30: =R30 -> 18 | W30: 0 | X30: =0.22*V30 -> 3.96 | AC30: 1 | AD30: =I30*X30 -> 17.82
A31: 21 | B31: Участок №2 | C31: ВЛ | D31: ЗТП-10,ф.1 ВЛ-0,4кВ Елатьма | E31: 0.38 | F31: 45013.417 | G31: 45013.604 | H31: П | I31: =(G31-F31)/AE9 -> 4.5 | J31: 2 | K31: 2 | L31: ВЛ- 0,4кВ №1 | M31: 0 | N31: 0 | O31: =SUM(P31:R31) -> 18 | P31: 0 | Q31: 0 | R31: 18 | S31: 0 | T31: 0 | U31: 0 | V31: =R31 -> 18 | W31: 0 | X31: =0.22*V31 -> 3.96 | AC31: 1 | AD31: =I31*X31 -> 17.82
AC32: ИТОГО: | AD32: =SUM(AD11:AD31) -> 1556.5417

Sheet 1кв
A2: Форма 8.1 - Журнал учёта данных первичной информации по всем прекращениям передачи электрической энергии, произошедших на объектах электросетевых организаций за | S2: первый | T2: квартал | U2: 2021 | V2: года
A3: МУ МПЖКХ Гусь-Железный
A4: наименование электросетевой организации
A6: Данные о факте прекращения передачи электрической энергии | J6: Данные о масштабе прекращения передачи электрической энергии в сетевой организации | W6: Перечень смежных сетевых организаций, затронутых прекращением передачи электрической энергии | X6: Данные о причинах прекращения передачи электрической энергии и их расследовании | AA6: Учет в показателях надежности, в т.ч. индикативных показателях надежности (0 - нет, 1 - да)
A7: Номер прекращения передачи электрической энергии / Номер итоговой строки | B7: Наименование структурной единицы сетевой организации | C7: Вид объекта: КЛ, ВЛ, КВЛ, ПС, ТП, РП | D7: Диспетчерское наименование объекта электросетевого хозяйства сетевой организации, в результате отключения которой произошло прекращение передачи электроэнергии потребителям услуг | E7: Высший класс напряжения отключенного оборудования сетевой организации, кВ | F7: Время и дата начала прекращения передачи электрической энергии (часы, минуты, ГГГГ.ММ.ДД) | G7: Время и дата восстановления режима потребления электрической энергии потребителей услуг (часы, минуты, ГГГГ.ММ.ДД) | H7: Вид прекращения передачи электроэнергии (П, А, В) | I7: Продолжительность прекращения передачи электрической энергии, час | J7: Перечень объектов электросетевого хозяйства, отключение которых привело к прекращению передачи электрической энергии потребителям услуг (ПС, ТП, РП, ВЛ, КЛ) | K7: Перечень потребителей 1-й и 2-й категорий надежности, в отношении которых произошло полное ограничение режима потребления электрической энергии | L7: Перечень потребителей 1-й и 2-й категорий надежности, в отношении которых произошло частичное ограничение режима потребления электрической энергии | M7: Количество точек поставки потребителей услуг сетевой организации, в отношении которых произошел перерыв электроснабжения, шт., в том числе: | V7: Суммарный объем фактической нагрузки (мощности) на присоединениях потребителей услуг, по которым произошло прекращение передачи электрической энергии на момент возникновения такого события, кВт
M8: ВСЕГО | N8: в разделении категорий надежности потребителей электрической энергии | Q8: в разделении уровней напряжения ЭПУ потребителя электрической энергии | U8: Смежные сетевые организации и производители электрической энергии | X8: Номер и дата акта расследования технологического нарушения, записи в оперативном журнале | Y8: Код организационной причины аварии | Z8: Код технической причины повреждения оборудования
N9: 1-я категория надежности | O9: 2-я категория надежности | P9: 3-я категория надежности | Q9: ВН (110 кВ и выше) | R9: СН1 (35 кВ) | S9: СН2 (6-20 кВ) | T9: НН (0,22-1 кВ) | AD9: 0.041666667
A10: 1 | B10: 2 | C10: 3 | D10: 4 | E10: 5 | F10: 6 | G10: 7 | H10: 8 | I10: 9 | J10: 10 | K10: 11 | L10: 12 | M10: 13 | N10: 14 | O10: 15 | P10: 16 | Q10: 17 | R10: 18 | S10: 19 | T10: 20 | U10: 21 | V10: 22 | W10: 23 | X10: 24 | Y10: 25 | Z10: 26 | AA10: 27
A11: ='1 кв.2023'!#REF! -> #REF! | B11: ='1 кв.2023'!#REF! -> #REF! | C11: ='1 кв.2023'!#REF! -> #REF! | D11: ='1 кв.2023'!#REF! -> #REF! | E11: ='1 кв.2023'!#REF! -> #REF! | F11: ='1 кв.2023'!#REF! -> #REF! | G11: ='1 кв.2023'!#REF! -> #REF! | H11: ='1 кв.2023'!#REF! -> #REF! | ... AA11: ='1 кв.2023'!#REF! -> #REF!
A12: ='1 кв.2023'!#REF! -> #REF! | B12: ='1 кв.2023'!#REF! -> #REF! | C12: ='1 кв.2023'!#REF! -> #REF! | D12: ='1 кв.2023'!#REF! -> #REF! | E12: ='1 кв.2023'!#REF! -> #REF! | F12: ='1 кв.2023'!#REF! -> #REF! | G12: ='1 кв.2023'!#REF! -> #REF! | H12: ='1 кв.2023'!#REF! -> #REF! | ... AA12: ='1 кв.2023'!#REF! -> #REF!
A13: ='1 кв.2023'!#REF! -> #REF! | B13: ='1 кв.2023'!#REF! -> #REF! | C13: ='1 кв.2023'!#REF! -> #REF! | D13: ='1 кв.2023'!#REF! -> #REF! | E13: ='1 кв.2023'!#REF! -> #REF! | F13: ='1 кв.2023'!#REF! -> #REF! | G13: ='1 кв.2023'!#REF! -> #REF! | H13: ='1 кв.2023'!#REF! -> #REF! | ... AA13: ='1 кв.2023'!#REF! -> #REF!
A14: ='1 кв.2023'!#REF! -> #REF! | B14: ='1 кв.2023'!#REF! -> #REF! | C14: ='1 кв.2023'!#REF! -> #REF! | D14: ='1 кв.2023'!#REF! -> #REF! | E14: ='1 кв.2023'!#REF! -> #REF! | F14: ='1 кв.2023'!#REF! -> #REF! | G14: ='1 кв.2023'!#REF! -> #REF! | H14: ='1 кв.2023'!#REF! -> #REF! | ... AA14: ='1 кв.2023'!#REF! -> #REF!
A15: ='1 кв.2023'!#REF! -> #REF! | B15: ='1 кв.2023'!#REF! -> #REF! | C15: ='1 кв.2023'!#REF! -> #REF! | D15: ='1 кв.2023'!#REF! -> #REF! | E15: ='1 кв.2023'!#REF! -> #REF! | F15: ='1 кв.2023'!#REF! -> #REF! | G15: ='1 кв.2023'!#REF! -> #REF! | H15: ='1 кв.2023'!#REF! -> #REF! | ... AA15: ='1 кв.2023'!#REF! -> #REF!
A16: ='1 кв.2023'!#REF! -> #REF! | B16: ='1 кв.2023'!#REF! -> #REF! | C16: ='1 кв.2023'!#REF! -> #REF! | D16: ='1 кв.2023'!#REF! -> #REF! | E16: ='1 кв.2023'!#REF! -> #REF! | F16: ='1 кв.2023'!#REF! -> #REF! | G16: ='1 кв.2023'!#REF! -> #REF! | H16: ='1 кв.2023'!#REF! -> #REF! | ... AA16: ='1 кв.2023'!#REF! -> #REF!
A17: ='1 кв.2023'!#REF! -> #REF! | B17: ='1 кв.2023'!#REF! -> #REF! | C17: ='1 кв.2023'!#REF! -> #REF! | D17: ='1 кв.2023'!#REF! -> #REF! | E17: ='1 кв.2023'!#REF! -> #REF! | F17: ='1 кв.2023'!#REF! -> #REF! | G17: ='1 кв.2023'!#REF! -> #REF! | H17: ='1 кв.2023'!#REF! -> #REF! | ... AA17: ='1 кв.2023'!#REF! -> #REF!
A18: ='1 кв.2023'!#REF! -> #REF! | B18: ='1 кв.2023'!#REF! -> #REF! | C18: ='1 кв.2023'!#REF! -> #REF! | D18: ='1 кв.2023'!#REF! -> #REF! | E18: ='1 кв.2023'!#REF! -> #REF! | F18: ='1 кв.2023'!#REF! -> #REF! | G18: ='1 кв.2023'!#REF! -> #REF! | H18: ='1 кв.2023'!#REF! -> #REF! | ... AA18: ='1 кв.2023'!#REF! -> #REF!
A19: =#REF! -> #REF! | B19: =#REF! -> #REF! | C19: =#REF! -> #REF! | D19: =#REF! -> #REF! | E19: =#REF! -> #REF! | F19: =#REF! -> #REF! | G19: =#REF! -> #REF! | H19: =#REF! -> #REF! | ... AA19: =#REF! -> #REF!
A20: =#REF! -> #REF! | B20: =#REF! -> #REF! | C20: =#REF! -> #REF! | D20: =#REF! -> #REF! | E20: =#REF! -> #REF! | F20: =#REF! -> #REF! | G20: =#REF! -> #REF! | H20: =#REF! -> #REF! | ... AA20: =#REF! -> #REF!
A21: =#REF! -> #REF! | B21: =#REF! -> #REF! | C21: =#REF! -> #REF! | D21: =#REF! -> #REF! | E21: =#REF! -> #REF! | F21: =#REF! -> #REF! | G21: =#REF! -> #REF! | H21: =#REF! -> #REF! | ... AA21: =#REF! -> #REF!
A22: =#REF! -> #REF! | B22: =#REF! -> #REF! | C22: =#REF! -> #REF! | D22: =#REF! -> #REF! | E22: =#REF! -> #REF! | F22: =#REF! -> #REF! | G22: =#REF! -> #REF! | H22: =#REF! -> #REF! | ... AA22: =#REF! -> #REF!
A23: =#REF! -> #REF! | B23: =#REF! -> #REF! | C23: =#REF! -> #REF! | D23: =#REF! -> #REF! | E23: =#REF! -> #REF! | F23: =#REF! -> #REF! | G23: =#REF! -> #REF! | H23: =#REF! -> #REF! | ... AA23: =#REF! -> #REF!
A24: =#REF! -> #REF! | B24: =#REF! -> #REF! | C24: =#REF! -> #REF! | D24: =#REF! -> #REF! | E24: =#REF! -> #REF! | F24: =#REF! -> #REF! | G24: =#REF! -> #REF! | H24: =#REF! -> #REF! | ... AA24: =#REF! -> #REF!
A25: =#REF! -> #REF! | B25: =#REF! -> #REF! | C25: =#REF! -> #REF! | D25: =#REF! -> #REF! | E25: =#REF! -> #REF! | F25: =#REF! -> #REF! | G25: =#REF! -> #REF! | H25: =#REF! -> #REF! | ... AA25: =#REF! -> #REF!
A26: =#REF! -> #REF! | B26: =#REF! -> #REF! | C26: =#REF! -> #REF! | D26: =#REF! -> #REF! | E26: =#REF! -> #REF! | F26: =#REF! -> #REF! | G26: =#REF! -> #REF! | H26: =#REF! -> #REF! | ... AA26: =#REF! -> #REF!
A27: =#REF! -> #REF! | B27: =#REF! -> #REF! | C27: =#REF! -> #REF! | D27: =#REF! -> #REF! | E27: =#REF! -> #REF! | F27: =#REF! -> #REF! | G27: =#REF! -> #REF! | H27: =#REF! -> #REF! | ... AA27: =#REF! -> #REF!
A28: =#REF! -> #REF! | B28: =#REF! -> #REF! | C28: =#REF! -> #REF! | D28: =#REF! -> #REF! | E28: =#REF! -> #REF! | F28: =#REF! -> #REF! | G28: =#REF! -> #REF! | H28: =#REF! -> #REF! | ... AA28: =#REF! -> #REF!
A29: =#REF! -> #REF! | B29: =#REF! -> #REF! | C29: =#REF! -> #REF! | D29: =#REF! -> #REF! | E29: =#REF! -> #REF! | F29: =#REF! -> #REF! | G29: =#REF! -> #REF! | H29: =#REF! -> #REF! | ... AA29: =#REF! -> #REF!
A30: =#REF! -> #REF! | B30: =#REF! -> #REF! | C30: =#REF! -> #REF! | D30: =#REF! -> #REF! | E30: =#REF! -> #REF! | F30: =#REF! -> #REF! | G30: =#REF! -> #REF! | H30: =#REF! -> #REF! | ... AA30: =#REF! -> #REF!
... A39: =#REF! -> #REF! | B39: =#REF! -> #REF! | C39: =#REF! -> #REF! | D39: =#REF! -> #REF! | E39: =#REF! -> #REF! | F39: =#REF! -> #REF! | G39: =#REF! -> #REF! | H39: =#REF! -> #REF! | ... AA39: =#REF! -> #REF!

Sheet апрель
A2: Форма 8.1 - Журнал учёта данных первичной информации по всем прекращениям передачи электрической энергии, произошедших на объектах электросетевых организаций за | S2: апрель | T2: месяц | U2: 2021 | V2: года
A3: МУ МПЖКХ Гусь-Железный
A4: наименование электросетевой организации
A6: Данные о факте прекращения передачи электрической энергии | J6: Признак АПВ (1 - Успешно/0 - Не успешно/2 - Отсутствует/3 - не работала (по принципу действия или выведена по режиму)) | K6: Признак АВР (1 - Успешно/0 - Не успешно/2 - Отсутствует/3 - не работала (по принципу действия или выведена по режиму)) | L6: Данные о масштабе прекращения передачи электрической энергии в сетевой организации | Y6: Перечень смежных сетевых организаций, затронутых прекращением передачи электрической энергии | Z6: Данные о причинах прекращения передачи электрической энергии и их расследовании | AC6: Учет в показателях надежности, в т.ч. индикативных показателях надежности (0 - нет, 1 - да)
A7: Номер прекращения передачи электрической энергии / Номер итоговой строки | B7: Наименование структурной единицы сетевой организации | C7: Вид объекта: КЛ, ВЛ, КВЛ, ПС, ТП, РП | D7: Диспетчерское наименование объекта электросетевого хозяйства сетевой организации, в результате отключения которой произошло прекращение передачи электроэнергии потребителям услуг | E7: Высший класс напряжения отключенного оборудования сетевой организации, кВ | F7: Время и дата начала прекращения передачи электрической энергии (часы, минуты, ГГГГ.ММ.ДД) | G7: Время и дата восстановления режима потребления электрической энергии потребителей услуг (часы, минуты, ГГГГ.ММ.ДД) | H7: Вид прекращения передачи электроэнергии (П, А, В) | I7: Продолжительность прекращения передачи электрической энергии, час | L7: Перечень объектов электросетевого хозяйства, отключение которых привело к прекращению передачи электрической энергии потребителям услуг (ПС, ТП, РП, ВЛ, КЛ) | M7: Перечень потребителей 1-й и 2-й категорий надежности, в отношении которых произошло полное ограничение режима потребления электрической энергии | N7: Перечень потребителей 1-й и 2-й категорий надежности, в отношении которых произошло частичное ограничение режима потребления электрической энергии | O7: Количество точек поставки потребителей услуг сетевой организации, в отношении которых произошел перерыв электроснабжения, шт., в том числе: | X7: Суммарный объем фактической нагрузки (мощности) на присоединениях потребителей услуг, по которым произошло прекращение передачи электрической энергии на момент возникновения такого события, кВт
O8: ВСЕГО | P8: в разделении категорий надежности потребителей электрической энергии | S8: в разделении уровней напряжения ЭПУ потребителя электрической энергии | W8: Смежные сетевые организации и производители электрической энергии | Z8: Номер и дата акта расследования технологического нарушения, записи в оперативном журнале | AA8: Код организационной причины аварии | AB8: Код технической причины повреждения оборудования
P9: 1-я категория надежности | Q9: 2-я категория надежности | R9: 3-я категория надежности | S9: ВН (110 кВ и выше) | T9: СН1 (35 кВ) | U9: СН2 (6-20 кВ) | V9: НН (0,22-1 кВ) | AD9: 0.041666667
A10: 1 | B10: 2 | C10: 3 | D10: 4 | E10: 5 | F10: 6 | G10: 7 | H10: 8 | I10: 9 | J10: 10 | K10: 11 | L10: 12 | M10: 13 | N10: 14 | O10: 15 | P10: 16 | Q10: 17 | R10: 18 | S10: 19 | T10: 20 | U10: 21 | V10: 22 | W10: 23 | X10: 24 | Y10: 25 | Z10: 26 | AA10: 27 | AB10: 28 | AC10: 29
A11: 1 | B11: Участок №1 | C11: ВЛ | D11: ЗТП-5 ВЛ-0,4кВ ф4 | E11: 0.38 | F11: 44655.417 | G11: 44655.448 | H11: В | I11: =(G11-F11)/$AD$9 -> 0.75 | J11: 2 | K11: 2 | L11: ВЛ 0,4кВ | M11: 0 | N11: 0 | O11: =SUM(P11:R11) -> 1 | P11: 0 | Q11: 0 | R11: 1 | S11: 0 | T11: 0 | U11: 0 | V11: =R11 -> 1 | W11: 0 | X11: =0.22*V11 -> 0.22 | Z11: №9 05.04.22 | AA11: 3.4.7.3 | AC11: 0 | AE11: Окисление нулевого провода на д.29 п.Ташенка
A12: 2 | B12: Участок №1 | C12: ВЛ | D12: ПС-Касимов ф12 ВЛ-10кВ | E12: 10 (10.5) | F12: 44655.542 | G12: 44655.667 | H12: В | I12: =(G12-F12)/$AD$9 -> 3 | J12: 2 | K12: 2 | L12: ВЛ 10кВ | M12: 0 | N12: 0 | O12: =SUM(P12:R12) -> 1 | P12: 0 | Q12: 0 | R12: 1 | S12: 0 | T12: 0 | U12: 0 | V12: =R12 -> 1 | W12: 0 | X12: =0.22*V12 -> 0.22 | Z12: №10 | AC12: 0 | AE12: Обрыв отпайки на храм Петра и Февронии
A13: 3 | B13: Участок №1 | C13: ВЛ | D13: п.Лашма ТП-6 ф2 | E13: 0.38 | F13: 44664.583 | G13: 44664.625 | H13: П | I13: =(G13-F13)/$AD$9 -> 1 | J13: 2 | K13: 2 | L13: ВЛ 0,4кВ | M13: 0 | N13: 0 | O13: =SUM(P13:R13) -> 1 | P13: 0 | Q13: 0 | R13: 1 | S13: 0 | T13: 0 | U13: 0 | V13: =R13 -> 1 | W13: 0 | X13: =0.22*V13 -> 0.22 | AC13: 0 | AE13: Замена ввода
A14: 4 | B14: Участок №2 | C14: ВЛ | D14: ЗТП-9, ВЛ-0,4кВ Елатьма | E14: 0.38 | F14: 44665.375 | G14: 44665.583 | H14: П | I14: =(G14-F14)/$AD$9 -> 5 | J14: 2 | K14: 2 | L14: ВЛ 0,4кВ | M14: 0 | N14: 0 | O14: =SUM(P14:R14) -> 24 | P14: 0 | Q14: 0 | R14: 24 | S14: 0 | T14: 0 | U14: 0 | V14: =R14 -> 24 | W14: 0 | X14: =0.22*V14 -> 5.28 | AC14: 0 | AE14: Ремонт ячейки РУ-0,4кВ
A15: 5 | B15: Участок №1 | C15: ВЛ | D15: ПС Зеленино ф4 ВЛ 10кВ | E15: 10 (10.5) | F15: 44666.458 | G15: 44666.583 | H15: П | I15: =(G15-F15)/$AD$9 -> 3 | J15: 2 | K15: 2 | L15: ВЛ 10кВ | M15: 0 | N15: 0 | O15: =SUM(P15:R15) -> 1 | P15: 0 | Q15: 0 | R15: 1 | S15: 0 | T15: 0 | U15: 0 | V15: =R15 -> 1 | W15: 0 | X15: =0.22*V15 -> 0.22 | AC15: 0 | AE15: По заявке АО "Касимовнеруд"
A16: 6 | B16: Участок №2 | C16: ВЛ | D16: ТП-10,ф.3 ВЛ-0,4кВ Елатьма | E16: 0.38 | F16: 44669.396 | G16: 44669.521 | H16: П | I16: =(G16-F16)/$AD$9 -> 3 | J16: 2 | K16: 2 | L16: ВЛ 0,4кВ | M16: 0 | N16: 0 | O16: =SUM(P16:R16) -> 22 | P16: 0 | Q16: 0 | R16: 22 | S16: 0 | T16: 0 | U16: 0 | V16: =R16 -> 22 | W16: 0 | X16: =0.22*V16 -> 4.84 | AC16: 0 | AE16: Замена опоры ул.Свердлова
A17: 7 | B17: Участок №1 | C17: ВЛ | D17: п Лашма ТП-1 Ф-1 | E17: 0.38 | F17: 44670.375 | G17: 44670.438 | H17: В | I17: =(G17-F17)/$AD$9 -> 1.5 | J17: 2 | K17: 2 | L17: ВЛ 0,4кВ | M17: 0 | N17: 0 | O17: =SUM(P17:R17) -> 1 | P17: 0 | Q17: 0 | R17: 1 | S17: 0 | T17: 0 | U17: 0 | V17: =R17 -> 1 | W17: 0 | X17: =0.22*V17 -> 0.22 | Z17: №11 | AC17: 0 | AE17: Отключение перекидки по ул.АК.Уткина к д.4кв.1 (провод оборвала фура)
A18: 8 | B18: Участок №2 | C18: ВЛ | D18: ТП-9,ф.2 ВЛ-0,4кВ Елатьма | E18: 0.38 | F18: 44671.375 | G18: 44671.5 | H18: П | I18: =(G18-F18)/$AD$9 -> 3 | J18: 2 | K18: 2 | L18: ВЛ 0,4кВ | M18: 0 | N18: 0 | O18: =SUM(P18:R18) -> 28 | P18: 0 | Q18: 0 | R18: 28 | S18: 0 | T18: 0 | U18: 0 | V18: =R18 -> 28 | W18: 0 | X18: =0.22*V18 -> 6.16 | AC18: 0 | AE18: Замена опоры ул.Интернациональная
A19: 9 | B19: Участок №1 | C19: ВЛ | D19: ПС Зеленино ЗТП-5 ф-3 ВЛ 10кВ | E19: 10 (10.5) | F19: 44673.396 | G19: 44673.521 | H19: П | I19: =(G19-F19)/$AD$9 -> 3 | J19: 2 | K19: 2 | L19: ВЛ 10кВ | M19: 0 | N19: 0 | O19: =SUM(P19:R19) -> 126 | P19: 0 | Q19: 0 | R19: 126 | S19: 0 | T19: 0 | U19: 0 | V19: =R19 -> 126 | W19: 0 | X19: =0.22*V19 -> 27.72 | AC19: 0 | AE19: Работа персонала РЭС
A20: 10 | B20: Участок №1 | C20: ВЛ | D20: ПС-Зеленино ЗТП-4 ф4 ВЛ-10кВ | E20: 10 (10.5) | F20: 44673.521 | G20: 44673.667 | H20: П | I20: =(G20-F20)/$AD$9 -> 3.5 | J20: 2 | K20: 2 | L20: ВЛ 10кВ | M20: 0 | N20: 0 | O20: =SUM(P20:R20) -> 221 | P20: 0 | Q20: 0 | R20: 221 | S20: 0 | T20: 0 | U20: 0 | V20: =R20 -> 221 | W20: 0 | X20: =0.22*V20 -> 48.62 | AC20: 0 | AE20: Работа персонала РЭС
A21: 11 | B21: Участок №1 | C21: ВЛ | D21: ПС-Лашма ф3 ТП-3 ВЛ-10кВ | E21: 10 (10.5) | F21: 44676.792 | G21: 44676.875 | H21: В | I21: =(G21-F21)/$AD$9 -> 2 | J21: 2 | K21: 2 | L21: ВЛ 10кВ | M21: 0 | N21: 0 | O21: =SUM(P21:R21) -> 156 | P21: 0 | Q21: 0 | R21: 156 | S21: 0 | T21: 0 | U21: 0 | V21: =R21 -> 156 | W21: 0 | X21: =0.22*V21 -> 34.32 | Z21: №12 | AC21: 1 | AE21: замена шлейфа
A22: 12 | B22: Участок №1 | C22: ВЛ | D22: ПС-Лашма ф3 ВЛ-10кВ | E22: 10 (10.5) | F22: 44677.375 | G22: 44677.458 | H22: П | I22: =(G22-F22)/$AD$9 -> 2 | J22: 2 | K22: 2 | L22: ВЛ 0,4кВ | M22: 0 | N22: 0 | O22: =SUM(P22:R22) -> 0 | P22: 0 | Q22: 0 | S22: 0 | T22: 0 | U22: 0 | V22: =R22 -> 0 | W22: 0 | X22: =0.22*V22 -> 0 | AC22: 0 | AE22: Погасла секция (РЭС)
A23: 13 | B23: Участок №2 | C23: ВЛ | D23: ТП-9,ф.2 ВЛ-0,4кВ Елатьма | E23: 0.38 | F23: 44677.396 | G23: 44677.521 | H23: П | I23: =(G23-F23)/$AD$9 -> 3 | J23: 2 | K23: 2 | L23: ВЛ 0,4кВ | M23: 0 | N23: 0 | O23: =SUM(P23:R23) -> 28 | P23: 0 | Q23: 0 | R23: 28 | S23: 0 | T23: 0 | U23: 0 | V23: =R23 -> 28 | W23: 0 | X23: =0.22*V23 -> 6.16 | AC23: 0 | AE23: Замена опоры ул.Интернациональная
A24: 14 | B24: Участок №1 | C24: ВЛ | D24: ПС-Лашма ЗТП-8 ф2 ВЛ-0,4кВ | E24: 0.38 | F24: 44679.438 | G24: 44679.5 | H24: П | I24: =(G24-F24)/$AD$9 -> 1.5 | J24: 2 | K24: 2 | L24: ВЛ 0,4кВ | M24: 0 | N24: 0 | O24: =SUM(P24:R24) -> 34 | P24: 0 | Q24: 0 | R24: 34 | S24: 0 | T24: 0 | U24: 0 | V24: =R24 -> 34 | W24: 0 | X24: =0.22*V24 -> 7.48 | AC24: 0 | AE24: Восстановление полнофазной сети ул.Набережная д.30 Лашма
A25: 15 | B25: Участок №1 | C25: ВЛ | D25: ПС-Лашма ЗТП-8 ф3 ВЛ-0,4кВ | E25: 0.38 | F25: 44679.521 | G25: 44679.583 | H25: П | I25: =(G25-F25)/$AD$9 -> 1.5 | J25: 2 | K25: 2 | L25: ВЛ 0,4кВ | M25: 0 | N25: 0 | O25: =SUM(P25:R25) -> 37 | P25: 0 | Q25: 0 | R25: 37 | S25: 0 | T25: 0 | U25: 0 | V25: =R25 -> 37 | W25: 0 | X25: =0.22*V25 -> 8.14 | AC25: 0 | AE25: Окисление контактов прекидки к д.13 Ак.к-р.

Sheet апрель план
A1: Информация о вводе в ремонт и выводе из ремонта электросетевых объектов
A2: за | B2: =B8 -> 44666.458 | C2: года
A4: Наименование объекта | B4: Дата ввода в ремонт | D4: Дата вывода из ремонта | F4: Примечания
B5: План | C5: Факт | D5: План | E5: Факт
A6: =апрель!D13 -> п.Лашма ТП-6 ф2 | B6: =апрель!F13 -> 44664.583 | C6: =B6 -> 44664.583 | D6: =апрель!G13 -> 44664.625 | E6: =D6 -> 44664.625 | H6: =апрель!H13 -> П
A7: =апрель!D14 -> ЗТП-9, ВЛ-0,4кВ Елатьма | B7: =апрель!F14 -> 44665.375 | C7: =B7 -> 44665.375 | D7: =апрель!G14 -> 44665.583 | E7: =D7 -> 44665.583 | H7: =апрель!H14 -> П
A8: =апрель!D15 -> ПС Зеленино ф4 ВЛ 10кВ | B8: =апрель!F15 -> 44666.458 | C8: =B8 -> 44666.458 | D8: =апрель!G15 -> 44666.583 | E8: =D8 -> 44666.583 | H8: =апрель!H15 -> П
A9: =апрель!D16 -> ТП-10,ф.3 ВЛ-0,4кВ Елатьма | B9: =апрель!F16 -> 44669.396 | C9: =B9 -> 44669.396 | D9: =апрель!G16 -> 44669.521 | E9: =D9 -> 44669.521 | H9: =апрель!H16 -> П
A10: =апрель!D18 -> ТП-9,ф.2 ВЛ-0,4кВ Елатьма | B10: =апрель!F18 -> 44671.375 | C10: =B10 -> 44671.375 | D10: =апрель!G18 -> 44671.5 | E10: =D10 -> 44671.5 | H10: =апрель!H18 -> П
A11: =апрель!D19 -> ПС Зеленино ЗТП-5 ф-3 ВЛ 10кВ | B11: =апрель!F19 -> 44673.396 | C11: =B11 -> 44673.396 | D11: =апрель!G19 -> 44673.521 | E11: =D11 -> 44673.521 | H11: =апрель!H19 -> П
A12: =апрель!D20 -> ПС-Зеленино ЗТП-4 ф4 ВЛ-10кВ | B12: =апрель!F20 -> 44673.521 | C12: =B12 -> 44673.521 | D12: =апрель!G20 -> 44673.667 | E12: =D12 -> 44673.667 | H12: =апрель!H20 -> П
A13: =апрель!D22 -> ПС-Лашма ф3 ВЛ-10кВ | B13: =апрель!F22 -> 44677.375 | C13: =B13 -> 44677.375 | D13: =апрель!G22 -> 44677.458 | E13: =D13 -> 44677.458 | H13: =апрель!H22 -> П
A14: =апрель!D23 -> ТП-9,ф.2 ВЛ-0,4кВ Елатьма | B14: =апрель!F23 -> 44677.396 | C14: =B14 -> 44677.396 | D14: =апрель!G23 -> 44677.521 | E14: =D14 -> 44677.521 | H14: =апрель!H23 -> П
A15: =апрель!D24 -> ПС-Лашма ЗТП-8 ф2 ВЛ-0,4кВ | B15: =апрель!F24 -> 44679.438 | C15: =B15 -> 44679.438 | D15: =апрель!G24 -> 44679.5 | E15: =D15 -> 44679.5 | H15: =апрель!H24 -> П
A16: =апрель!D25 -> ПС-Лашма ЗТП-8 ф3 ВЛ-0,4кВ | B16: =апрель!F25 -> 44679.521 | C16: =B16 -> 44679.521 | D16: =апрель!G25 -> 44679.583 | E16: =D16 -> 44679.583 | H16: =апрель!H25 -> П

Sheet май
A2: Форма 8.1 - Журнал учёта данных первичной информации по всем прекращениям передачи электрической энергии, произошедших на объектах электросетевых организаций за | S2: =G11 -> 44687.958 | T2: месяц | U2: 2021 | V2: года
A3: МУ МПЖКХ Гусь-Железный
A4: наименование электросетевой организации
A6: Данные о факте прекращения передачи электрической энергии | J6: Признак АПВ (1 - Успешно/0 - Не успешно/2 - Отсутствует/3 - не работала (по принципу действия или выведена по режиму)) | K6: Признак АВР (1 - Успешно/0 - Не успешно/2 - Отсутствует/3 - не работала (по принципу действия или выведена по режиму)) | L6: Данные о масштабе прекращения передачи электрической энергии в сетевой организации | Y6: Перечень смежных сетевых организаций, затронутых прекращением передачи электрической энергии | Z6: Данные о причинах прекращения передачи электрической энергии и их расследовании | AC6: Учет в показателях надежности, в т.ч. индикативных показателях надежности (0 - нет, 1 - да)
A7: Номер прекращения передачи электрической энергии / Номер итоговой строки | B7: Наименование структурной единицы сетевой организации | C7: Вид объекта: КЛ, ВЛ, КВЛ, ПС, ТП, РП | D7: Диспетчерское наименование объекта электросетевого хозяйства сетевой организации, в результате отключения которой произошло прекращение передачи электроэнергии потребителям услуг | E7: Высший класс напряжения отключенного оборудования сетевой организации, кВ | F7: Время и дата начала прекращения передачи электрической энергии (часы, минуты, ГГГГ.ММ.ДД) | G7: Время и дата восстановления режима потребления электрической энергии потребителей услуг (часы, минуты, ГГГГ.ММ.ДД) | H7: Вид прекращения передачи электроэнергии (П, А, В) | I7: Продолжительность прекращения передачи электрической энергии, час | L7: Перечень объектов электросетевого хозяйства, отключение которых привело к прекращению передачи электрической энергии потребителям услуг (ПС, ТП, РП, ВЛ, КЛ) | M7: Перечень потребителей 1-й и 2-й категорий надежности, в отношении которых произошло полное ограничение режима потребления электрической энергии | N7: Перечень потребителей 1-й и 2-й категорий надежности, в отношении которых произошло частичное ограничение режима потребления электрической энергии | O7: Количество точек поставки потребителей услуг сетевой организации, в отношении которых произошел перерыв электроснабжения, шт., в том числе: | X7: Суммарный объем фактической нагрузки (мощности) на присоединениях потребителей услуг, по которым произошло прекращение передачи электрической энергии на момент возникновения такого события, кВт
O8: ВСЕГО | P8: в разделении категорий надежности потребителей электрической энергии | S8: в разделении уровней напряжения ЭПУ потребителя электрической энергии | W8: Смежные сетевые организации и производители электрической энергии | Z8: Номер и дата акта расследования технологического нарушения, записи в оперативном журнале | AA8: Код организационной причины аварии | AB8: Код технической причины повреждения оборудования
P9: 1-я категория надежности | Q9: 2-я категория надежности | R9: 3-я категория надежности | S9: ВН (110 кВ и выше) | T9: СН1 (35 кВ) | U9: СН2 (6-20 кВ) | V9: НН (0,22-1 кВ) | AD9: 0.041666667
A10: 1 | B10: 2 | C10: 3 | D10: 4 | E10: 5 | F10: 6 | G10: 7 | H10: 8 | I10: 9 | J10: 10 | K10: 11 | L10: 12 | M10: 13 | N10: 14 | O10: 15 | P10: 16 | Q10: 17 | R10: 18 | S10: 19 | T10: 20 | U10: 21 | V10: 22 | W10: 23 | X10: 24 | Y10: 25 | Z10: 26 | AA10: 27 | AB10: 28 | AC10: 29
A11: 1 | B11: Участок №1 | C11: ВЛ | D11: ПС -Лашма ф5 ТП-7 ф1 ВЛ 0,4кВ | E11: 0.38 | F11: 44687.875 | G11: 44687.958 | H11: в | I11: =(G11-F11)/$AD$9 -> 2 | J11: 2 | K11: 2 | L11: ВЛ 0,4кВ №7 | M11: 0 | N11: 0 | O11: =SUM(P11:R11) -> 12 | P11: 0 | Q11: 0 | R11: 12 | S11: 0 | T11: 0 | U11: 0 | V11: =R11 -> 12 | W11: 0 | X11: =0.22*V11 -> 2.64 | Z11: №13 05.07.22 | AA11: 3.4.11 | AB11: 4.8 | AC11: 1 | AE11: Перехлест проводов
A12: 12 | B12: Участок №1 | C12: ВЛ | D12: ПС-Лашма ф3 ВЛ-10кВ | E12: 10 (10.5) | F12: 44677.375 | G12: 44677.458 | H12: П | I12: =(G12-F12)/$AD$9 -> 2 | J12: 2 | K12: 2 | L12: ВЛ 0,4кВ | M12: 0 | N12: 0 | O12: =SUM(P12:R12) -> 0 | P12: 0 | Q12: 0 | S12: 0 | T12: 0 | U12: 0 | V12: =R12 -> 0 | W12: 0 | X12: =0.22*V12 -> 0 | AC12: 0 | AE12: Погасла секция (РЭС)
A13: 13 | B13: Участок №2 | C13: ВЛ | D13: ТП-9,ф.2 ВЛ-0,4кВ Елатьма | E13: 0.38 | F13: 44677.396 | G13: 44677.521 | H13: П | I13: =(G13-F13)/$AD$9 -> 3 | J13: 2 | K13: 2 | L13: ВЛ 0,4кВ | M13: 0 | N13: 0 | O13: =SUM(P13:R13) -> 28 | P13: 0 | Q13: 0 | R13: 28 | S13: 0 | T13: 0 | U13: 0 | V13: =R13 -> 28 | W13: 0 | X13: =0.22*V13 -> 6.16 | AC13: 0 | AE13: Замена опоры ул.Интернациональная
A14: 14 | B14: Участок №1 | C14: ВЛ | D14: ПС-Лашма ЗТП-8 ф2 ВЛ-0,4кВ | E14: 0.38 | F14: 44679.438 | G14: 44679.5 | H14: П | I14: =(G14-F14)/$AD$9 -> 1.5 | J14: 2 | K14: 2 | L14: ВЛ 0,4кВ | M14: 0 | N14: 0 | O14: =SUM(P14:R14) -> 34 | P14: 0 | Q14: 0 | R14: 34 | S14: 0 | T14: 0 | U14: 0 | V14: =R14 -> 34 | W14: 0 | X14: =0.22*V14 -> 7.48 | AC14: 0 | AE14: Восстановление полнофазной сети ул.Набережная д.30 Лашма
A15: 15 | B15: Участок №1 | C15: ВЛ | D15: ПС-Лашма ЗТП-8 ф3 ВЛ-0,4кВ | E15: 0.38 | F15: 44679.521 | G15: 44679.583 | H15: П | I15: =(G15-F15)/$AD$9 -> 1.5 | J15: 2 | K15: 2 | L15: ВЛ 0,4кВ | M15: 0 | N15: 0 | O15: =SUM(P15:R15) -> 37 | P15: 0 | Q15: 0 | R15: 37 | S15: 0 | T15: 0 | U15: 0 | V15: =R15 -> 37 | W15: 0 | X15: =0.22*V15 -> 8.14 | AC15: 0 | AE15: Окисление контактов прекидки к д.13 Ак.к-р.

Sheet май план
A1: Информация о вводе в ремонт и выводе из ремонта электросетевых объектов
A2: за | B2: апрель | C2: года
A4: Наименование объекта | B4: Дата ввода в ремонт | D4: Дата вывода из ремонта | F4: Примечания
B5: План | C5: Факт | D5: План | E5: Факт
A6: =май!D12 -> ПС-Лашма ф3 ВЛ-10кВ | B6: =май!F12 -> 44677.375 | C6: =B6 -> 44677.375 | D6: =май!G12 -> 44677.458 | E6: =D6 -> 44677.458 | H6: =май!H12 -> П
A7: =май!D13 -> ТП-9,ф.2 ВЛ-0,4кВ Елатьма | B7: =май!F13 -> 44677.396 | C7: =B7 -> 44677.396 | D7: =май!G13 -> 44677.521 | E7: =D7 -> 44677.521 | H7: =май!H13 -> П
A8: =май!D14 -> ПС-Лашма ЗТП-8 ф2 ВЛ-0,4кВ | B8: =май!F14 -> 44679.438 | C8: =B8 -> 44679.438 | D8: =май!G14 -> 44679.5 | E8: =D8 -> 44679.5 | H8: =май!H14 -> П
A9: =май!D15 -> ПС-Лашма ЗТП-8 ф3 ВЛ-0,4кВ | B9: =май!F15 -> 44679.521 | C9: =B9 -> 44679.521 | D9: =май!G15 -> 44679.583 | E9: =D9 -> 44679.583 | H9: =май!H15 -> П

Sheet июнь
A2: Форма 8.1 - Журнал учёта данных первичной информации по всем прекращениям передачи электрической энергии, произошедших на объектах электросетевых организаций за | Q2: июнь | R2: месяц | S2: 2022 | T2: года
A3: МУ МПЖКХ Гусь-Железный
A4: наименование электросетевой организации
A6: Данные о факте прекращения передачи электрической энергии | J6: Данные о масштабе прекращения передачи электрической энергии в сетевой организации | W6: Перечень смежных сетевых организаций, затронутых прекращением передачи электрической энергии | X6: Данные о причинах прекращения передачи электрической энергии и их расследовании | AA6: Учет в показателях надежности, в т.ч. индикативных показателях надежности (0 - нет, 1 - да)
A7: Номер прекращения передачи электрической энергии / Номер итоговой строки | B7: Наименование структурной единицы сетевой организации | C7: Вид объекта: КЛ, ВЛ, КВЛ, ПС, ТП, РП | D7: Диспетчерское наименование объекта электросетевого хозяйства сетевой организации, в результате отключения которой произошло прекращение передачи электроэнергии потребителям услуг | E7: Высший класс напряжения отключенного оборудования сетевой организации, кВ | F7: Время и дата начала прекращения передачи электрической энергии (часы, минуты, ГГГГ.ММ.ДД) | G7: Время и дата восстановления режима потребления электрической энергии потребителей услуг (часы, минуты, ГГГГ.ММ.ДД) | H7: Вид прекращения передачи электроэнергии (П, А, В) | I7: Продолжительность прекращения передачи электрической энергии, час | J7: Перечень объектов электросетевого хозяйства, отключение которых привело к прекращению передачи электрической энергии потребителям услуг (ПС, ТП, РП, ВЛ, КЛ) | K7: Перечень потребителей 1-й и 2-й категорий надежности, в отношении которых произошло полное ограничение режима потребления электрической энергии | L7: Перечень потребителей 1-й и 2-й категорий надежности, в отношении которых произошло частичное ограничение режима потребления электрической энергии | M7: Количество точек поставки потребителей услуг сетевой организации, в отношении которых произошел перерыв электроснабжения, шт., в том числе: | V7: Суммарный объем фактической нагрузки (мощности) на присоединениях потребителей услуг, по которым произошло прекращение передачи электрической энергии на момент возникновения такого события, кВт
M8: ВСЕГО | N8: в разделении категорий надежности потребителей электрической энергии | Q8: в разделении уровней напряжения ЭПУ потребителя электрической энергии | U8: Смежные сетевые организации и производители электрической энергии | X8: Номер и дата акта расследования технологического нарушения, записи в оперативном журнале | Y8: Код организационной причины аварии | Z8: Код технической причины повреждения оборудования
N9: 1-я категория надежности | O9: 2-я категория надежности | P9: 3-я категория надежности | Q9: ВН (110 кВ и выше) | R9: СН1 (35 кВ) | S9: СН2 (6-20 кВ) | T9: НН (0,22-1 кВ) | AD9: 0.041666667
A10: 1 | B10: 2 | C10: 3 | D10: 4 | E10: 5 | F10: 6 | G10: 7 | H10: 8 | I10: 9 | J10: 10 | K10: 11 | L10: 12 | M10: 13 | N10: 14 | O10: 15 | P10: 16 | Q10: 17 | R10: 18 | S10: 19 | T10: 20 | U10: 21 | V10: 22 | W10: 23 | X10: 24 | Y10: 25 | Z10: 26 | AA10: 27
A11: 1 | B11: Участок №1 | C11: ПС | D11: ПС-Зеленино ВЛ-10кВ ф3, ф4 | E11: 10 (10.5) | F11: 44715.604 | G11: 44715.646 | H11: В | I11: =(G11-F11)/$AD$9 -> 1 | J11: ВЛ-10кВ ф3, ф4 | K11: 0 | L11: 0 | M11: 241 | N11: 0 | O11: 0 | P11: 241 | Q11: 0 | R11: 0 | S11: 0 | T11: 241 | U11: 0 | V11: =0.22*T11 -> 53.02 | X11: №14 05.06.22 | Y11: 3.4.9.1,3.4.14 | Z11: 4.21 | AA11: 0
A12: 2 | B12: Участок №2 | C12: ВЛ | D12: ТП-5,ф.3 ВЛ-0,4кВ Елатьма | E12: 0.38 | F12: 44720.382 | G12: 44720.549 | H12: П | I12: =(G12-F12)/$AD$9 -> 4 | J12: ВЛ0,4кВ №3 | K12: 0 | L12: 0 | M12: 123 | N12: 0 | O12: 0 | P12: 123 | Q12: 0 | R12: 0 | S12: 0 | T12: 123 | U12: 0 | V12: =0.22*T12 -> 27.06 | AA12: 1
A13: 3 | B13: Участок №2 | C13: ВЛ | D13: ТП-2309,ф.2 ВЛ-0,4кВ Подлипки | E13: 0.38 | F13: 44735.375 | G13: 44735.542 | H13: П | I13: =(G13-F13)/$AD$9 -> 4 | J13: ВЛ0,4кВ №2 | K13: 0 | L13: 0 | M13: 201 | N13: 0 | O13: 0 | P13: 201 | Q13: 0 | R13: 0 | S13: 0 | T13: 201 | U13: 0 | V13: =0.22*T13 -> 44.22 | AA13: 1
A14: 4 | B14: Участок №2 | C14: ВЛ | D14: ЦРП-10кВ, ф.3 Елатьма | E14: 10 (10.5) | F14: 44741.54 | G14: 44741.572 | H14: П | I14: =(G14-F14)/$AD$9 -> 0.76666667 | J14: ВЛ10кВ №3 | K14: 0 | L14: 0 | M14: 722 | N14: 0 | O14: 0 | P14: 722 | Q14: 0 | R14: 0 | S14: 0 | T14: 722 | U14: 0 | V14: =0.22*T14 -> 158.84 | AA14: 1

Sheet июнь план
A1: Информация о вводе в ремонт и выводе из ремонта электросетевых объектов
A2: за | B2: =B8 -> 44741.54 | C2: года
A4: Наименование объекта | B4: Дата ввода в ремонт | D4: Дата вывода из ремонта | F4: Примечания
B5: План | C5: Факт | D5: План | E5: Факт
A6: =июнь!D12 -> ТП-5,ф.3 ВЛ-0,4кВ Елатьма | B6: =июнь!F12 -> 44720.382 | C6: =B6 -> 44720.382 | D6: =июнь!G12 -> 44720.549 | E6: =D6 -> 44720.549 | H6: =июнь!H12 -> П
A7: =июнь!D13 -> ТП-2309,ф.2 ВЛ-0,4кВ Подлипки | B7: =июнь!F13 -> 44735.375 | C7: =B7 -> 44735.375 | D7: =июнь!G13 -> 44735.542 | E7: =D7 -> 44735.542 | H7: =июнь!H13 -> П
A8: =июнь!D14 -> ЦРП-10кВ, ф.3 Елатьма | B8: =июнь!F14 -> 44741.54 | C8: =B8 -> 44741.54 | D8: =июнь!G14 -> 44741.572 | E8: =D8 -> 44741.572 | H8: =июнь!H14 -> П

Sheet июль
A2: Форма 8.1 - Журнал учёта данных первичной информации по всем прекращениям передачи электрической энергии, произошедших на объектах электросетевых организаций за | Q2: июнь | R2: месяц | S2: 2022 | T2: года
A3: МУ МПЖКХ Гусь-Железный
A4: наименование электросетевой организации
A6: Данные о факте прекращения передачи электрической энергии | J6: Данные о масштабе прекращения передачи электрической энергии в сетевой организации | W6: Перечень смежных сетевых организаций, затронутых прекращением передачи электрической энергии | X6: Данные о причинах прекращения передачи электрической энергии и их расследовании | AA6: Учет в показателях надежности, в т.ч. индикативных показателях надежности (0 - нет, 1 - да)
A7: Номер прекращения передачи электрической энергии / Номер итоговой строки | B7: Наименование структурной единицы сетевой организации | C7: Вид объекта: КЛ, ВЛ, КВЛ, ПС, ТП, РП | D7: Диспетчерское наименование объекта электросетевого хозяйства сетевой организации, в результате отключения которой произошло прекращение передачи электроэнергии потребителям услуг | E7: Высший класс напряжения отключенного оборудования сетевой организации, кВ | F7: Время и дата начала прекращения передачи электрической энергии (часы, минуты, ГГГГ.ММ.ДД) | G7: Время и дата восстановления режима потребления электрической энергии потребителей услуг (часы, минуты, ГГГГ.ММ.ДД) | H7: Вид прекращения передачи электроэнергии (П, А, В) | I7: Продолжительность прекращения передачи электрической энергии, час | J7: Перечень объектов электросетевого хозяйства, отключение которых привело к прекращению передачи электрической энергии потребителям услуг (ПС, ТП, РП, ВЛ, КЛ) | K7: Перечень потребителей 1-й и 2-й категорий надежности, в отношении которых произошло полное ограничение режима потребления электрической энергии | L7: Перечень потребителей 1-й и 2-й категорий надежности, в отношении которых произошло частичное ограничение режима потребления электрической энергии | M7: Количество точек поставки потребителей услуг сетевой организации, в отношении которых произошел перерыв электроснабжения, шт., в том числе: | V7: Суммарный объем фактической нагрузки (мощности) на присоединениях потребителей услуг, по которым произошло прекращение передачи электрической энергии на момент возникновения такого события, кВт
M8: ВСЕГО | N8: в разделении категорий надежности потребителей электрической энергии | Q8: в разделении уровней напряжения ЭПУ потребителя электрической энергии | U8: Смежные сетевые организации и производители электрической энергии | X8: Номер и дата акта расследования технологического нарушения, записи в оперативном журнале | Y8: Код организационной причины аварии | Z8: Код технической причины повреждения оборудования
N9: 1-я категория надежности | O9: 2-я категория надежности | P9: 3-я категория надежности | Q9: ВН (110 кВ и выше) | R9: СН1 (35 кВ) | S9: СН2 (6-20 кВ) | T9: НН (0,22-1 кВ) | AD9: 0.041666667
A10: 1 | B10: 2 | C10: 3 | D10: 4 | E10: 5 | F10: 6 | G10: 7 | H10: 8 | I10: 9 | J10: 10 | K10: 11 | L10: 12 | M10: 13 | N10: 14 | O10: 15 | P10: 16 | Q10: 17 | R10: 18 | S10: 19 | T10: 20 | U10: 21 | V10: 22 | W10: 23 | X10: 24 | Y10: 25 | Z10: 26 | AA10: 27
A11: 1 | B11: Участок №1 | C11: ТП | D11: ПС Телебукино Ф-5, ТП 2553 | E11: 10 (10.5) | F11: 44747.417 | G11: 44747.708 | H11: П | I11: =(G11-F11)/$AD$9 -> 7 | J11: ТП2553 | K11: 0 | L11: 0 | M11: 241 | N11: 0 | O11: 0 | P11: 241 | Q11: 0 | R11: 0 | S11: 0 | T11: 241 | U11: 0 | V11: =0.22*T11 -> 53.02 | X11: №14 05.06.22 | Y11: 3.4.9.1,3.4.14 | Z11: 4.21 | AA11: 1
A12: 2 | B12: Участок №1 | C12: ТП | D12: ТП-6 п.Лашма | E12: 10 (10.5) | F12: 44750.458 | G12: 44750.5 | H12: П | I12: =(G12-F12)/$AD$9 -> 1 | J12: ТП-6 | K12: 0 | L12: 0 | M12: 123 | N12: 0 | O12: 0 | P12: 123 | Q12: 0 | R12: 0 | S12: 0 | T12: 123 | U12: 0 | V12: =0.22*T12 -> 27.06 | AA12: 1
A13: 3 | B13: Участок №1 | C13: ВЛ | D13: ТП-1 п. Лашма ф-1 ВЛ-0,4кВ | E13: 0.38 | F13: 44751.417 | G13: 44751.458 | H13: В | I13: =(G13-F13)/$AD$9 -> 1 | J13: ВЛ 0,4кВ | K13: 0 | L13: 0 | M13: =P13 -> 137 | N13: 0 | O13: 0 | P13: 137 | Q13: 0 | R13: 0 | S13: 0 | T13: =P13 -> 137 | U13: 0 | V13: =0.22*T13 -> 30.14 | X13: №15 11.07.22 | Y13: 3.4.9.3 | Z13: 4.4 | AA13: 0
A14: 4 | B14: Участок №1 | C14: ВЛ | D14: ТП-2591 п. Лощинино Ф-3, ВЛ-0,4кВ | E14: 0.38 | F14: 44755.417 | G14: 44755.5 | H14: П | I14: =(G14-F14)/$AD$9 -> 2 | J14: ВЛ- 0,4кВ | K14: 0 | L14: 0 | M14: 722 | N14: 0 | O14: 0 | P14: 722 | Q14: 0 | R14: 0 | S14: 0 | T14: 722 | U14: 0 | V14: =0.22*T14 -> 158.84 | AA14: 1
A15: 5 | B15: Участок №1 | C15: ТП | D15: ТП-2284 Рыбхоз. | E15: 0.38 | F15: 44756.375 | G15: 44756.458 | H15: В | I15: =(G15-F15)/$AD$9 -> 2 | J15: ТП-2484 | K15: 0 | L15: 0 | M15: =P15 -> 1 | N15: 0 | O15: 0 | P15: 1 | Q15: 0 | R15: 0 | S15: 0 | T15: =P15 -> 1 | U15: 0 | V15: =0.22*T15 -> 0.22 | X15: №16 15.07.22 | Y15: 3.4.9.3 | Z15: 4.13 | AA15: 0
A16: 6 | B16: Участок №1 | C16: ТП | D16: ТП-2284 Рыбхоз. Ф-1 | E16: 0.38 | F16: 44757.458 | G16: 44757.625 | H16: П | I16: =(G16-F16)/$AD$9 -> 4 | J16: ТП-2484 | K16: 0 | L16: 0 | M16: =P16 -> 1 | N16: 0 | O16: 0 | P16: 1 | Q16: 0 | R16: 0 | S16: 0 | T16: =P16 -> 1 | U16: 0 | V16: =0.22*T16 -> 0.22 | AA16: 1
A17: 7 | B17: Участок №2 | C17: ВЛ | D17: ТП-5,ф.3 ВЛ-0,4кВ Елатьма | E17: 0.38 | F17: 44760.375 | G17: 44760.5 | H17: П | I17: =(G17-F17)/$AD$9 -> 3 | J17: ВЛ 0,4кВ | K17: 0 | L17: 0 | M17: =P17 -> 18 | N17: 0 | O17: 0 | P17: 18 | Q17: 0 | R17: 0 | S17: 0 | T17: =P17 -> 18 | U17: 0 | V17: =0.22*T17 -> 3.96 | AA17: 1
A18: 8 | B18: Участок №1 | C18: ВЛ | D18: ТП-1 п.Лашма ф-3 ВЛ 0,4кВ | E18: 0.38 | F18: 44760.823 | G18: 44760.993 | H18: В | I18: =(G18-F18)/$AD$9 -> 4.0833333 | J18: ВЛ 0,4кВ | K18: 0 | L18: 0 | M18: =P18 -> 137 | N18: 0 | O18: 0 | P18: 137 | Q18: 0 | R18: 0 | S18: 0 | T18: =P18 -> 137 | U18: 0 | V18: =0.22*T18 -> 30.14 | X18: №18 19.07.22 | Y18: 3.4.12.2 | Z18: 4.4 | AA18: 1
A19: 9 | B19: Участок №2 | C19: ВЛ | D19: ТП-2179,ф.1 ВЛ-0,4кВ Любовниково | E19: 0.38 | F19: 44761.375 | G19: 44761.521 | H19: П | I19: =(G19-F19)/$AD$9 -> 3.5 | J19: ВЛ 0,4кВ | K19: 0 | L19: 0 | M19: =P19 -> 7 | N19: 0 | O19: 0 | P19: 7 | Q19: 0 | R19: 0 | S19: 0 | T19: =P19 -> 7 | U19: 0 | V19: =0.22*T19 -> 1.54 | AA19: 1
A20: 10 | B20: Участок №2 | C20: ВЛ | D20: ТП-2179,ф.1 ВЛ-0,4кВ Любовниково | E20: 0.38 | F20: 44762.375 | G20: 44762.5 | H20: П | I20: =(G20-F20)/$AD$9 -> 3 | J20: ВЛ 0,4кВ | K20: 0 | L20: 0 | M20: =P20 -> 7 | N20: 0 | O20: 0 | P20: 7 | Q20: 0 | R20: 0 | S20: 0 | T20: =P20 -> 7 | U20: 0 | V20: =0.22*T20 -> 1.54 | AA20: 1
A21: 11 | B21: Участок №2 | C21: ВЛ | D21: ТП-2179,ф.1 ВЛ-0,4кВ Любовниково | E21: 0.38 | F21: 44763.375 | G21: 44763.5 | H21: П | I21: =(G21-F21)/$AD$9 -> 3 | J21: ВЛ 0,4кВ | K21: 0 | L21: 0 | M21: =P21 -> 7 | N21: 0 | O21: 0 | P21: 7 | Q21: 0 | R21: 0 | S21: 0 | T21: =P21 -> 7 | U21: 0 | V21: =0.22*T21 -> 1.54 | AA21: 1
A22: 12 | B22: Участок №1 | C22: ТП | D22: п.Лашма Ф-2 | E22: 0.38 | F22: 44763.458 | G22: 44763.5 | H22: В | I22: =(G22-F22)/$AD$9 -> 1 | J22: ТП-8 | K22: 0 | L22: 0 | M22: =P22 -> 98 | N22: 0 | O22: 0 | P22: 98 | Q22: 0 | R22: 0 | S22: 0 | T22: =P22 -> 98 | U22: 0 | V22: =0.22*T22 -> 21.56 | X22: №19 22.07.22 | Y22: 3.4.9.3 | Z22: 4.13 | AA22: 0
A23: 13 | B23: Участок №2 | C23: ВЛ | D23: ТП-2179,ф.1 ВЛ-0,4кВ Любовниково | E23: 0.38 | F23: 44764.375 | G23: 44764.5 | H23: П | I23: =(G23-F23)/$AD$9 -> 3 | J23: ВЛ 0,4кВ | K23: 0 | L23: 0 | M23: =P23 -> 7 | N23: 0 | O23: 0 | P23: 7 | Q23: 0 | R23: 0 | S23: 0 | T23: =P23 -> 7 | U23: 0 | V23: =0.22*T23 -> 1.54 | AA23: 1
A24: 14 | B24: Участок №1 | C24: ВЛ | D24: ТП-7 п.Лашма ф-1 ВЛ 0,4кВ | E24: 0.38 | F24: 44764.583 | G24: 44764.625 | H24: В | I24: =(G24-F24)/$AD$9 -> 1 | J24: ВЛ 0,4кВ | K24: 0 | L24: 0 | M24: =P24 -> 29 | N24: 0 | O24: 0 | P24: 29 | Q24: 0 | R24: 0 | S24: 0 | T24: =P24 -> 29 | U24: 0 | V24: =0.22*T24 -> 6.38 | X24: №20 25.07.22 | Y24: 3.4.9.3 | Z24: 4.13 | AA24: 0
A25: 15 | B25: Участок №1 | C25: ТП | D25: ТП-2591 п. Лощинино | E25: 10 (10.5) | F25: 44765.208 | G25: 44765.528 | H25: П | I25: =(G25-F25)/$AD$9 -> 7.6666667 | J25: ТП-2591 | K25: 0 | L25: 0 | M25: =P25 -> 128 | N25: 0 | O25: 0 | P25: 128 | Q25: 0 | R25: 0 | S25: 0 | T25: =P25 -> 128 | U25: 0 | V25: =0.22*T25 -> 28.16 | AA25: 1
A26: 16 | B26: Участок №2 | C26: ВЛ | D26: ТП-2179,ф.1 ВЛ-0,4кВ Любовниково | E26: 0.38 | F26: 44767.375 | G26: 44767.5 | H26: П | I26: =(G26-F26)/$AD$9 -> 3 | J26: ВЛ 0,4кВ | K26: 0 | L26: 0 | M26: =P26 -> 7 | N26: 0 | O26: 0 | P26: 7 | Q26: 0 | R26: 0 | S26: 0 | T26: =P26 -> 7 | U26: 0 | V26: =0.22*T26 -> 1.54 | AA26: 1
A27: 17 | B27: Участок №2 | C27: ВЛ | D27: ТП-2179,ф.1 ВЛ-0,4кВ Любовниково | E27: 0.38 | F27: 44768.375 | G27: 44768.5 | H27: П | I27: =(G27-F27)/$AD$9 -> 3 | J27: ВЛ 0,4кВ | K27: 0 | L27: 0 | M27: =P27 -> 7 | N27: 0 | O27: 0 | P27: 7 | Q27: 0 | R27: 0 | S27: 0 | T27: =P27 -> 7 | U27: 0 | V27: =0.22*T27 -> 1.54 | AA27: 1
B28: Участок №2 | D28: ТП-2179,ф.1 ВЛ-0,4кВ Любовниково | E28: 0.38 | F28: 44768.375 | G28: 44768.5 | H28: П | I28: =(G28-F28)/$AD$9 -> 3 | J28: ВЛ 0,4кВ

Sheet июль план
A1: Информация о вводе в ремонт и выводе из ремонта электросетевых объектов
A2: за | B2: =B6 -> 44747.417 | C2: года
A4: Наименование объекта | B4: Дата ввода в ремонт | D4: Дата вывода из ремонта | F4: Примечания
B5: План | C5: Факт | D5: План | E5: Факт
A6: =июль!D11 -> ПС Телебукино Ф-5, ТП 2553 | B6: =июль!F11 -> 44747.417 | C6: =B6 -> 44747.417 | D6: =июль!G11 -> 44747.708 | E6: =D6 -> 44747.708 | H6: =июль!H11 -> П
A7: =июль!D12 -> ТП-6 п.Лашма | B7: =июль!F12 -> 44750.458 | C7: =B7 -> 44750.458 | D7: =июль!G12 -> 44750.5 | E7: =D7 -> 44750.5 | H7: =июль!H12 -> П
A9: =июль!D14 -> ТП-2591 п. Лощинино Ф-3, ВЛ-0,4кВ | B9: =июль!F14 -> 44755.417 | C9: =B9 -> 44755.417 | D9: =июль!G14 -> 44755.5 | E9: =D9 -> 44755.5 | H9: =июль!H14 -> П
A12: =июль!D17 -> ТП-5,ф.3 ВЛ-0,4кВ Елатьма | B12: =июль!F17 -> 44760.375 | C12: =B12 -> 44760.375 | D12: =июль!G17 -> 44760.5 | E12: =D12 -> 44760.5 | H12: =июль!H17 -> П
A13: =июль!D18 -> ТП-1 п.Лашма ф-3 ВЛ 0,4кВ | B13: =июль!F18 -> 44760.823 | C13: =B13 -> 44760.823 | D13: =июль!G18 -> 44760.993 | E13: =D13 -> 44760.993 | H13: =июль!H18 -> В
A15: =июль!D20 -> ТП-2179,ф.1 ВЛ-0,4кВ Любовниково | B15: =июль!F20 -> 44762.375 | C15: =B15 -> 44762.375 | D15: =июль!G20 -> 44762.5 | E15: =D15 -> 44762.5 | H15: =июль!H20 -> П
A16: =июль!D21 -> ТП-2179,ф.1 ВЛ-0,4кВ Любовниково | B16: =июль!F21 -> 44763.375 | C16: =B16 -> 44763.375 | D16: =июль!G21 -> 44763.5 | E16: =D16 -> 44763.5 | H16: =июль!H21 -> П
A17: =июль!D22 -> п.Лашма Ф-2 | B17: =июль!F22 -> 44763.458 | C17: =B17 -> 44763.458 | D17: =июль!G22 -> 44763.5 | E17: =D17 -> 44763.5 | H17: =июль!H22 -> В
A19: =июль!D24 -> ТП-7 п.Лашма ф-1 ВЛ 0,4кВ | B19: =июль!F24 -> 44764.583 | C19: =B19 -> 44764.583 | D19: =июль!G24 -> 44764.625 | E19: =D19 -> 44764.625 | H19: =июль!H24 -> В
A21: =июль!D26 -> ТП-2179,ф.1 ВЛ-0,4кВ Любовниково | B21: =июль!F26 -> 44767.375 | C21: =B21 -> 44767.375 | D21: =июль!G26 -> 44767.5 | E21: =D21 -> 44767.5 | H21: =июль!H26 -> П
A22: =июль!D27 -> ТП-2179,ф.1 ВЛ-0,4кВ Любовниково | B22: =июль!F27 -> 44768.375 | C22: =B22 -> 44768.375 | D22: =июль!G27 -> 44768.5 | E22: =D22 -> 44768.5 | H22: =июль!H27 -> П
A23: =июль!D28 -> ТП-2179,ф.1 ВЛ-0,4кВ Любовниково | B23: =июль!F28 -> 44768.375 | C23: =B23 -> 44768.375 | D23: =июль!G28 -> 44768.5 | E23: =D23 -> 44768.5 | H23: =июль!H28 -> П
A24: =июль!D29 -> 0 | B24: =июль!F29 -> 0 | C24: =B24 -> 0 | D24: =июль!G29 -> 0 | E24: =D24 -> 0 | H24: =июль!H29 -> 0

Sheet август
A2: Форма 8.1 - Журнал учёта данных первичной информации по всем прекращениям передачи электрической энергии, произошедших на объектах электросетевых организаций за | Q2: =#REF! -> #REF! | R2: месяц | S2: 2022 | T2: года
A3: МУ МПЖКХ Гусь-Железный
A4: наименование электросетевой организации
A6: Данные о факте прекращения передачи электрической энергии | J6: Данные о масштабе прекращения передачи электрической энергии в сетевой организации | W6: Перечень смежных сетевых организаций, затронутых прекращением передачи электрической энергии | X6: Данные о причинах прекращения передачи электрической энергии и их расследовании | AA6: Учет в показателях надежности, в т.ч. индикативных показателях надежности (0 - нет, 1 - да)
A7: Номер прекращения передачи электрической энергии / Номер итоговой строки | B7: Наименование структурной единицы сетевой организации | C7: Вид объекта: КЛ, ВЛ, КВЛ, ПС, ТП, РП | D7: Диспетчерское наименование объекта электросетевого хозяйства сетевой организации, в результате отключения которой произошло прекращение передачи электроэнергии потребителям услуг | E7: Высший класс напряжения отключенного оборудования сетевой организации, кВ | F7: Время и дата начала прекращения передачи электрической энергии (часы, минуты, ГГГГ.ММ.ДД) | G7: Время и дата восстановления режима потребления электрической энергии потребителей услуг (часы, минуты, ГГГГ.ММ.ДД) | H7: Вид прекращения передачи электроэнергии (П, А, В) | I7: Продолжительность прекращения передачи электрической энергии, час | J7: Перечень объектов электросетевого хозяйства, отключение которых привело к прекращению передачи электрической энергии потребителям услуг (ПС, ТП, РП, ВЛ, КЛ) | K7: Перечень потребителей 1-й и 2-й категорий надежности, в отношении которых произошло полное ограничение режима потребления электрической энергии | L7: Перечень потребителей 1-й и 2-й категорий надежности, в отношении которых произошло частичное ограничение режима потребления электрической энергии | M7: Количество точек поставки потребителей услуг сетевой организации, в отношении которых произошел перерыв электроснабжения, шт., в том числе: | V7: Суммарный объем фактической нагрузки (мощности) на присоединениях потребителей услуг, по которым произошло прекращение передачи электрической энергии на момент возникновения такого события, кВт
M8: ВСЕГО | N8: в разделении категорий надежности потребителей электрической энергии | Q8: в разделении уровней напряжения ЭПУ потребителя электрической энергии | U8: Смежные сетевые организации и производители электрической энергии | X8: Номер и дата акта расследования технологического нарушения, записи в оперативном журнале | Y8: Код организационной причины аварии | Z8: Код технической причины повреждения оборудования
N9: 1-я категория надежности | O9: 2-я категория надежности | P9: 3-я категория надежности | Q9: ВН (110 кВ и выше) | R9: СН1 (35 кВ) | S9: СН2 (6-20 кВ) | T9: НН (0,22-1 кВ) | AD9: 0.041666667
A10: 1 | B10: 2 | C10: 3 | D10: 4 | E10: 5 | F10: 6 | G10: 7 | H10: 8 | I10: 9 | J10: 10 | K10: 11 | L10: 12 | M10: 13 | N10: 14 | O10: 15 | P10: 16 | Q10: 17 | R10: 18 | S10: 19 | T10: 20 | U10: 21 | V10: 22 | W10: 23 | X10: 24 | Y10: 25 | Z10: 26 | AA10: 27
A11: 79 | B11: Участок №2 | C11: ВЛ | D11: ТП-2179,ф.1 ВЛ-0,4кВ Любовниково | E11: 0.38 | F11: 44774.375 | G11: 44774.5 | H11: П | I11: =(G11-F11)/$AD$9 -> 3 | J11: ВЛ 0,4кВ | K11: 0 | L11: 0 | M11: =P11 -> 7 | N11: 0 | O11: 0 | P11: 7 | Q11: 0 | R11: 0 | S11: 0 | T11: =P11 -> 7 | U11: 0 | V11: =0.22*T11 -> 1.54 | AA11: 1
